BEGIN:VCALENDAR
VERSION:2.0
PRODID:-//Lacey Black - ECPv6.15.20//NONSGML v1.0//EN
CALSCALE:GREGORIAN
METHOD:PUBLISH
X-WR-CALNAME:Lacey Black
X-ORIGINAL-URL:https://laceyblackmusic.com
X-WR-CALDESC:Events for Lacey Black
REFRESH-INTERVAL;VALUE=DURATION:PT1H
X-Robots-Tag:noindex
X-PUBLISHED-TTL:PT1H
BEGIN:VTIMEZONE
TZID:UTC
BEGIN:STANDARD
TZOFFSETFROM:+0000
TZOFFSETTO:+0000
TZNAME:UTC
DTSTART:20190101T000000
END:STANDARD
END:VTIMEZONE
BEGIN:VEVENT
DTSTART;TZID=UTC:20201005T113000
DTEND;TZID=UTC:20201005T140000
DTSTAMP:20260425T023436
CREATED:20200304T210053Z
LAST-MODIFIED:20201004T165903Z
UID:8382-1601897400-1601906400@laceyblackmusic.com
SUMMARY:Lone Spur Cafe in the Grand Imperial
DESCRIPTION:Join Lacey for lunch in this historic landmark in Silverton\, CO!  Lacey plays the old rinky-tink piano; this is her 20th (!) season in the saloon at the Grand Imperial\, renamed the Lone Spur Cafe!
URL:https://laceyblackmusic.com/event/lone-spur-cafe-in-the-grand-imperial-2-2-2-2-2-2-2-2-2-2-2-2-2-2-2-2-2-2-2-2/
LOCATION:Lone Spur Cafe Silverton\, 1219 Greene Street\, Silverton\, CO\, 81433\, United States
CATEGORIES:Ragtime & Honky-Tonk
END:VEVENT
BEGIN:VEVENT
DTSTART;TZID=UTC:20200927T120000
DTEND;TZID=UTC:20200927T140000
DTSTAMP:20260425T023436
CREATED:20200925T013451Z
LAST-MODIFIED:20200925T013535Z
UID:9047-1601208000-1601215200@laceyblackmusic.com
SUMMARY:Lone Spur Cafe in the Grand Imperial
DESCRIPTION:Join Lacey for lunch in this historic landmark in Silverton\, CO!  Lacey plays the old rinky-tink piano; this is her 20th (!) season in the saloon at the Grand Imperial\, renamed the Lone Spur Cafe!
URL:https://laceyblackmusic.com/event/lone-spur-cafe-in-the-grand-imperial-2-2-2-2-2-2-2-2-2-2-2-2-2-2-2-2-2-2-2-2-2/
LOCATION:Lone Spur Cafe Silverton\, 1219 Greene Street\, Silverton\, CO\, 81433\, United States
CATEGORIES:Ragtime & Honky-Tonk
END:VEVENT
BEGIN:VEVENT
DTSTART;TZID=UTC:20201003T120000
DTEND;TZID=UTC:20201003T150000
DTSTAMP:20260425T023436
CREATED:20200903T165219Z
LAST-MODIFIED:20200903T165219Z
UID:8924-1601726400-1601737200@laceyblackmusic.com
SUMMARY:Farmer's Fresh Brisket Cook-Off
DESCRIPTION:Bring your buddies and your bibs for some finger-lickin’ good times at Farmer’s Fresh Market in Ignacio!  Lacey provides the music for this street festival in the heart of Ignacio\, CO!
URL:https://laceyblackmusic.com/event/farmers-fresh-brisket-cook-off/
LOCATION:Farmer’s Fresh\, 535 Goddard Ave\, Ignacio\, CO\, 81137\, United States
END:VEVENT
BEGIN:VEVENT
DTSTART;TZID=UTC:20200928T113000
DTEND;TZID=UTC:20200928T140000
DTSTAMP:20260425T023436
CREATED:20200304T205951Z
LAST-MODIFIED:20200304T205951Z
UID:8376-1601292600-1601301600@laceyblackmusic.com
SUMMARY:Lone Spur Cafe in the Grand Imperial
DESCRIPTION:Join Lacey for lunch in this historic landmark in Silverton\, CO!  Lacey plays the old rinky-tink piano; this is her 20th (!) season in the saloon at the Grand Imperial\, renamed the Lone Spur Cafe!
URL:https://laceyblackmusic.com/event/lone-spur-cafe-in-the-grand-imperial-2-2-2-2-2-2-2-2-2-2-2-2-2-2-2-2-2-2-2/
LOCATION:Lone Spur Cafe Silverton\, 1219 Greene Street\, Silverton\, CO\, 81433\, United States
CATEGORIES:Ragtime & Honky-Tonk
END:VEVENT
BEGIN:VEVENT
DTSTART;TZID=UTC:20200928T113000
DTEND;TZID=UTC:20200928T140000
DTSTAMP:20260425T023436
CREATED:20200304T205951Z
LAST-MODIFIED:20200304T205951Z
UID:8376-1601292600-1601301600@laceyblackmusic.com
SUMMARY:Lone Spur Cafe in the Grand Imperial
DESCRIPTION:Join Lacey for lunch in this historic landmark in Silverton\, CO!  Lacey plays the old rinky-tink piano; this is her 20th (!) season in the saloon at the Grand Imperial\, renamed the Lone Spur Cafe!
URL:https://laceyblackmusic.com/event/lone-spur-cafe-in-the-grand-imperial-2-2-2-2-2-2-2-2-2-2-2-2-2-2-2-2-2-2-2/
LOCATION:Lone Spur Cafe Silverton\, 1219 Greene Street\, Silverton\, CO\, 81433\, United States
CATEGORIES:Ragtime & Honky-Tonk
END:VEVENT
BEGIN:VEVENT
DTSTART;TZID=UTC:20200928T113000
DTEND;TZID=UTC:20200928T140000
DTSTAMP:20260425T023436
CREATED:20200304T205951Z
LAST-MODIFIED:20200304T205951Z
UID:8376-1601292600-1601301600@laceyblackmusic.com
SUMMARY:Lone Spur Cafe in the Grand Imperial
DESCRIPTION:Join Lacey for lunch in this historic landmark in Silverton\, CO!  Lacey plays the old rinky-tink piano; this is her 20th (!) season in the saloon at the Grand Imperial\, renamed the Lone Spur Cafe!
URL:https://laceyblackmusic.com/event/lone-spur-cafe-in-the-grand-imperial-2-2-2-2-2-2-2-2-2-2-2-2-2-2-2-2-2-2-2/
LOCATION:Lone Spur Cafe Silverton\, 1219 Greene Street\, Silverton\, CO\, 81433\, United States
CATEGORIES:Ragtime & Honky-Tonk
END:VEVENT
BEGIN:VEVENT
DTSTART;TZID=UTC:20200928T113000
DTEND;TZID=UTC:20200928T140000
DTSTAMP:20260425T023436
CREATED:20200304T205951Z
LAST-MODIFIED:20200304T205951Z
UID:8376-1601292600-1601301600@laceyblackmusic.com
SUMMARY:Lone Spur Cafe in the Grand Imperial
DESCRIPTION:Join Lacey for lunch in this historic landmark in Silverton\, CO!  Lacey plays the old rinky-tink piano; this is her 20th (!) season in the saloon at the Grand Imperial\, renamed the Lone Spur Cafe!
URL:https://laceyblackmusic.com/event/lone-spur-cafe-in-the-grand-imperial-2-2-2-2-2-2-2-2-2-2-2-2-2-2-2-2-2-2-2/
LOCATION:Lone Spur Cafe Silverton\, 1219 Greene Street\, Silverton\, CO\, 81433\, United States
CATEGORIES:Ragtime & Honky-Tonk
END:VEVENT
BEGIN:VEVENT
DTSTART;TZID=UTC:20200928T113000
DTEND;TZID=UTC:20200928T140000
DTSTAMP:20260425T023436
CREATED:20200304T205951Z
LAST-MODIFIED:20200304T205951Z
UID:8376-1601292600-1601301600@laceyblackmusic.com
SUMMARY:Lone Spur Cafe in the Grand Imperial
DESCRIPTION:Join Lacey for lunch in this historic landmark in Silverton\, CO!  Lacey plays the old rinky-tink piano; this is her 20th (!) season in the saloon at the Grand Imperial\, renamed the Lone Spur Cafe!
URL:https://laceyblackmusic.com/event/lone-spur-cafe-in-the-grand-imperial-2-2-2-2-2-2-2-2-2-2-2-2-2-2-2-2-2-2-2/
LOCATION:Lone Spur Cafe Silverton\, 1219 Greene Street\, Silverton\, CO\, 81433\, United States
CATEGORIES:Ragtime & Honky-Tonk
END:VEVENT
BEGIN:VEVENT
DTSTART;TZID=UTC:20200927T120000
DTEND;TZID=UTC:20200927T140000
DTSTAMP:20260425T023436
CREATED:20200925T013451Z
LAST-MODIFIED:20200925T013535Z
UID:9047-1601208000-1601215200@laceyblackmusic.com
SUMMARY:Lone Spur Cafe in the Grand Imperial
DESCRIPTION:Join Lacey for lunch in this historic landmark in Silverton\, CO!  Lacey plays the old rinky-tink piano; this is her 20th (!) season in the saloon at the Grand Imperial\, renamed the Lone Spur Cafe!
URL:https://laceyblackmusic.com/event/lone-spur-cafe-in-the-grand-imperial-2-2-2-2-2-2-2-2-2-2-2-2-2-2-2-2-2-2-2-2-2/
LOCATION:Lone Spur Cafe Silverton\, 1219 Greene Street\, Silverton\, CO\, 81433\, United States
CATEGORIES:Ragtime & Honky-Tonk
END:VEVENT
BEGIN:VEVENT
DTSTART;TZID=UTC:20200921T113000
DTEND;TZID=UTC:20200921T140000
DTSTAMP:20260425T023436
CREATED:20200304T204530Z
LAST-MODIFIED:20200304T204530Z
UID:8370-1600687800-1600696800@laceyblackmusic.com
SUMMARY:Lone Spur Cafe in the Grand Imperial
DESCRIPTION:Join Lacey for lunch in this historic landmark in Silverton\, CO!  Lacey plays the old rinky-tink piano; this is her 20th (!) season in the saloon at the Grand Imperial\, renamed the Lone Spur Cafe!
URL:https://laceyblackmusic.com/event/lone-spur-cafe-in-the-grand-imperial-2-2-2-2-2-2-2-2-2-2-2-2-2-2-2-2-2-2/
LOCATION:Lone Spur Cafe Silverton\, 1219 Greene Street\, Silverton\, CO\, 81433\, United States
CATEGORIES:Ragtime & Honky-Tonk
END:VEVENT
BEGIN:VEVENT
DTSTART;TZID=UTC:20200921T113000
DTEND;TZID=UTC:20200921T140000
DTSTAMP:20260425T023436
CREATED:20200304T204530Z
LAST-MODIFIED:20200304T204530Z
UID:8370-1600687800-1600696800@laceyblackmusic.com
SUMMARY:Lone Spur Cafe in the Grand Imperial
DESCRIPTION:Join Lacey for lunch in this historic landmark in Silverton\, CO!  Lacey plays the old rinky-tink piano; this is her 20th (!) season in the saloon at the Grand Imperial\, renamed the Lone Spur Cafe!
URL:https://laceyblackmusic.com/event/lone-spur-cafe-in-the-grand-imperial-2-2-2-2-2-2-2-2-2-2-2-2-2-2-2-2-2-2/
LOCATION:Lone Spur Cafe Silverton\, 1219 Greene Street\, Silverton\, CO\, 81433\, United States
CATEGORIES:Ragtime & Honky-Tonk
END:VEVENT
BEGIN:VEVENT
DTSTART;TZID=UTC:20200921T113000
DTEND;TZID=UTC:20200921T140000
DTSTAMP:20260425T023436
CREATED:20200304T204530Z
LAST-MODIFIED:20200304T204530Z
UID:8370-1600687800-1600696800@laceyblackmusic.com
SUMMARY:Lone Spur Cafe in the Grand Imperial
DESCRIPTION:Join Lacey for lunch in this historic landmark in Silverton\, CO!  Lacey plays the old rinky-tink piano; this is her 20th (!) season in the saloon at the Grand Imperial\, renamed the Lone Spur Cafe!
URL:https://laceyblackmusic.com/event/lone-spur-cafe-in-the-grand-imperial-2-2-2-2-2-2-2-2-2-2-2-2-2-2-2-2-2-2/
LOCATION:Lone Spur Cafe Silverton\, 1219 Greene Street\, Silverton\, CO\, 81433\, United States
CATEGORIES:Ragtime & Honky-Tonk
END:VEVENT
BEGIN:VEVENT
DTSTART;TZID=UTC:20200923T090000
DTEND;TZID=UTC:20200923T100000
DTSTAMP:20260425T023436
CREATED:20200902T032315Z
LAST-MODIFIED:20200902T032315Z
UID:8921-1600851600-1600855200@laceyblackmusic.com
SUMMARY:On-Air at X Rock 105.3
DESCRIPTION:I’ll be taking the invisible radio stage at X Rock 105.3 studios for a session of “Stage Left” with Cody!  Behind-the-scenes stories and songs\, all at 9:15am!  105.3 FM in Durango\, or listen live at their website or watch it live on their Facebook Page!
URL:https://laceyblackmusic.com/event/on-air-at-x-rock-105-3/
LOCATION:CO
END:VEVENT
BEGIN:VEVENT
DTSTART;TZID=UTC:20200921T113000
DTEND;TZID=UTC:20200921T140000
DTSTAMP:20260425T023436
CREATED:20200304T204530Z
LAST-MODIFIED:20200304T204530Z
UID:8370-1600687800-1600696800@laceyblackmusic.com
SUMMARY:Lone Spur Cafe in the Grand Imperial
DESCRIPTION:Join Lacey for lunch in this historic landmark in Silverton\, CO!  Lacey plays the old rinky-tink piano; this is her 20th (!) season in the saloon at the Grand Imperial\, renamed the Lone Spur Cafe!
URL:https://laceyblackmusic.com/event/lone-spur-cafe-in-the-grand-imperial-2-2-2-2-2-2-2-2-2-2-2-2-2-2-2-2-2-2/
LOCATION:Lone Spur Cafe Silverton\, 1219 Greene Street\, Silverton\, CO\, 81433\, United States
CATEGORIES:Ragtime & Honky-Tonk
END:VEVENT
BEGIN:VEVENT
DTSTART;TZID=UTC:20200921T113000
DTEND;TZID=UTC:20200921T140000
DTSTAMP:20260425T023436
CREATED:20200304T204530Z
LAST-MODIFIED:20200304T204530Z
UID:8370-1600687800-1600696800@laceyblackmusic.com
SUMMARY:Lone Spur Cafe in the Grand Imperial
DESCRIPTION:Join Lacey for lunch in this historic landmark in Silverton\, CO!  Lacey plays the old rinky-tink piano; this is her 20th (!) season in the saloon at the Grand Imperial\, renamed the Lone Spur Cafe!
URL:https://laceyblackmusic.com/event/lone-spur-cafe-in-the-grand-imperial-2-2-2-2-2-2-2-2-2-2-2-2-2-2-2-2-2-2/
LOCATION:Lone Spur Cafe Silverton\, 1219 Greene Street\, Silverton\, CO\, 81433\, United States
CATEGORIES:Ragtime & Honky-Tonk
END:VEVENT
BEGIN:VEVENT
DTSTART;TZID=UTC:20200914T113000
DTEND;TZID=UTC:20200914T140000
DTSTAMP:20260425T023436
CREATED:20200304T203643Z
LAST-MODIFIED:20200304T203643Z
UID:8364-1600083000-1600092000@laceyblackmusic.com
SUMMARY:Lone Spur Cafe in the Grand Imperial
DESCRIPTION:Join Lacey for lunch in this historic landmark in Silverton\, CO!  Lacey plays the old rinky-tink piano; this is her 20th (!) season in the saloon at the Grand Imperial\, renamed the Lone Spur Cafe!
URL:https://laceyblackmusic.com/event/lone-spur-cafe-in-the-grand-imperial-2-2-2-2-2-2-2-2-2-2-2-2-2-2-2-2-2/
LOCATION:Lone Spur Cafe Silverton\, 1219 Greene Street\, Silverton\, CO\, 81433\, United States
CATEGORIES:Ragtime & Honky-Tonk
END:VEVENT
BEGIN:VEVENT
DTSTART;TZID=UTC:20200914T113000
DTEND;TZID=UTC:20200914T140000
DTSTAMP:20260425T023436
CREATED:20200304T203643Z
LAST-MODIFIED:20200304T203643Z
UID:8364-1600083000-1600092000@laceyblackmusic.com
SUMMARY:Lone Spur Cafe in the Grand Imperial
DESCRIPTION:Join Lacey for lunch in this historic landmark in Silverton\, CO!  Lacey plays the old rinky-tink piano; this is her 20th (!) season in the saloon at the Grand Imperial\, renamed the Lone Spur Cafe!
URL:https://laceyblackmusic.com/event/lone-spur-cafe-in-the-grand-imperial-2-2-2-2-2-2-2-2-2-2-2-2-2-2-2-2-2/
LOCATION:Lone Spur Cafe Silverton\, 1219 Greene Street\, Silverton\, CO\, 81433\, United States
CATEGORIES:Ragtime & Honky-Tonk
END:VEVENT
BEGIN:VEVENT
DTSTART;TZID=UTC:20200914T113000
DTEND;TZID=UTC:20200914T140000
DTSTAMP:20260425T023436
CREATED:20200304T203643Z
LAST-MODIFIED:20200304T203643Z
UID:8364-1600083000-1600092000@laceyblackmusic.com
SUMMARY:Lone Spur Cafe in the Grand Imperial
DESCRIPTION:Join Lacey for lunch in this historic landmark in Silverton\, CO!  Lacey plays the old rinky-tink piano; this is her 20th (!) season in the saloon at the Grand Imperial\, renamed the Lone Spur Cafe!
URL:https://laceyblackmusic.com/event/lone-spur-cafe-in-the-grand-imperial-2-2-2-2-2-2-2-2-2-2-2-2-2-2-2-2-2/
LOCATION:Lone Spur Cafe Silverton\, 1219 Greene Street\, Silverton\, CO\, 81433\, United States
CATEGORIES:Ragtime & Honky-Tonk
END:VEVENT
BEGIN:VEVENT
DTSTART;TZID=UTC:20200914T113000
DTEND;TZID=UTC:20200914T140000
DTSTAMP:20260425T023436
CREATED:20200304T203643Z
LAST-MODIFIED:20200304T203643Z
UID:8364-1600083000-1600092000@laceyblackmusic.com
SUMMARY:Lone Spur Cafe in the Grand Imperial
DESCRIPTION:Join Lacey for lunch in this historic landmark in Silverton\, CO!  Lacey plays the old rinky-tink piano; this is her 20th (!) season in the saloon at the Grand Imperial\, renamed the Lone Spur Cafe!
URL:https://laceyblackmusic.com/event/lone-spur-cafe-in-the-grand-imperial-2-2-2-2-2-2-2-2-2-2-2-2-2-2-2-2-2/
LOCATION:Lone Spur Cafe Silverton\, 1219 Greene Street\, Silverton\, CO\, 81433\, United States
CATEGORIES:Ragtime & Honky-Tonk
END:VEVENT
BEGIN:VEVENT
DTSTART;TZID=UTC:20200914T113000
DTEND;TZID=UTC:20200914T140000
DTSTAMP:20260425T023436
CREATED:20200304T203643Z
LAST-MODIFIED:20200304T203643Z
UID:8364-1600083000-1600092000@laceyblackmusic.com
SUMMARY:Lone Spur Cafe in the Grand Imperial
DESCRIPTION:Join Lacey for lunch in this historic landmark in Silverton\, CO!  Lacey plays the old rinky-tink piano; this is her 20th (!) season in the saloon at the Grand Imperial\, renamed the Lone Spur Cafe!
URL:https://laceyblackmusic.com/event/lone-spur-cafe-in-the-grand-imperial-2-2-2-2-2-2-2-2-2-2-2-2-2-2-2-2-2/
LOCATION:Lone Spur Cafe Silverton\, 1219 Greene Street\, Silverton\, CO\, 81433\, United States
CATEGORIES:Ragtime & Honky-Tonk
END:VEVENT
BEGIN:VEVENT
DTSTART;TZID=UTC:20200912T140000
DTEND;TZID=UTC:20200912T160000
DTSTAMP:20260425T023436
CREATED:20200902T024544Z
LAST-MODIFIED:20200902T213846Z
UID:8918-1599919200-1599926400@laceyblackmusic.com
SUMMARY:4th Annual Ignacio Green Chile Fest
DESCRIPTION:Stop by the 4th Annual Ignacio Green Chile Festival on Saturday\, September 12th at the ELHI Community Center. Join us at 2 pm for food\, fun and entertainment. Cornhole\, kids activities\, music\, delicious food\, and of course Green Chile!\nLive music provided by Lacey Black and Reeder & Spencer. Bring a chair\, sit back and enjoy the music.\nWe will be roasting fresh Green Chile on site. We will also have the 2019 winners of the 3rd Annual Green Chile Cook-off serving up their award winning Chile and Salsa. Be sure to try bowl!\nCornhole Tournament registration starts at 1:30 pm with the games starting at 2 pm. $30 registration fee per team\, with cash prizes awarded. Bring your own bags!\nNew this year! Check out the Artist Alley. View and purchase artwork by local artist.\nPlayground available and kids entertainment provided.\nIce Cream\, Vendors and more!\nExtra Large venue with lots of space. Masks and social distancing are highly encouraged.
URL:https://laceyblackmusic.com/event/4th-annual-ignacio-green-chile-fest/
LOCATION:Elhi Community Center\, 115 Ute Street\, Ignacio\, CO\, 81137\, United States
END:VEVENT
BEGIN:VEVENT
DTSTART;TZID=UTC:20200907T113000
DTEND;TZID=UTC:20200907T140000
DTSTAMP:20260425T023436
CREATED:20200304T185319Z
LAST-MODIFIED:20200304T193500Z
UID:8354-1599478200-1599487200@laceyblackmusic.com
SUMMARY:Lone Spur Cafe in the Grand Imperial
DESCRIPTION:Join Lacey for lunch in this historic landmark in Silverton\, CO!  Lacey plays the old rinky-tink piano; this is her 20th (!) season in the saloon at the Grand Imperial\, renamed the Lone Spur Cafe!
URL:https://laceyblackmusic.com/event/lone-spur-cafe-in-the-grand-imperial-2-2-2-2-2-2-2-2-2-2-2-2-2-2-2-2/
LOCATION:Lone Spur Cafe Silverton\, 1219 Greene Street\, Silverton\, CO\, 81433\, United States
CATEGORIES:Ragtime & Honky-Tonk
END:VEVENT
BEGIN:VEVENT
DTSTART;TZID=UTC:20200907T113000
DTEND;TZID=UTC:20200907T140000
DTSTAMP:20260425T023436
CREATED:20200304T185319Z
LAST-MODIFIED:20200304T193500Z
UID:8354-1599478200-1599487200@laceyblackmusic.com
SUMMARY:Lone Spur Cafe in the Grand Imperial
DESCRIPTION:Join Lacey for lunch in this historic landmark in Silverton\, CO!  Lacey plays the old rinky-tink piano; this is her 20th (!) season in the saloon at the Grand Imperial\, renamed the Lone Spur Cafe!
URL:https://laceyblackmusic.com/event/lone-spur-cafe-in-the-grand-imperial-2-2-2-2-2-2-2-2-2-2-2-2-2-2-2-2/
LOCATION:Lone Spur Cafe Silverton\, 1219 Greene Street\, Silverton\, CO\, 81433\, United States
CATEGORIES:Ragtime & Honky-Tonk
END:VEVENT
BEGIN:VEVENT
DTSTART;TZID=UTC:20200907T113000
DTEND;TZID=UTC:20200907T140000
DTSTAMP:20260425T023436
CREATED:20200304T185319Z
LAST-MODIFIED:20200304T193500Z
UID:8354-1599478200-1599487200@laceyblackmusic.com
SUMMARY:Lone Spur Cafe in the Grand Imperial
DESCRIPTION:Join Lacey for lunch in this historic landmark in Silverton\, CO!  Lacey plays the old rinky-tink piano; this is her 20th (!) season in the saloon at the Grand Imperial\, renamed the Lone Spur Cafe!
URL:https://laceyblackmusic.com/event/lone-spur-cafe-in-the-grand-imperial-2-2-2-2-2-2-2-2-2-2-2-2-2-2-2-2/
LOCATION:Lone Spur Cafe Silverton\, 1219 Greene Street\, Silverton\, CO\, 81433\, United States
CATEGORIES:Ragtime & Honky-Tonk
END:VEVENT
BEGIN:VEVENT
DTSTART;TZID=UTC:20200907T113000
DTEND;TZID=UTC:20200907T140000
DTSTAMP:20260425T023436
CREATED:20200304T185319Z
LAST-MODIFIED:20200304T193500Z
UID:8354-1599478200-1599487200@laceyblackmusic.com
SUMMARY:Lone Spur Cafe in the Grand Imperial
DESCRIPTION:Join Lacey for lunch in this historic landmark in Silverton\, CO!  Lacey plays the old rinky-tink piano; this is her 20th (!) season in the saloon at the Grand Imperial\, renamed the Lone Spur Cafe!
URL:https://laceyblackmusic.com/event/lone-spur-cafe-in-the-grand-imperial-2-2-2-2-2-2-2-2-2-2-2-2-2-2-2-2/
LOCATION:Lone Spur Cafe Silverton\, 1219 Greene Street\, Silverton\, CO\, 81433\, United States
CATEGORIES:Ragtime & Honky-Tonk
END:VEVENT
BEGIN:VEVENT
DTSTART;TZID=UTC:20200907T113000
DTEND;TZID=UTC:20200907T140000
DTSTAMP:20260425T023436
CREATED:20200304T185319Z
LAST-MODIFIED:20200304T193500Z
UID:8354-1599478200-1599487200@laceyblackmusic.com
SUMMARY:Lone Spur Cafe in the Grand Imperial
DESCRIPTION:Join Lacey for lunch in this historic landmark in Silverton\, CO!  Lacey plays the old rinky-tink piano; this is her 20th (!) season in the saloon at the Grand Imperial\, renamed the Lone Spur Cafe!
URL:https://laceyblackmusic.com/event/lone-spur-cafe-in-the-grand-imperial-2-2-2-2-2-2-2-2-2-2-2-2-2-2-2-2/
LOCATION:Lone Spur Cafe Silverton\, 1219 Greene Street\, Silverton\, CO\, 81433\, United States
CATEGORIES:Ragtime & Honky-Tonk
END:VEVENT
BEGIN:VEVENT
DTSTART;VALUE=DATE:20200906
DTEND;VALUE=DATE:20200907
DTSTAMP:20260425T023436
CREATED:20200304T212847Z
LAST-MODIFIED:20200304T212847Z
UID:8452-1599350400-1599436799@laceyblackmusic.com
SUMMARY:Wedding in Durango\, CO
DESCRIPTION:Yes\, you can book Lacey for your wedding or other special event!  Just click here!
URL:https://laceyblackmusic.com/event/wedding-in-durango-co/
LOCATION:CO
END:VEVENT
BEGIN:VEVENT
DTSTART;TZID=UTC:20200904T180000
DTEND;TZID=UTC:20200904T210000
DTSTAMP:20260425T023436
CREATED:20200304T212231Z
LAST-MODIFIED:20200304T212231Z
UID:8416-1599242400-1599253200@laceyblackmusic.com
SUMMARY:Fox Fire Farms
DESCRIPTION:Come and take in the country life as you taste fine wines\, enjoy gourmet local food\, and listen to Lacey!
URL:https://laceyblackmusic.com/event/fox-fire-farms-15-2-2018-08-31-2-2/
LOCATION:Fox Fire Farms\, 5513 CR 321\, Ignacio\, CO\, 81137\, United States
CATEGORIES:Singer-Songwriter
END:VEVENT
BEGIN:VEVENT
DTSTART;TZID=UTC:20200831T080000
DTEND;TZID=UTC:20200831T170000
DTSTAMP:20260425T023436
CREATED:20200304T212547Z
LAST-MODIFIED:20200304T212547Z
UID:8432-1598860800-1598893200@laceyblackmusic.com
SUMMARY:Lone Spur Cafe in the Grand Imperial
DESCRIPTION:Join Lacey for lunch in this historic landmark in Silverton\, CO!  Lacey plays the old rinky-tink piano; this is her 20th (!) season in the saloon at the Grand Imperial\, renamed the Lone Spur Cafe!
URL:https://laceyblackmusic.com/event/lone-spur-cafe-in-the-grand-imperial-3/
LOCATION:CO
CATEGORIES:Ragtime & Honky-Tonk
END:VEVENT
BEGIN:VEVENT
DTSTART;TZID=UTC:20200831T080000
DTEND;TZID=UTC:20200831T170000
DTSTAMP:20260425T023436
CREATED:20200304T212547Z
LAST-MODIFIED:20200304T212547Z
UID:8432-1598860800-1598893200@laceyblackmusic.com
SUMMARY:Lone Spur Cafe in the Grand Imperial
DESCRIPTION:Join Lacey for lunch in this historic landmark in Silverton\, CO!  Lacey plays the old rinky-tink piano; this is her 20th (!) season in the saloon at the Grand Imperial\, renamed the Lone Spur Cafe!
URL:https://laceyblackmusic.com/event/lone-spur-cafe-in-the-grand-imperial-3/
LOCATION:CO
CATEGORIES:Ragtime & Honky-Tonk
END:VEVENT
END:VCALENDAR