BEGIN:VCALENDAR
VERSION:2.0
PRODID:-//Lacey Black - ECPv6.15.20//NONSGML v1.0//EN
CALSCALE:GREGORIAN
METHOD:PUBLISH
X-ORIGINAL-URL:https://laceyblackmusic.com
X-WR-CALDESC:Events for Lacey Black
REFRESH-INTERVAL;VALUE=DURATION:PT1H
X-Robots-Tag:noindex
X-PUBLISHED-TTL:PT1H
BEGIN:VTIMEZONE
TZID:UTC
BEGIN:STANDARD
TZOFFSETFROM:+0000
TZOFFSETTO:+0000
TZNAME:UTC
DTSTART:20200101T000000
END:STANDARD
END:VTIMEZONE
BEGIN:VEVENT
DTSTART;TZID=UTC:20210514T120000
DTEND;TZID=UTC:20210514T140000
DTSTAMP:20260425T010914
CREATED:20210426T223813Z
LAST-MODIFIED:20210510T214945Z
UID:9772-1620993600-1621000800@laceyblackmusic.com
SUMMARY:Lone Spur Cafe in the Grand Imperial
DESCRIPTION:Join Lacey for lunch in this historic landmark in Silverton\, CO!  Lacey plays the old rinky-tink piano; this is her 21st (!) season in the saloon at the Grand Imperial\, renamed the Lone Spur Cafe!
URL:https://laceyblackmusic.com/event/lone-spur-cafe-in-the-grand-imperial-2-2021-05-14/
LOCATION:Lone Spur Cafe Silverton\, 1219 Greene Street\, Silverton\, CO\, 81433\, United States
CATEGORIES:Ragtime & Honky-Tonk
END:VEVENT
BEGIN:VEVENT
DTSTART;TZID=UTC:20210514T120000
DTEND;TZID=UTC:20210514T140000
DTSTAMP:20260425T010914
CREATED:20210426T223813Z
LAST-MODIFIED:20210510T214945Z
UID:9772-1620993600-1621000800@laceyblackmusic.com
SUMMARY:Lone Spur Cafe in the Grand Imperial
DESCRIPTION:Join Lacey for lunch in this historic landmark in Silverton\, CO!  Lacey plays the old rinky-tink piano; this is her 21st (!) season in the saloon at the Grand Imperial\, renamed the Lone Spur Cafe!
URL:https://laceyblackmusic.com/event/lone-spur-cafe-in-the-grand-imperial-2-2021-05-14/
LOCATION:Lone Spur Cafe Silverton\, 1219 Greene Street\, Silverton\, CO\, 81433\, United States
CATEGORIES:Ragtime & Honky-Tonk
END:VEVENT
BEGIN:VEVENT
DTSTART;TZID=UTC:20210514T120000
DTEND;TZID=UTC:20210514T140000
DTSTAMP:20260425T010914
CREATED:20210426T223813Z
LAST-MODIFIED:20210510T214945Z
UID:9772-1620993600-1621000800@laceyblackmusic.com
SUMMARY:Lone Spur Cafe in the Grand Imperial
DESCRIPTION:Join Lacey for lunch in this historic landmark in Silverton\, CO!  Lacey plays the old rinky-tink piano; this is her 21st (!) season in the saloon at the Grand Imperial\, renamed the Lone Spur Cafe!
URL:https://laceyblackmusic.com/event/lone-spur-cafe-in-the-grand-imperial-2-2021-05-14/
LOCATION:Lone Spur Cafe Silverton\, 1219 Greene Street\, Silverton\, CO\, 81433\, United States
CATEGORIES:Ragtime & Honky-Tonk
END:VEVENT
BEGIN:VEVENT
DTSTART;TZID=UTC:20210514T120000
DTEND;TZID=UTC:20210514T140000
DTSTAMP:20260425T010914
CREATED:20210426T223813Z
LAST-MODIFIED:20210510T214945Z
UID:9772-1620993600-1621000800@laceyblackmusic.com
SUMMARY:Lone Spur Cafe in the Grand Imperial
DESCRIPTION:Join Lacey for lunch in this historic landmark in Silverton\, CO!  Lacey plays the old rinky-tink piano; this is her 21st (!) season in the saloon at the Grand Imperial\, renamed the Lone Spur Cafe!
URL:https://laceyblackmusic.com/event/lone-spur-cafe-in-the-grand-imperial-2-2021-05-14/
LOCATION:Lone Spur Cafe Silverton\, 1219 Greene Street\, Silverton\, CO\, 81433\, United States
CATEGORIES:Ragtime & Honky-Tonk
END:VEVENT
BEGIN:VEVENT
DTSTART;TZID=UTC:20210903T180000
DTEND;TZID=UTC:20210903T210000
DTSTAMP:20260425T010914
CREATED:20210406T001652Z
LAST-MODIFIED:20210821T221216Z
UID:9661-1630692000-1630702800@laceyblackmusic.com
SUMMARY:The Outlaw Restaurant
DESCRIPTION:Join Lacey as she plays your favorites from the last hundred years in this historic Ouray restaurant and bar!
URL:https://laceyblackmusic.com/event/the-outlaw-restaurant-87-2-2-2-2-2-2-2-2018-10-26-2-2-2-2-2-2-2-2-2-2-2/
LOCATION:The Outlaw\, 610 Main St\, Ouray\, CO\, 81427\, United States
CATEGORIES:Ragtime & Honky-Tonk
END:VEVENT
BEGIN:VEVENT
DTSTART;TZID=UTC:20210903T180000
DTEND;TZID=UTC:20210903T210000
DTSTAMP:20260425T010914
CREATED:20210406T001652Z
LAST-MODIFIED:20210821T221216Z
UID:9661-1630692000-1630702800@laceyblackmusic.com
SUMMARY:The Outlaw Restaurant
DESCRIPTION:Join Lacey as she plays your favorites from the last hundred years in this historic Ouray restaurant and bar!
URL:https://laceyblackmusic.com/event/the-outlaw-restaurant-87-2-2-2-2-2-2-2-2018-10-26-2-2-2-2-2-2-2-2-2-2-2/
LOCATION:The Outlaw\, 610 Main St\, Ouray\, CO\, 81427\, United States
CATEGORIES:Ragtime & Honky-Tonk
END:VEVENT
BEGIN:VEVENT
DTSTART;TZID=UTC:20210514T120000
DTEND;TZID=UTC:20210514T140000
DTSTAMP:20260425T010914
CREATED:20210426T223813Z
LAST-MODIFIED:20210510T214945Z
UID:9772-1620993600-1621000800@laceyblackmusic.com
SUMMARY:Lone Spur Cafe in the Grand Imperial
DESCRIPTION:Join Lacey for lunch in this historic landmark in Silverton\, CO!  Lacey plays the old rinky-tink piano; this is her 21st (!) season in the saloon at the Grand Imperial\, renamed the Lone Spur Cafe!
URL:https://laceyblackmusic.com/event/lone-spur-cafe-in-the-grand-imperial-2-2021-05-14/
LOCATION:Lone Spur Cafe Silverton\, 1219 Greene Street\, Silverton\, CO\, 81433\, United States
CATEGORIES:Ragtime & Honky-Tonk
END:VEVENT
BEGIN:VEVENT
DTSTART;TZID=UTC:20210514T120000
DTEND;TZID=UTC:20210514T140000
DTSTAMP:20260425T010914
CREATED:20210426T223813Z
LAST-MODIFIED:20210510T214945Z
UID:9772-1620993600-1621000800@laceyblackmusic.com
SUMMARY:Lone Spur Cafe in the Grand Imperial
DESCRIPTION:Join Lacey for lunch in this historic landmark in Silverton\, CO!  Lacey plays the old rinky-tink piano; this is her 21st (!) season in the saloon at the Grand Imperial\, renamed the Lone Spur Cafe!
URL:https://laceyblackmusic.com/event/lone-spur-cafe-in-the-grand-imperial-2-2021-05-14/
LOCATION:Lone Spur Cafe Silverton\, 1219 Greene Street\, Silverton\, CO\, 81433\, United States
CATEGORIES:Ragtime & Honky-Tonk
END:VEVENT
BEGIN:VEVENT
DTSTART;TZID=UTC:20210514T120000
DTEND;TZID=UTC:20210514T140000
DTSTAMP:20260425T010914
CREATED:20210426T223813Z
LAST-MODIFIED:20210510T214945Z
UID:9772-1620993600-1621000800@laceyblackmusic.com
SUMMARY:Lone Spur Cafe in the Grand Imperial
DESCRIPTION:Join Lacey for lunch in this historic landmark in Silverton\, CO!  Lacey plays the old rinky-tink piano; this is her 21st (!) season in the saloon at the Grand Imperial\, renamed the Lone Spur Cafe!
URL:https://laceyblackmusic.com/event/lone-spur-cafe-in-the-grand-imperial-2-2021-05-14/
LOCATION:Lone Spur Cafe Silverton\, 1219 Greene Street\, Silverton\, CO\, 81433\, United States
CATEGORIES:Ragtime & Honky-Tonk
END:VEVENT
BEGIN:VEVENT
DTSTART;TZID=UTC:20210514T120000
DTEND;TZID=UTC:20210514T140000
DTSTAMP:20260425T010914
CREATED:20210426T223813Z
LAST-MODIFIED:20210510T214945Z
UID:9772-1620993600-1621000800@laceyblackmusic.com
SUMMARY:Lone Spur Cafe in the Grand Imperial
DESCRIPTION:Join Lacey for lunch in this historic landmark in Silverton\, CO!  Lacey plays the old rinky-tink piano; this is her 21st (!) season in the saloon at the Grand Imperial\, renamed the Lone Spur Cafe!
URL:https://laceyblackmusic.com/event/lone-spur-cafe-in-the-grand-imperial-2-2021-05-14/
LOCATION:Lone Spur Cafe Silverton\, 1219 Greene Street\, Silverton\, CO\, 81433\, United States
CATEGORIES:Ragtime & Honky-Tonk
END:VEVENT
BEGIN:VEVENT
DTSTART;TZID=UTC:20210514T120000
DTEND;TZID=UTC:20210514T140000
DTSTAMP:20260425T010914
CREATED:20210426T223813Z
LAST-MODIFIED:20210510T214945Z
UID:9772-1620993600-1621000800@laceyblackmusic.com
SUMMARY:Lone Spur Cafe in the Grand Imperial
DESCRIPTION:Join Lacey for lunch in this historic landmark in Silverton\, CO!  Lacey plays the old rinky-tink piano; this is her 21st (!) season in the saloon at the Grand Imperial\, renamed the Lone Spur Cafe!
URL:https://laceyblackmusic.com/event/lone-spur-cafe-in-the-grand-imperial-2-2021-05-14/
LOCATION:Lone Spur Cafe Silverton\, 1219 Greene Street\, Silverton\, CO\, 81433\, United States
CATEGORIES:Ragtime & Honky-Tonk
END:VEVENT
BEGIN:VEVENT
DTSTART;TZID=UTC:20210514T120000
DTEND;TZID=UTC:20210514T140000
DTSTAMP:20260425T010914
CREATED:20210426T223813Z
LAST-MODIFIED:20210510T214945Z
UID:9772-1620993600-1621000800@laceyblackmusic.com
SUMMARY:Lone Spur Cafe in the Grand Imperial
DESCRIPTION:Join Lacey for lunch in this historic landmark in Silverton\, CO!  Lacey plays the old rinky-tink piano; this is her 21st (!) season in the saloon at the Grand Imperial\, renamed the Lone Spur Cafe!
URL:https://laceyblackmusic.com/event/lone-spur-cafe-in-the-grand-imperial-2-2021-05-14/
LOCATION:Lone Spur Cafe Silverton\, 1219 Greene Street\, Silverton\, CO\, 81433\, United States
CATEGORIES:Ragtime & Honky-Tonk
END:VEVENT
BEGIN:VEVENT
DTSTART;TZID=UTC:20210514T120000
DTEND;TZID=UTC:20210514T140000
DTSTAMP:20260425T010914
CREATED:20210426T223813Z
LAST-MODIFIED:20210510T214945Z
UID:9772-1620993600-1621000800@laceyblackmusic.com
SUMMARY:Lone Spur Cafe in the Grand Imperial
DESCRIPTION:Join Lacey for lunch in this historic landmark in Silverton\, CO!  Lacey plays the old rinky-tink piano; this is her 21st (!) season in the saloon at the Grand Imperial\, renamed the Lone Spur Cafe!
URL:https://laceyblackmusic.com/event/lone-spur-cafe-in-the-grand-imperial-2-2021-05-14/
LOCATION:Lone Spur Cafe Silverton\, 1219 Greene Street\, Silverton\, CO\, 81433\, United States
CATEGORIES:Ragtime & Honky-Tonk
END:VEVENT
BEGIN:VEVENT
DTSTART;TZID=UTC:20210514T120000
DTEND;TZID=UTC:20210514T140000
DTSTAMP:20260425T010914
CREATED:20210426T223813Z
LAST-MODIFIED:20210510T214945Z
UID:9772-1620993600-1621000800@laceyblackmusic.com
SUMMARY:Lone Spur Cafe in the Grand Imperial
DESCRIPTION:Join Lacey for lunch in this historic landmark in Silverton\, CO!  Lacey plays the old rinky-tink piano; this is her 21st (!) season in the saloon at the Grand Imperial\, renamed the Lone Spur Cafe!
URL:https://laceyblackmusic.com/event/lone-spur-cafe-in-the-grand-imperial-2-2021-05-14/
LOCATION:Lone Spur Cafe Silverton\, 1219 Greene Street\, Silverton\, CO\, 81433\, United States
CATEGORIES:Ragtime & Honky-Tonk
END:VEVENT
BEGIN:VEVENT
DTSTART;TZID=UTC:20210903T180000
DTEND;TZID=UTC:20210903T210000
DTSTAMP:20260425T010914
CREATED:20210406T001652Z
LAST-MODIFIED:20210821T221216Z
UID:9661-1630692000-1630702800@laceyblackmusic.com
SUMMARY:The Outlaw Restaurant
DESCRIPTION:Join Lacey as she plays your favorites from the last hundred years in this historic Ouray restaurant and bar!
URL:https://laceyblackmusic.com/event/the-outlaw-restaurant-87-2-2-2-2-2-2-2-2018-10-26-2-2-2-2-2-2-2-2-2-2-2/
LOCATION:The Outlaw\, 610 Main St\, Ouray\, CO\, 81427\, United States
CATEGORIES:Ragtime & Honky-Tonk
END:VEVENT
BEGIN:VEVENT
DTSTART;TZID=UTC:20210514T120000
DTEND;TZID=UTC:20210514T140000
DTSTAMP:20260425T010914
CREATED:20210426T223813Z
LAST-MODIFIED:20210510T214945Z
UID:9772-1620993600-1621000800@laceyblackmusic.com
SUMMARY:Lone Spur Cafe in the Grand Imperial
DESCRIPTION:Join Lacey for lunch in this historic landmark in Silverton\, CO!  Lacey plays the old rinky-tink piano; this is her 21st (!) season in the saloon at the Grand Imperial\, renamed the Lone Spur Cafe!
URL:https://laceyblackmusic.com/event/lone-spur-cafe-in-the-grand-imperial-2-2021-05-14/
LOCATION:Lone Spur Cafe Silverton\, 1219 Greene Street\, Silverton\, CO\, 81433\, United States
CATEGORIES:Ragtime & Honky-Tonk
END:VEVENT
BEGIN:VEVENT
DTSTART;TZID=UTC:20210514T120000
DTEND;TZID=UTC:20210514T140000
DTSTAMP:20260425T010914
CREATED:20210426T223813Z
LAST-MODIFIED:20210510T214945Z
UID:9772-1620993600-1621000800@laceyblackmusic.com
SUMMARY:Lone Spur Cafe in the Grand Imperial
DESCRIPTION:Join Lacey for lunch in this historic landmark in Silverton\, CO!  Lacey plays the old rinky-tink piano; this is her 21st (!) season in the saloon at the Grand Imperial\, renamed the Lone Spur Cafe!
URL:https://laceyblackmusic.com/event/lone-spur-cafe-in-the-grand-imperial-2-2021-05-14/
LOCATION:Lone Spur Cafe Silverton\, 1219 Greene Street\, Silverton\, CO\, 81433\, United States
CATEGORIES:Ragtime & Honky-Tonk
END:VEVENT
BEGIN:VEVENT
DTSTART;TZID=UTC:20210514T120000
DTEND;TZID=UTC:20210514T140000
DTSTAMP:20260425T010914
CREATED:20210426T223813Z
LAST-MODIFIED:20210510T214945Z
UID:9772-1620993600-1621000800@laceyblackmusic.com
SUMMARY:Lone Spur Cafe in the Grand Imperial
DESCRIPTION:Join Lacey for lunch in this historic landmark in Silverton\, CO!  Lacey plays the old rinky-tink piano; this is her 21st (!) season in the saloon at the Grand Imperial\, renamed the Lone Spur Cafe!
URL:https://laceyblackmusic.com/event/lone-spur-cafe-in-the-grand-imperial-2-2021-05-14/
LOCATION:Lone Spur Cafe Silverton\, 1219 Greene Street\, Silverton\, CO\, 81433\, United States
CATEGORIES:Ragtime & Honky-Tonk
END:VEVENT
BEGIN:VEVENT
DTSTART;TZID=UTC:20210514T120000
DTEND;TZID=UTC:20210514T140000
DTSTAMP:20260425T010914
CREATED:20210426T223813Z
LAST-MODIFIED:20210510T214945Z
UID:9772-1620993600-1621000800@laceyblackmusic.com
SUMMARY:Lone Spur Cafe in the Grand Imperial
DESCRIPTION:Join Lacey for lunch in this historic landmark in Silverton\, CO!  Lacey plays the old rinky-tink piano; this is her 21st (!) season in the saloon at the Grand Imperial\, renamed the Lone Spur Cafe!
URL:https://laceyblackmusic.com/event/lone-spur-cafe-in-the-grand-imperial-2-2021-05-14/
LOCATION:Lone Spur Cafe Silverton\, 1219 Greene Street\, Silverton\, CO\, 81433\, United States
CATEGORIES:Ragtime & Honky-Tonk
END:VEVENT
BEGIN:VEVENT
DTSTART;TZID=UTC:20210514T120000
DTEND;TZID=UTC:20210514T140000
DTSTAMP:20260425T010914
CREATED:20210426T223813Z
LAST-MODIFIED:20210510T214945Z
UID:9772-1620993600-1621000800@laceyblackmusic.com
SUMMARY:Lone Spur Cafe in the Grand Imperial
DESCRIPTION:Join Lacey for lunch in this historic landmark in Silverton\, CO!  Lacey plays the old rinky-tink piano; this is her 21st (!) season in the saloon at the Grand Imperial\, renamed the Lone Spur Cafe!
URL:https://laceyblackmusic.com/event/lone-spur-cafe-in-the-grand-imperial-2-2021-05-14/
LOCATION:Lone Spur Cafe Silverton\, 1219 Greene Street\, Silverton\, CO\, 81433\, United States
CATEGORIES:Ragtime & Honky-Tonk
END:VEVENT
BEGIN:VEVENT
DTSTART;TZID=UTC:20210903T180000
DTEND;TZID=UTC:20210903T210000
DTSTAMP:20260425T010914
CREATED:20210406T001652Z
LAST-MODIFIED:20210821T221216Z
UID:9661-1630692000-1630702800@laceyblackmusic.com
SUMMARY:The Outlaw Restaurant
DESCRIPTION:Join Lacey as she plays your favorites from the last hundred years in this historic Ouray restaurant and bar!
URL:https://laceyblackmusic.com/event/the-outlaw-restaurant-87-2-2-2-2-2-2-2-2018-10-26-2-2-2-2-2-2-2-2-2-2-2/
LOCATION:The Outlaw\, 610 Main St\, Ouray\, CO\, 81427\, United States
CATEGORIES:Ragtime & Honky-Tonk
END:VEVENT
BEGIN:VEVENT
DTSTART;TZID=UTC:20210903T180000
DTEND;TZID=UTC:20210903T210000
DTSTAMP:20260425T010914
CREATED:20210406T001652Z
LAST-MODIFIED:20210821T221216Z
UID:9661-1630692000-1630702800@laceyblackmusic.com
SUMMARY:The Outlaw Restaurant
DESCRIPTION:Join Lacey as she plays your favorites from the last hundred years in this historic Ouray restaurant and bar!
URL:https://laceyblackmusic.com/event/the-outlaw-restaurant-87-2-2-2-2-2-2-2-2018-10-26-2-2-2-2-2-2-2-2-2-2-2/
LOCATION:The Outlaw\, 610 Main St\, Ouray\, CO\, 81427\, United States
CATEGORIES:Ragtime & Honky-Tonk
END:VEVENT
BEGIN:VEVENT
DTSTART;TZID=UTC:20210514T120000
DTEND;TZID=UTC:20210514T140000
DTSTAMP:20260425T010914
CREATED:20210426T223813Z
LAST-MODIFIED:20210510T214945Z
UID:9772-1620993600-1621000800@laceyblackmusic.com
SUMMARY:Lone Spur Cafe in the Grand Imperial
DESCRIPTION:Join Lacey for lunch in this historic landmark in Silverton\, CO!  Lacey plays the old rinky-tink piano; this is her 21st (!) season in the saloon at the Grand Imperial\, renamed the Lone Spur Cafe!
URL:https://laceyblackmusic.com/event/lone-spur-cafe-in-the-grand-imperial-2-2021-05-14/
LOCATION:Lone Spur Cafe Silverton\, 1219 Greene Street\, Silverton\, CO\, 81433\, United States
CATEGORIES:Ragtime & Honky-Tonk
END:VEVENT
BEGIN:VEVENT
DTSTART;TZID=UTC:20210514T120000
DTEND;TZID=UTC:20210514T140000
DTSTAMP:20260425T010914
CREATED:20210426T223813Z
LAST-MODIFIED:20210510T214945Z
UID:9772-1620993600-1621000800@laceyblackmusic.com
SUMMARY:Lone Spur Cafe in the Grand Imperial
DESCRIPTION:Join Lacey for lunch in this historic landmark in Silverton\, CO!  Lacey plays the old rinky-tink piano; this is her 21st (!) season in the saloon at the Grand Imperial\, renamed the Lone Spur Cafe!
URL:https://laceyblackmusic.com/event/lone-spur-cafe-in-the-grand-imperial-2-2021-05-14/
LOCATION:Lone Spur Cafe Silverton\, 1219 Greene Street\, Silverton\, CO\, 81433\, United States
CATEGORIES:Ragtime & Honky-Tonk
END:VEVENT
BEGIN:VEVENT
DTSTART;TZID=UTC:20210514T120000
DTEND;TZID=UTC:20210514T140000
DTSTAMP:20260425T010914
CREATED:20210426T223813Z
LAST-MODIFIED:20210510T214945Z
UID:9772-1620993600-1621000800@laceyblackmusic.com
SUMMARY:Lone Spur Cafe in the Grand Imperial
DESCRIPTION:Join Lacey for lunch in this historic landmark in Silverton\, CO!  Lacey plays the old rinky-tink piano; this is her 21st (!) season in the saloon at the Grand Imperial\, renamed the Lone Spur Cafe!
URL:https://laceyblackmusic.com/event/lone-spur-cafe-in-the-grand-imperial-2-2021-05-14/
LOCATION:Lone Spur Cafe Silverton\, 1219 Greene Street\, Silverton\, CO\, 81433\, United States
CATEGORIES:Ragtime & Honky-Tonk
END:VEVENT
BEGIN:VEVENT
DTSTART;TZID=UTC:20210514T120000
DTEND;TZID=UTC:20210514T140000
DTSTAMP:20260425T010914
CREATED:20210426T223813Z
LAST-MODIFIED:20210510T214945Z
UID:9772-1620993600-1621000800@laceyblackmusic.com
SUMMARY:Lone Spur Cafe in the Grand Imperial
DESCRIPTION:Join Lacey for lunch in this historic landmark in Silverton\, CO!  Lacey plays the old rinky-tink piano; this is her 21st (!) season in the saloon at the Grand Imperial\, renamed the Lone Spur Cafe!
URL:https://laceyblackmusic.com/event/lone-spur-cafe-in-the-grand-imperial-2-2021-05-14/
LOCATION:Lone Spur Cafe Silverton\, 1219 Greene Street\, Silverton\, CO\, 81433\, United States
CATEGORIES:Ragtime & Honky-Tonk
END:VEVENT
BEGIN:VEVENT
DTSTART;TZID=UTC:20210514T120000
DTEND;TZID=UTC:20210514T140000
DTSTAMP:20260425T010914
CREATED:20210426T223813Z
LAST-MODIFIED:20210510T214945Z
UID:9772-1620993600-1621000800@laceyblackmusic.com
SUMMARY:Lone Spur Cafe in the Grand Imperial
DESCRIPTION:Join Lacey for lunch in this historic landmark in Silverton\, CO!  Lacey plays the old rinky-tink piano; this is her 21st (!) season in the saloon at the Grand Imperial\, renamed the Lone Spur Cafe!
URL:https://laceyblackmusic.com/event/lone-spur-cafe-in-the-grand-imperial-2-2021-05-14/
LOCATION:Lone Spur Cafe Silverton\, 1219 Greene Street\, Silverton\, CO\, 81433\, United States
CATEGORIES:Ragtime & Honky-Tonk
END:VEVENT
BEGIN:VEVENT
DTSTART;TZID=UTC:20210828T170000
DTEND;TZID=UTC:20210828T200000
DTSTAMP:20260425T010914
CREATED:20210528T161501Z
LAST-MODIFIED:20210821T220942Z
UID:10296-1630170000-1630180800@laceyblackmusic.com
SUMMARY:Lone Spur Cafe Durango
DESCRIPTION:Lacey plays a rare solo piano show in Durango at this downtown\, comfort-food cafe!
URL:https://laceyblackmusic.com/event/lone-spur-cafe-durango-3/
LOCATION:CO
END:VEVENT
BEGIN:VEVENT
DTSTART;TZID=UTC:20210611T170000
DTEND;TZID=UTC:20210611T200000
DTSTAMP:20260425T010914
CREATED:20200304T212055Z
LAST-MODIFIED:20210406T002057Z
UID:8412-1623430800-1623441600@laceyblackmusic.com
SUMMARY:Serious Texas BBQ South
DESCRIPTION:Listen to the river in the distance from the patio as you listen to Lacey at this iconic Durango BBQ!
URL:https://laceyblackmusic.com/event/serious-texas-bbq-south-15-2-2-2/
LOCATION:Serious Texas BBQ South\, 650 Camino Del Rio\, Durango\, CO\, 81303\, United States
CATEGORIES:Singer-Songwriter
END:VEVENT
BEGIN:VEVENT
DTSTART;TZID=UTC:20210514T120000
DTEND;TZID=UTC:20210514T140000
DTSTAMP:20260425T010914
CREATED:20210426T223813Z
LAST-MODIFIED:20210510T214945Z
UID:9772-1620993600-1621000800@laceyblackmusic.com
SUMMARY:Lone Spur Cafe in the Grand Imperial
DESCRIPTION:Join Lacey for lunch in this historic landmark in Silverton\, CO!  Lacey plays the old rinky-tink piano; this is her 21st (!) season in the saloon at the Grand Imperial\, renamed the Lone Spur Cafe!
URL:https://laceyblackmusic.com/event/lone-spur-cafe-in-the-grand-imperial-2-2021-05-14/
LOCATION:Lone Spur Cafe Silverton\, 1219 Greene Street\, Silverton\, CO\, 81433\, United States
CATEGORIES:Ragtime & Honky-Tonk
END:VEVENT
END:VCALENDAR