BEGIN:VCALENDAR
VERSION:2.0
PRODID:-//Lacey Black - ECPv6.15.20//NONSGML v1.0//EN
CALSCALE:GREGORIAN
METHOD:PUBLISH
X-WR-CALNAME:Lacey Black
X-ORIGINAL-URL:https://laceyblackmusic.com
X-WR-CALDESC:Events for Lacey Black
REFRESH-INTERVAL;VALUE=DURATION:PT1H
X-Robots-Tag:noindex
X-PUBLISHED-TTL:PT1H
BEGIN:VTIMEZONE
TZID:UTC
BEGIN:STANDARD
TZOFFSETFROM:+0000
TZOFFSETTO:+0000
TZNAME:UTC
DTSTART:20150101T000000
END:STANDARD
END:VTIMEZONE
BEGIN:VEVENT
DTSTART;TZID=UTC:20160719T170000
DTEND;TZID=UTC:20160719T200000
DTSTAMP:20260425T135141
CREATED:20160630T162728Z
LAST-MODIFIED:20160630T162745Z
UID:2662-1468947600-1468958400@laceyblackmusic.com
SUMMARY:Fifth Street Eatery
DESCRIPTION:Join Lacey outside for music\, refreshing beverages\, and the best chicken you’ll ever have in your life!
URL:https://laceyblackmusic.com/event/fifth-street-eatery/
LOCATION:Fifth Street Eatery\, 139 E 5th Street\, Durango\, CO\, 81301\, United States
CATEGORIES:Singer-Songwriter
END:VEVENT
BEGIN:VEVENT
DTSTART;TZID=UTC:20160718T113000
DTEND;TZID=UTC:20160718T140000
DTSTAMP:20260425T135141
CREATED:20160409T171429Z
LAST-MODIFIED:20160606T214917Z
UID:2514-1468841400-1468850400@laceyblackmusic.com
SUMMARY:The Grand Restaurant and Saloon
DESCRIPTION:Join Lacey for lunch as she plays your piano favorites from yesteryear in this beautiful historic saloon\, formerly known as “Grumpy’s”!
URL:https://laceyblackmusic.com/event/grumpys-saloon-66/
LOCATION:The Grand Restaurant and Saloon\, 1219 Greene Street\, Silverton\, CO\, 81433\, United States
CATEGORIES:Ragtime & Honky-Tonk
END:VEVENT
BEGIN:VEVENT
DTSTART;TZID=UTC:20160717T113000
DTEND;TZID=UTC:20160717T140000
DTSTAMP:20260425T135141
CREATED:20160409T171338Z
LAST-MODIFIED:20160713T170104Z
UID:2513-1468755000-1468764000@laceyblackmusic.com
SUMMARY:The Grand Restaurant and Saloon
DESCRIPTION:Join Lacey for lunch as she plays your piano favorites from yesteryear in this beautiful historic saloon\, formerly known as “Grumpy’s”!
URL:https://laceyblackmusic.com/event/grumpys-saloon-65-2016-07-16/
LOCATION:The Grand Restaurant and Saloon\, 1219 Greene Street\, Silverton\, CO\, 81433\, United States
CATEGORIES:Ragtime & Honky-Tonk
END:VEVENT
BEGIN:VEVENT
DTSTART;TZID=UTC:20160713T180000
DTEND;TZID=UTC:20160713T210000
DTSTAMP:20260425T135141
CREATED:20160422T151058Z
LAST-MODIFIED:20160422T151058Z
UID:2620-1468432800-1468443600@laceyblackmusic.com
SUMMARY:Chipeta Sky Bar
DESCRIPTION:Take in the 360-degree views of the stunning mountains from this rooftop lounge in Ridgway!
URL:https://laceyblackmusic.com/event/chipeta-sky-bar-5/
LOCATION:Chipeta Sun Lodge Sky Bar\, 304 S Lena Street\, Ridgway\, CO\, 81432\, United States
CATEGORIES:Singer-Songwriter
END:VEVENT
BEGIN:VEVENT
DTSTART;TZID=UTC:20160711T113000
DTEND;TZID=UTC:20160711T140000
DTSTAMP:20260425T135141
CREATED:20160409T171338Z
LAST-MODIFIED:20160606T215017Z
UID:2508-1468236600-1468245600@laceyblackmusic.com
SUMMARY:The Grand Restaurant and Saloon
DESCRIPTION:Join Lacey for lunch as she plays your piano favorites from yesteryear in this beautiful historic saloon\, formerly known as “Grumpy’s”!
URL:https://laceyblackmusic.com/event/grumpys-saloon-65/
LOCATION:The Grand Restaurant and Saloon\, 1219 Greene Street\, Silverton\, CO\, 81433\, United States
CATEGORIES:Ragtime & Honky-Tonk
END:VEVENT
BEGIN:VEVENT
DTSTART;TZID=UTC:20160702T170000
DTEND;TZID=UTC:20160702T200000
DTSTAMP:20260425T135141
CREATED:20160409T172931Z
LAST-MODIFIED:20160409T172931Z
UID:2613-1467478800-1467489600@laceyblackmusic.com
SUMMARY:Serious Texas BBQ South
DESCRIPTION:Listen to the river in the distance from the patio as you listen to Lacey at this iconic Durango BBQ!
URL:https://laceyblackmusic.com/event/serious-texas-bbq-south-10/
LOCATION:Serious Texas BBQ South\, 650 Camino Del Rio\, Durango\, CO\, 81303\, United States
CATEGORIES:Singer-Songwriter
END:VEVENT
BEGIN:VEVENT
DTSTART;TZID=UTC:20160701T180000
DTEND;TZID=UTC:20160701T210000
DTSTAMP:20260425T135141
CREATED:20160409T172733Z
LAST-MODIFIED:20160409T172733Z
UID:2610-1467396000-1467406800@laceyblackmusic.com
SUMMARY:Fox Fire Farms
DESCRIPTION:Come and take in the country life as you taste fine wines\, enjoy gourmet local food\, and listen to Lacey!
URL:https://laceyblackmusic.com/event/fox-fire-farms-10/
LOCATION:Fox Fire Farms\, 5513 CR 321\, Ignacio\, CO\, 81137\, United States
CATEGORIES:Singer-Songwriter
END:VEVENT
BEGIN:VEVENT
DTSTART;TZID=UTC:20160627T113000
DTEND;TZID=UTC:20160627T140000
DTSTAMP:20260425T135141
CREATED:20160409T171230Z
LAST-MODIFIED:20160606T214947Z
UID:2496-1467027000-1467036000@laceyblackmusic.com
SUMMARY:The Grand Restaurant and Saloon
DESCRIPTION:Join Lacey for lunch as she plays your piano favorites from yesteryear in this beautiful historic saloon\, formerly known as “Grumpy’s”!
URL:https://laceyblackmusic.com/event/grumpys-saloon-64/
LOCATION:The Grand Restaurant and Saloon\, 1219 Greene Street\, Silverton\, CO\, 81433\, United States
CATEGORIES:Ragtime & Honky-Tonk
END:VEVENT
BEGIN:VEVENT
DTSTART;TZID=UTC:20160625T170000
DTEND;TZID=UTC:20160625T210000
DTSTAMP:20260425T135141
CREATED:20160510T162608Z
LAST-MODIFIED:20160510T162608Z
UID:2652-1466874000-1466888400@laceyblackmusic.com
SUMMARY:Garrett Estate Cellars Winery
DESCRIPTION:Join Lacey as she provides music for this fundraiser dinner\, benefiting the Valley Food Partnership!
URL:https://laceyblackmusic.com/event/garrett-estate-cellars-winery/
LOCATION:Garrett Estate Cellars Winery\, 53582 Falcon Rd\, Olathe\, CO\, United States
END:VEVENT
BEGIN:VEVENT
DTSTART;TZID=UTC:20160624T180000
DTEND;TZID=UTC:20160624T210000
DTSTAMP:20260425T135141
CREATED:20160409T172711Z
LAST-MODIFIED:20160409T172711Z
UID:2609-1466791200-1466802000@laceyblackmusic.com
SUMMARY:Fox Fire Farms
DESCRIPTION:Come and take in the country life as you taste fine wines\, enjoy gourmet local food\, and listen to Lacey!
URL:https://laceyblackmusic.com/event/fox-fire-farms-9/
LOCATION:Fox Fire Farms\, 5513 CR 321\, Ignacio\, CO\, 81137\, United States
CATEGORIES:Singer-Songwriter
END:VEVENT
BEGIN:VEVENT
DTSTART;TZID=UTC:20160620T113000
DTEND;TZID=UTC:20160620T140000
DTSTAMP:20260425T135141
CREATED:20160409T171023Z
LAST-MODIFIED:20160606T215126Z
UID:2491-1466422200-1466431200@laceyblackmusic.com
SUMMARY:The Grand Restaurant and Saloon
DESCRIPTION:Join Lacey for lunch as she plays your piano favorites from yesteryear in this beautiful historic saloon\, formerly known as “Grumpy’s”!
URL:https://laceyblackmusic.com/event/grumpys-saloon-63/
LOCATION:The Grand Restaurant and Saloon\, 1219 Greene Street\, Silverton\, CO\, 81433\, United States
CATEGORIES:Ragtime & Honky-Tonk
END:VEVENT
BEGIN:VEVENT
DTSTART;TZID=UTC:20160617T170000
DTEND;TZID=UTC:20160617T200000
DTSTAMP:20260425T135141
CREATED:20160409T172859Z
LAST-MODIFIED:20160409T172859Z
UID:2612-1466182800-1466193600@laceyblackmusic.com
SUMMARY:Serious Texas BBQ South
DESCRIPTION:Listen to the river in the distance from the patio as you listen to Lacey at this iconic Durango BBQ!
URL:https://laceyblackmusic.com/event/serious-texas-bbq-south-9/
LOCATION:Serious Texas BBQ South\, 650 Camino Del Rio\, Durango\, CO\, 81303\, United States
CATEGORIES:Singer-Songwriter
END:VEVENT
BEGIN:VEVENT
DTSTART;TZID=UTC:20160613T113000
DTEND;TZID=UTC:20160613T140000
DTSTAMP:20260425T135141
CREATED:20160409T170924Z
LAST-MODIFIED:20160606T214725Z
UID:2485-1465817400-1465826400@laceyblackmusic.com
SUMMARY:The Grand Restaurant and Saloon
DESCRIPTION:Join Lacey for lunch as she plays your piano favorites from yesteryear in this beautiful historic saloon\, formerly known as “Grumpy’s”!
URL:https://laceyblackmusic.com/event/grumpys-saloon-62/
LOCATION:The Grand Restaurant and Saloon\, 1219 Greene Street\, Silverton\, CO\, 81433\, United States
CATEGORIES:Ragtime & Honky-Tonk
END:VEVENT
BEGIN:VEVENT
DTSTART;TZID=UTC:20160609T180000
DTEND;TZID=UTC:20160609T210000
DTSTAMP:20260425T135141
CREATED:20160409T172534Z
LAST-MODIFIED:20160409T172534Z
UID:2597-1465495200-1465506000@laceyblackmusic.com
SUMMARY:Thursdays With Lacey at the Grand Imperial
DESCRIPTION:Join Lacey for dinner as she serenades you with her originals and favorite modern cover songs\, on piano and guitar.
URL:https://laceyblackmusic.com/event/thursdays-with-lacey-at-the-grand-imperial/
LOCATION:The Grand Restaurant and Saloon\, 1219 Greene Street\, Silverton\, CO\, 81433\, United States
END:VEVENT
BEGIN:VEVENT
DTSTART;TZID=UTC:20160608T180000
DTEND;TZID=UTC:20160608T210000
DTSTAMP:20260425T135141
CREATED:20160422T151024Z
LAST-MODIFIED:20160422T151024Z
UID:2619-1465408800-1465419600@laceyblackmusic.com
SUMMARY:Chipeta Sky Bar
DESCRIPTION:Take in the 360-degree views of the stunning mountains from this rooftop lounge in Ridgway!
URL:https://laceyblackmusic.com/event/chipeta-sky-bar-4/
LOCATION:Chipeta Sun Lodge Sky Bar\, 304 S Lena Street\, Ridgway\, CO\, 81432\, United States
CATEGORIES:Singer-Songwriter
END:VEVENT
BEGIN:VEVENT
DTSTART;TZID=UTC:20160606T113000
DTEND;TZID=UTC:20160606T140000
DTSTAMP:20260425T135141
CREATED:20160409T170823Z
LAST-MODIFIED:20160606T215217Z
UID:2480-1465212600-1465221600@laceyblackmusic.com
SUMMARY:The Grand Restaurant and Saloon
DESCRIPTION:Join Lacey for lunch as she plays your piano favorites from yesteryear in this beautiful historic saloon\, formerly known as “Grumpy’s”!
URL:https://laceyblackmusic.com/event/grumpys-saloon-61/
LOCATION:The Grand Restaurant and Saloon\, 1219 Greene Street\, Silverton\, CO\, 81433\, United States
CATEGORIES:Ragtime & Honky-Tonk
END:VEVENT
BEGIN:VEVENT
DTSTART;TZID=UTC:20160603T180000
DTEND;TZID=UTC:20160603T210000
DTSTAMP:20260425T135141
CREATED:20160510T161611Z
LAST-MODIFIED:20160510T161611Z
UID:2649-1464976800-1464987600@laceyblackmusic.com
SUMMARY:The Outlaw Restaurant
DESCRIPTION:Join Lacey as she plays your favorites from the last hundred years in this historic Ouray restaurant and bar!
URL:https://laceyblackmusic.com/event/the-outlaw-restaurant-26/
LOCATION:The Outlaw\, 610 Main St\, Ouray\, CO\, 81427\, United States
CATEGORIES:Ragtime & Honky-Tonk
END:VEVENT
BEGIN:VEVENT
DTSTART;TZID=UTC:20160530T113000
DTEND;TZID=UTC:20160530T140000
DTSTAMP:20260425T135141
CREATED:20160409T170713Z
LAST-MODIFIED:20160409T170713Z
UID:2474-1464607800-1464616800@laceyblackmusic.com
SUMMARY:Grumpy's Saloon
DESCRIPTION:Join Lacey for lunch as she plays your piano favorites from yesteryear!
URL:https://laceyblackmusic.com/event/grumpys-saloon-60/
LOCATION:The Grand Restaurant and Saloon\, 1219 Greene Street\, Silverton\, CO\, 81433\, United States
CATEGORIES:Ragtime & Honky-Tonk
END:VEVENT
BEGIN:VEVENT
DTSTART;TZID=UTC:20160523T113000
DTEND;TZID=UTC:20160523T140000
DTSTAMP:20260425T135141
CREATED:20160409T170623Z
LAST-MODIFIED:20160409T170623Z
UID:2468-1464003000-1464012000@laceyblackmusic.com
SUMMARY:Grumpy's Saloon
DESCRIPTION:Join Lacey for lunch as she plays your piano favorites from yesteryear!
URL:https://laceyblackmusic.com/event/grumpys-saloon-59/
LOCATION:The Grand Restaurant and Saloon\, 1219 Greene Street\, Silverton\, CO\, 81433\, United States
CATEGORIES:Ragtime & Honky-Tonk
END:VEVENT
BEGIN:VEVENT
DTSTART;TZID=UTC:20160521T180000
DTEND;TZID=UTC:20160521T210000
DTSTAMP:20260425T135141
CREATED:20160510T161518Z
LAST-MODIFIED:20160510T161518Z
UID:2647-1463853600-1463864400@laceyblackmusic.com
SUMMARY:The Outlaw Restaurant
DESCRIPTION:Join Lacey as she plays your favorites from the last hundred years in this historic Ouray restaurant and bar!
URL:https://laceyblackmusic.com/event/the-outlaw-restaurant-24/
LOCATION:The Outlaw\, 610 Main St\, Ouray\, CO\, 81427\, United States
CATEGORIES:Ragtime & Honky-Tonk
END:VEVENT
BEGIN:VEVENT
DTSTART;TZID=UTC:20160516T113000
DTEND;TZID=UTC:20160516T140000
DTSTAMP:20260425T135141
CREATED:20160409T170502Z
LAST-MODIFIED:20160409T170502Z
UID:2462-1463398200-1463407200@laceyblackmusic.com
SUMMARY:Grumpy's Saloon
DESCRIPTION:Join Lacey for lunch as she plays your piano favorites from yesteryear!
URL:https://laceyblackmusic.com/event/grumpys-saloon-58/
LOCATION:The Grand Restaurant and Saloon\, 1219 Greene Street\, Silverton\, CO\, 81433\, United States
CATEGORIES:Ragtime & Honky-Tonk
END:VEVENT
BEGIN:VEVENT
DTSTART;TZID=UTC:20160511T183000
DTEND;TZID=UTC:20160511T213000
DTSTAMP:20260425T135141
CREATED:20160510T161333Z
LAST-MODIFIED:20160510T161333Z
UID:2644-1462991400-1463002200@laceyblackmusic.com
SUMMARY:Bear Creek Saloon with Tim Sullivan
DESCRIPTION:Join Tim Sullivan and Narrow Gauge with special guest\, Lacey Black\, as they take the stage at this Pagosa hot spot!
URL:https://laceyblackmusic.com/event/bear-creek-saloon-with-tim-sullivan/
LOCATION:Bear Creek Saloon\, Pagosa Springs\, CO\, United States
END:VEVENT
BEGIN:VEVENT
DTSTART;TZID=UTC:20160508T121500
DTEND;TZID=UTC:20160508T133000
DTSTAMP:20260425T135141
CREATED:20160409T170228Z
LAST-MODIFIED:20160409T170228Z
UID:2457-1462709700-1462714200@laceyblackmusic.com
SUMMARY:Grumpy's Saloon
DESCRIPTION:Join Lacey for lunch as she plays your piano favorites from yesteryear!
URL:https://laceyblackmusic.com/event/grumpys-saloon-57/
LOCATION:The Grand Restaurant and Saloon\, 1219 Greene Street\, Silverton\, CO\, 81433\, United States
CATEGORIES:Ragtime & Honky-Tonk
END:VEVENT
BEGIN:VEVENT
DTSTART;TZID=UTC:20160507T113000
DTEND;TZID=UTC:20160507T130000
DTSTAMP:20260425T135141
CREATED:20160409T170133Z
LAST-MODIFIED:20160409T170133Z
UID:2456-1462620600-1462626000@laceyblackmusic.com
SUMMARY:Grumpy's Saloon
DESCRIPTION:Join Lacey for lunch as she plays your piano favorites from yesteryear!
URL:https://laceyblackmusic.com/event/grumpys-saloon-56/
LOCATION:The Grand Restaurant and Saloon\, 1219 Greene Street\, Silverton\, CO\, 81433\, United States
CATEGORIES:Ragtime & Honky-Tonk
END:VEVENT
BEGIN:VEVENT
DTSTART;TZID=UTC:20160506T180000
DTEND;TZID=UTC:20160506T210000
DTSTAMP:20260425T135141
CREATED:20160429T205722Z
LAST-MODIFIED:20160429T205814Z
UID:2639-1462557600-1462568400@laceyblackmusic.com
SUMMARY:The Outlaw Restaurant
DESCRIPTION:Join Lacey as she plays your favorites from the last hundred years in this historic Ouray restaurant and bar!
URL:https://laceyblackmusic.com/event/the-outlaw-restaurant-21/
LOCATION:The Outlaw\, 610 Main St\, Ouray\, CO\, 81427\, United States
CATEGORIES:Ragtime & Honky-Tonk
END:VEVENT
BEGIN:VEVENT
DTSTART;TZID=UTC:20160430T180000
DTEND;TZID=UTC:20160430T210000
DTSTAMP:20260425T135141
CREATED:20160429T205854Z
LAST-MODIFIED:20160429T205854Z
UID:2642-1462039200-1462050000@laceyblackmusic.com
SUMMARY:The Outlaw Restaurant
DESCRIPTION:Join Lacey as she plays your favorites from the last hundred years in this historic Ouray restaurant and bar!
URL:https://laceyblackmusic.com/event/the-outlaw-restaurant-22/
LOCATION:The Outlaw\, 610 Main St\, Ouray\, CO\, 81427\, United States
CATEGORIES:Ragtime & Honky-Tonk
END:VEVENT
BEGIN:VEVENT
DTSTART;TZID=UTC:20160430T180000
DTEND;TZID=UTC:20160430T210000
DTSTAMP:20260425T135141
CREATED:20160429T205632Z
LAST-MODIFIED:20160429T205632Z
UID:2638-1462039200-1462050000@laceyblackmusic.com
SUMMARY:The Outlaw Restaurant
DESCRIPTION:Join Lacey as she plays your favorites from the last hundred years in this historic Ouray restaurant and bar!
URL:https://laceyblackmusic.com/event/the-outlaw-restaurant-20/
LOCATION:The Outlaw\, 610 Main St\, Ouray\, CO\, 81427\, United States
CATEGORIES:Ragtime & Honky-Tonk
END:VEVENT
BEGIN:VEVENT
DTSTART;TZID=UTC:20160409T180000
DTEND;TZID=UTC:20160409T210000
DTSTAMP:20260425T135141
CREATED:20160409T165842Z
LAST-MODIFIED:20160409T165842Z
UID:2455-1460224800-1460235600@laceyblackmusic.com
SUMMARY:The Outlaw Restaurant
DESCRIPTION:Join Lacey as she plays your favorites from the last hundred years in this historic Ouray restaurant and bar!
URL:https://laceyblackmusic.com/event/the-outlaw-restaurant-19/
LOCATION:The Outlaw\, 610 Main St\, Ouray\, CO\, 81427\, United States
CATEGORIES:Ragtime & Honky-Tonk
END:VEVENT
BEGIN:VEVENT
DTSTART;TZID=UTC:20160319T180000
DTEND;TZID=UTC:20160319T210000
DTSTAMP:20260425T135141
CREATED:20160311T175506Z
LAST-MODIFIED:20160311T175506Z
UID:2449-1458410400-1458421200@laceyblackmusic.com
SUMMARY:The Outlaw Restaurant
DESCRIPTION:Join Lacey as she plays your favorites from the last hundred years in this historic Ouray restaurant and bar!
URL:https://laceyblackmusic.com/event/the-outlaw-restaurant-18/
LOCATION:The Outlaw\, 610 Main St\, Ouray\, CO\, 81427\, United States
CATEGORIES:Ragtime & Honky-Tonk
END:VEVENT
BEGIN:VEVENT
DTSTART;TZID=UTC:20160316T180000
DTEND;TZID=UTC:20160316T210000
DTSTAMP:20260425T135141
CREATED:20160311T180143Z
LAST-MODIFIED:20160311T180156Z
UID:2451-1458151200-1458162000@laceyblackmusic.com
SUMMARY:Rez Hill Grill with Tim Sullivan
DESCRIPTION:Lacey joins the band for the night at this Pagosa Springs venue!
URL:https://laceyblackmusic.com/event/rez-hill-grill-with-tim-sullivan/
LOCATION:Rez Hill Grill\, Pagosa Springs\, United States
END:VEVENT
END:VCALENDAR