BEGIN:VCALENDAR
VERSION:2.0
PRODID:-//Lacey Black - ECPv6.15.20//NONSGML v1.0//EN
CALSCALE:GREGORIAN
METHOD:PUBLISH
X-ORIGINAL-URL:https://laceyblackmusic.com
X-WR-CALDESC:Events for Lacey Black
REFRESH-INTERVAL;VALUE=DURATION:PT1H
X-Robots-Tag:noindex
X-PUBLISHED-TTL:PT1H
BEGIN:VTIMEZONE
TZID:UTC
BEGIN:STANDARD
TZOFFSETFROM:+0000
TZOFFSETTO:+0000
TZNAME:UTC
DTSTART:20160101T000000
END:STANDARD
END:VTIMEZONE
BEGIN:VEVENT
DTSTART;TZID=UTC:20170529T113000
DTEND;TZID=UTC:20170529T140000
DTSTAMP:20260425T122105
CREATED:20170331T160807Z
LAST-MODIFIED:20170331T160807Z
UID:2948-1496057400-1496066400@laceyblackmusic.com
SUMMARY:The Grand Restaurant and Saloon
DESCRIPTION:Join Lacey for lunch as she plays your piano favorites from yesteryear in this beautiful historic saloon\, formerly known as “Grumpy’s”!
URL:https://laceyblackmusic.com/event/the-grand-restaurant-and-saloon-5/
LOCATION:The Grand Restaurant and Saloon\, 1219 Greene Street\, Silverton\, CO\, 81433\, United States
CATEGORIES:Ragtime & Honky-Tonk
END:VEVENT
BEGIN:VEVENT
DTSTART;TZID=UTC:20170529T113000
DTEND;TZID=UTC:20170529T140000
DTSTAMP:20260425T122105
CREATED:20170331T160807Z
LAST-MODIFIED:20170331T160807Z
UID:2948-1496057400-1496066400@laceyblackmusic.com
SUMMARY:The Grand Restaurant and Saloon
DESCRIPTION:Join Lacey for lunch as she plays your piano favorites from yesteryear in this beautiful historic saloon\, formerly known as “Grumpy’s”!
URL:https://laceyblackmusic.com/event/the-grand-restaurant-and-saloon-5/
LOCATION:The Grand Restaurant and Saloon\, 1219 Greene Street\, Silverton\, CO\, 81433\, United States
CATEGORIES:Ragtime & Honky-Tonk
END:VEVENT
BEGIN:VEVENT
DTSTART;TZID=UTC:20170527T170000
DTEND;TZID=UTC:20170527T200000
DTSTAMP:20260425T122105
CREATED:20160409T173015Z
LAST-MODIFIED:20170331T171221Z
UID:2615-1495904400-1495915200@laceyblackmusic.com
SUMMARY:Serious Texas BBQ South
DESCRIPTION:Listen to the river in the distance from the patio as you listen to Lacey at this iconic Durango BBQ!
URL:https://laceyblackmusic.com/event/serious-texas-bbq-south-12/
LOCATION:Serious Texas BBQ South\, 650 Camino Del Rio\, Durango\, CO\, 81303\, United States
CATEGORIES:Singer-Songwriter
END:VEVENT
BEGIN:VEVENT
DTSTART;TZID=UTC:20170522T113000
DTEND;TZID=UTC:20170522T140000
DTSTAMP:20260425T122105
CREATED:20170331T160723Z
LAST-MODIFIED:20170331T160723Z
UID:2941-1495452600-1495461600@laceyblackmusic.com
SUMMARY:The Grand Restaurant and Saloon
DESCRIPTION:Join Lacey for lunch as she plays your piano favorites from yesteryear in this beautiful historic saloon\, formerly known as “Grumpy’s”!
URL:https://laceyblackmusic.com/event/the-grand-restaurant-and-saloon-4/
LOCATION:The Grand Restaurant and Saloon\, 1219 Greene Street\, Silverton\, CO\, 81433\, United States
CATEGORIES:Ragtime & Honky-Tonk
END:VEVENT
BEGIN:VEVENT
DTSTART;TZID=UTC:20170526T180000
DTEND;TZID=UTC:20170526T210000
DTSTAMP:20260425T122105
CREATED:20170331T170505Z
LAST-MODIFIED:20170331T170505Z
UID:3214-1495821600-1495832400@laceyblackmusic.com
SUMMARY:The Outlaw Restaurant
DESCRIPTION:Join Lacey as she plays your favorites from the last hundred years in this historic Ouray restaurant and bar!
URL:https://laceyblackmusic.com/event/the-outlaw-restaurant-63/
LOCATION:The Outlaw\, 610 Main St\, Ouray\, CO\, 81427\, United States
CATEGORIES:Ragtime & Honky-Tonk
END:VEVENT
BEGIN:VEVENT
DTSTART;TZID=UTC:20170522T113000
DTEND;TZID=UTC:20170522T140000
DTSTAMP:20260425T122105
CREATED:20170331T160723Z
LAST-MODIFIED:20170331T160723Z
UID:2941-1495452600-1495461600@laceyblackmusic.com
SUMMARY:The Grand Restaurant and Saloon
DESCRIPTION:Join Lacey for lunch as she plays your piano favorites from yesteryear in this beautiful historic saloon\, formerly known as “Grumpy’s”!
URL:https://laceyblackmusic.com/event/the-grand-restaurant-and-saloon-4/
LOCATION:The Grand Restaurant and Saloon\, 1219 Greene Street\, Silverton\, CO\, 81433\, United States
CATEGORIES:Ragtime & Honky-Tonk
END:VEVENT
BEGIN:VEVENT
DTSTART;TZID=UTC:20170525T180000
DTEND;TZID=UTC:20170525T200000
DTSTAMP:20260425T122105
CREATED:20170331T165509Z
LAST-MODIFIED:20170331T165509Z
UID:3203-1495735200-1495742400@laceyblackmusic.com
SUMMARY:The Swing Restaurant at Dalton Ranch
DESCRIPTION:Take in the stunning views of the Animas Valley while listening to Lacey as she sings and plays at this on-the-green restaurant at Dalton Ranch Golf Club!
URL:https://laceyblackmusic.com/event/the-swing-restaurant-at-dalton-ranch/
LOCATION:The Swing Restaurant\, 589 County Road 252\, Durango\, CO\, 81301\, United States
CATEGORIES:Singer-Songwriter
END:VEVENT
BEGIN:VEVENT
DTSTART;TZID=UTC:20170522T113000
DTEND;TZID=UTC:20170522T140000
DTSTAMP:20260425T122105
CREATED:20170331T160723Z
LAST-MODIFIED:20170331T160723Z
UID:2941-1495452600-1495461600@laceyblackmusic.com
SUMMARY:The Grand Restaurant and Saloon
DESCRIPTION:Join Lacey for lunch as she plays your piano favorites from yesteryear in this beautiful historic saloon\, formerly known as “Grumpy’s”!
URL:https://laceyblackmusic.com/event/the-grand-restaurant-and-saloon-4/
LOCATION:The Grand Restaurant and Saloon\, 1219 Greene Street\, Silverton\, CO\, 81433\, United States
CATEGORIES:Ragtime & Honky-Tonk
END:VEVENT
BEGIN:VEVENT
DTSTART;TZID=UTC:20170522T113000
DTEND;TZID=UTC:20170522T140000
DTSTAMP:20260425T122105
CREATED:20170331T160723Z
LAST-MODIFIED:20170331T160723Z
UID:2941-1495452600-1495461600@laceyblackmusic.com
SUMMARY:The Grand Restaurant and Saloon
DESCRIPTION:Join Lacey for lunch as she plays your piano favorites from yesteryear in this beautiful historic saloon\, formerly known as “Grumpy’s”!
URL:https://laceyblackmusic.com/event/the-grand-restaurant-and-saloon-4/
LOCATION:The Grand Restaurant and Saloon\, 1219 Greene Street\, Silverton\, CO\, 81433\, United States
CATEGORIES:Ragtime & Honky-Tonk
END:VEVENT
BEGIN:VEVENT
DTSTART;TZID=UTC:20170522T113000
DTEND;TZID=UTC:20170522T140000
DTSTAMP:20260425T122105
CREATED:20170331T160723Z
LAST-MODIFIED:20170331T160723Z
UID:2941-1495452600-1495461600@laceyblackmusic.com
SUMMARY:The Grand Restaurant and Saloon
DESCRIPTION:Join Lacey for lunch as she plays your piano favorites from yesteryear in this beautiful historic saloon\, formerly known as “Grumpy’s”!
URL:https://laceyblackmusic.com/event/the-grand-restaurant-and-saloon-4/
LOCATION:The Grand Restaurant and Saloon\, 1219 Greene Street\, Silverton\, CO\, 81433\, United States
CATEGORIES:Ragtime & Honky-Tonk
END:VEVENT
BEGIN:VEVENT
DTSTART;TZID=UTC:20170522T113000
DTEND;TZID=UTC:20170522T140000
DTSTAMP:20260425T122105
CREATED:20170331T160723Z
LAST-MODIFIED:20170331T160723Z
UID:2941-1495452600-1495461600@laceyblackmusic.com
SUMMARY:The Grand Restaurant and Saloon
DESCRIPTION:Join Lacey for lunch as she plays your piano favorites from yesteryear in this beautiful historic saloon\, formerly known as “Grumpy’s”!
URL:https://laceyblackmusic.com/event/the-grand-restaurant-and-saloon-4/
LOCATION:The Grand Restaurant and Saloon\, 1219 Greene Street\, Silverton\, CO\, 81433\, United States
CATEGORIES:Ragtime & Honky-Tonk
END:VEVENT
BEGIN:VEVENT
DTSTART;TZID=UTC:20170519T180000
DTEND;TZID=UTC:20170519T210000
DTSTAMP:20260425T122105
CREATED:20170331T170431Z
LAST-MODIFIED:20170331T170431Z
UID:3211-1495216800-1495227600@laceyblackmusic.com
SUMMARY:The Outlaw Restaurant
DESCRIPTION:Join Lacey as she plays your favorites from the last hundred years in this historic Ouray restaurant and bar!
URL:https://laceyblackmusic.com/event/the-outlaw-restaurant-62/
LOCATION:The Outlaw\, 610 Main St\, Ouray\, CO\, 81427\, United States
CATEGORIES:Ragtime & Honky-Tonk
END:VEVENT
BEGIN:VEVENT
DTSTART;TZID=UTC:20170515T113000
DTEND;TZID=UTC:20170515T140000
DTSTAMP:20260425T122105
CREATED:20170331T160224Z
LAST-MODIFIED:20170331T160224Z
UID:2888-1494847800-1494856800@laceyblackmusic.com
SUMMARY:The Grand Restaurant and Saloon
DESCRIPTION:Join Lacey for lunch as she plays your piano favorites from yesteryear in this beautiful historic saloon\, formerly known as “Grumpy’s”!
URL:https://laceyblackmusic.com/event/the-grand-restaurant-and-saloon/
LOCATION:The Grand Restaurant and Saloon\, 1219 Greene Street\, Silverton\, CO\, 81433\, United States
CATEGORIES:Ragtime & Honky-Tonk
END:VEVENT
BEGIN:VEVENT
DTSTART;TZID=UTC:20170519T180000
DTEND;TZID=UTC:20170519T210000
DTSTAMP:20260425T122105
CREATED:20170331T170431Z
LAST-MODIFIED:20170331T170431Z
UID:3211-1495216800-1495227600@laceyblackmusic.com
SUMMARY:The Outlaw Restaurant
DESCRIPTION:Join Lacey as she plays your favorites from the last hundred years in this historic Ouray restaurant and bar!
URL:https://laceyblackmusic.com/event/the-outlaw-restaurant-62/
LOCATION:The Outlaw\, 610 Main St\, Ouray\, CO\, 81427\, United States
CATEGORIES:Ragtime & Honky-Tonk
END:VEVENT
BEGIN:VEVENT
DTSTART;TZID=UTC:20170515T113000
DTEND;TZID=UTC:20170515T140000
DTSTAMP:20260425T122105
CREATED:20170331T160224Z
LAST-MODIFIED:20170331T160224Z
UID:2888-1494847800-1494856800@laceyblackmusic.com
SUMMARY:The Grand Restaurant and Saloon
DESCRIPTION:Join Lacey for lunch as she plays your piano favorites from yesteryear in this beautiful historic saloon\, formerly known as “Grumpy’s”!
URL:https://laceyblackmusic.com/event/the-grand-restaurant-and-saloon/
LOCATION:The Grand Restaurant and Saloon\, 1219 Greene Street\, Silverton\, CO\, 81433\, United States
CATEGORIES:Ragtime & Honky-Tonk
END:VEVENT
BEGIN:VEVENT
DTSTART;TZID=UTC:20170518T190000
DTEND;TZID=UTC:20170518T220000
DTSTAMP:20260425T122105
CREATED:20170331T164343Z
LAST-MODIFIED:20170331T164343Z
UID:3130-1495134000-1495144800@laceyblackmusic.com
SUMMARY:The Rum Bar
DESCRIPTION:Join Lacey for live music at this craft-cocktail mecca!
URL:https://laceyblackmusic.com/event/the-rum-bar-7/
LOCATION:The Rum Bar\, 1309 Greene Street\, Silverton\, CO\, 81433\, United States
END:VEVENT
BEGIN:VEVENT
DTSTART;TZID=UTC:20170515T113000
DTEND;TZID=UTC:20170515T140000
DTSTAMP:20260425T122105
CREATED:20170331T160224Z
LAST-MODIFIED:20170331T160224Z
UID:2888-1494847800-1494856800@laceyblackmusic.com
SUMMARY:The Grand Restaurant and Saloon
DESCRIPTION:Join Lacey for lunch as she plays your piano favorites from yesteryear in this beautiful historic saloon\, formerly known as “Grumpy’s”!
URL:https://laceyblackmusic.com/event/the-grand-restaurant-and-saloon/
LOCATION:The Grand Restaurant and Saloon\, 1219 Greene Street\, Silverton\, CO\, 81433\, United States
CATEGORIES:Ragtime & Honky-Tonk
END:VEVENT
BEGIN:VEVENT
DTSTART;TZID=UTC:20170515T113000
DTEND;TZID=UTC:20170515T140000
DTSTAMP:20260425T122105
CREATED:20170331T160224Z
LAST-MODIFIED:20170331T160224Z
UID:2888-1494847800-1494856800@laceyblackmusic.com
SUMMARY:The Grand Restaurant and Saloon
DESCRIPTION:Join Lacey for lunch as she plays your piano favorites from yesteryear in this beautiful historic saloon\, formerly known as “Grumpy’s”!
URL:https://laceyblackmusic.com/event/the-grand-restaurant-and-saloon/
LOCATION:The Grand Restaurant and Saloon\, 1219 Greene Street\, Silverton\, CO\, 81433\, United States
CATEGORIES:Ragtime & Honky-Tonk
END:VEVENT
BEGIN:VEVENT
DTSTART;TZID=UTC:20170515T113000
DTEND;TZID=UTC:20170515T140000
DTSTAMP:20260425T122105
CREATED:20170331T160224Z
LAST-MODIFIED:20170331T160224Z
UID:2888-1494847800-1494856800@laceyblackmusic.com
SUMMARY:The Grand Restaurant and Saloon
DESCRIPTION:Join Lacey for lunch as she plays your piano favorites from yesteryear in this beautiful historic saloon\, formerly known as “Grumpy’s”!
URL:https://laceyblackmusic.com/event/the-grand-restaurant-and-saloon/
LOCATION:The Grand Restaurant and Saloon\, 1219 Greene Street\, Silverton\, CO\, 81433\, United States
CATEGORIES:Ragtime & Honky-Tonk
END:VEVENT
BEGIN:VEVENT
DTSTART;TZID=UTC:20170515T113000
DTEND;TZID=UTC:20170515T140000
DTSTAMP:20260425T122105
CREATED:20170331T160224Z
LAST-MODIFIED:20170331T160224Z
UID:2888-1494847800-1494856800@laceyblackmusic.com
SUMMARY:The Grand Restaurant and Saloon
DESCRIPTION:Join Lacey for lunch as she plays your piano favorites from yesteryear in this beautiful historic saloon\, formerly known as “Grumpy’s”!
URL:https://laceyblackmusic.com/event/the-grand-restaurant-and-saloon/
LOCATION:The Grand Restaurant and Saloon\, 1219 Greene Street\, Silverton\, CO\, 81433\, United States
CATEGORIES:Ragtime & Honky-Tonk
END:VEVENT
BEGIN:VEVENT
DTSTART;TZID=UTC:20170508T121500
DTEND;TZID=UTC:20170508T133000
DTSTAMP:20260425T122105
CREATED:20170331T165009Z
LAST-MODIFIED:20170331T165009Z
UID:3195-1494245700-1494250200@laceyblackmusic.com
SUMMARY:The Grand Restaurant and Saloon
DESCRIPTION:Join Lacey for lunch as she plays your piano favorites from yesteryear in this beautiful historic saloon\, formerly known as “Grumpy’s”!
URL:https://laceyblackmusic.com/event/the-grand-restaurant-and-saloon-3/
LOCATION:The Grand Restaurant and Saloon\, 1219 Greene Street\, Silverton\, CO\, 81433\, United States
CATEGORIES:Ragtime & Honky-Tonk
END:VEVENT
BEGIN:VEVENT
DTSTART;TZID=UTC:20170511T170000
DTEND;TZID=UTC:20170511T210000
DTSTAMP:20260425T122105
CREATED:20170331T165615Z
LAST-MODIFIED:20170331T165615Z
UID:3206-1494522000-1494536400@laceyblackmusic.com
SUMMARY:Durango Brewing Company
DESCRIPTION:Join Lacey and try some of this local brewery’s award-winning beers!
URL:https://laceyblackmusic.com/event/durango-brewing-company-2/
LOCATION:Durango Brewing Company\, 3000 Main Avenue\, Durango\, CO\, 81301\, United States
CATEGORIES:Singer-Songwriter
END:VEVENT
BEGIN:VEVENT
DTSTART;TZID=UTC:20170508T121500
DTEND;TZID=UTC:20170508T133000
DTSTAMP:20260425T122105
CREATED:20170331T165009Z
LAST-MODIFIED:20170331T165009Z
UID:3195-1494245700-1494250200@laceyblackmusic.com
SUMMARY:The Grand Restaurant and Saloon
DESCRIPTION:Join Lacey for lunch as she plays your piano favorites from yesteryear in this beautiful historic saloon\, formerly known as “Grumpy’s”!
URL:https://laceyblackmusic.com/event/the-grand-restaurant-and-saloon-3/
LOCATION:The Grand Restaurant and Saloon\, 1219 Greene Street\, Silverton\, CO\, 81433\, United States
CATEGORIES:Ragtime & Honky-Tonk
END:VEVENT
BEGIN:VEVENT
DTSTART;TZID=UTC:20170508T121500
DTEND;TZID=UTC:20170508T133000
DTSTAMP:20260425T122105
CREATED:20170331T165009Z
LAST-MODIFIED:20170331T165009Z
UID:3195-1494245700-1494250200@laceyblackmusic.com
SUMMARY:The Grand Restaurant and Saloon
DESCRIPTION:Join Lacey for lunch as she plays your piano favorites from yesteryear in this beautiful historic saloon\, formerly known as “Grumpy’s”!
URL:https://laceyblackmusic.com/event/the-grand-restaurant-and-saloon-3/
LOCATION:The Grand Restaurant and Saloon\, 1219 Greene Street\, Silverton\, CO\, 81433\, United States
CATEGORIES:Ragtime & Honky-Tonk
END:VEVENT
BEGIN:VEVENT
DTSTART;TZID=UTC:20170508T121500
DTEND;TZID=UTC:20170508T133000
DTSTAMP:20260425T122105
CREATED:20170331T165009Z
LAST-MODIFIED:20170331T165009Z
UID:3195-1494245700-1494250200@laceyblackmusic.com
SUMMARY:The Grand Restaurant and Saloon
DESCRIPTION:Join Lacey for lunch as she plays your piano favorites from yesteryear in this beautiful historic saloon\, formerly known as “Grumpy’s”!
URL:https://laceyblackmusic.com/event/the-grand-restaurant-and-saloon-3/
LOCATION:The Grand Restaurant and Saloon\, 1219 Greene Street\, Silverton\, CO\, 81433\, United States
CATEGORIES:Ragtime & Honky-Tonk
END:VEVENT
BEGIN:VEVENT
DTSTART;TZID=UTC:20170508T121500
DTEND;TZID=UTC:20170508T133000
DTSTAMP:20260425T122105
CREATED:20170331T165009Z
LAST-MODIFIED:20170331T165009Z
UID:3195-1494245700-1494250200@laceyblackmusic.com
SUMMARY:The Grand Restaurant and Saloon
DESCRIPTION:Join Lacey for lunch as she plays your piano favorites from yesteryear in this beautiful historic saloon\, formerly known as “Grumpy’s”!
URL:https://laceyblackmusic.com/event/the-grand-restaurant-and-saloon-3/
LOCATION:The Grand Restaurant and Saloon\, 1219 Greene Street\, Silverton\, CO\, 81433\, United States
CATEGORIES:Ragtime & Honky-Tonk
END:VEVENT
BEGIN:VEVENT
DTSTART;TZID=UTC:20170428T180000
DTEND;TZID=UTC:20170428T210000
DTSTAMP:20260425T122105
CREATED:20170331T170350Z
LAST-MODIFIED:20170331T170350Z
UID:3208-1493402400-1493413200@laceyblackmusic.com
SUMMARY:The Outlaw Restaurant
DESCRIPTION:Join Lacey as she plays your favorites from the last hundred years in this historic Ouray restaurant and bar!
URL:https://laceyblackmusic.com/event/the-outlaw-restaurant-61/
LOCATION:The Outlaw\, 610 Main St\, Ouray\, CO\, 81427\, United States
CATEGORIES:Ragtime & Honky-Tonk
END:VEVENT
BEGIN:VEVENT
DTSTART;TZID=UTC:20170428T180000
DTEND;TZID=UTC:20170428T210000
DTSTAMP:20260425T122105
CREATED:20170331T170350Z
LAST-MODIFIED:20170331T170350Z
UID:3208-1493402400-1493413200@laceyblackmusic.com
SUMMARY:The Outlaw Restaurant
DESCRIPTION:Join Lacey as she plays your favorites from the last hundred years in this historic Ouray restaurant and bar!
URL:https://laceyblackmusic.com/event/the-outlaw-restaurant-61/
LOCATION:The Outlaw\, 610 Main St\, Ouray\, CO\, 81427\, United States
CATEGORIES:Ragtime & Honky-Tonk
END:VEVENT
BEGIN:VEVENT
DTSTART;TZID=UTC:20170325T180000
DTEND;TZID=UTC:20170325T210000
DTSTAMP:20260425T122105
CREATED:20170302T181447Z
LAST-MODIFIED:20170302T181447Z
UID:2856-1490464800-1490475600@laceyblackmusic.com
SUMMARY:The Outlaw Restaurant
DESCRIPTION:Join Lacey as she plays your favorites from the last hundred years in this historic Ouray restaurant and bar!
URL:https://laceyblackmusic.com/event/the-outlaw-restaurant-60/
LOCATION:The Outlaw\, 610 Main St\, Ouray\, CO\, 81427\, United States
CATEGORIES:Ragtime & Honky-Tonk
END:VEVENT
BEGIN:VEVENT
DTSTART;TZID=UTC:20170324T180000
DTEND;TZID=UTC:20170324T210000
DTSTAMP:20260425T122105
CREATED:20170302T181419Z
LAST-MODIFIED:20170302T181419Z
UID:2854-1490378400-1490389200@laceyblackmusic.com
SUMMARY:The Outlaw Restaurant
DESCRIPTION:Join Lacey as she plays your favorites from the last hundred years in this historic Ouray restaurant and bar!
URL:https://laceyblackmusic.com/event/the-outlaw-restaurant-59/
LOCATION:The Outlaw\, 610 Main St\, Ouray\, CO\, 81427\, United States
CATEGORIES:Ragtime & Honky-Tonk
END:VEVENT
END:VCALENDAR