BEGIN:VCALENDAR
VERSION:2.0
PRODID:-//Lacey Black - ECPv6.15.20//NONSGML v1.0//EN
CALSCALE:GREGORIAN
METHOD:PUBLISH
X-ORIGINAL-URL:https://laceyblackmusic.com
X-WR-CALDESC:Events for Lacey Black
REFRESH-INTERVAL;VALUE=DURATION:PT1H
X-Robots-Tag:noindex
X-PUBLISHED-TTL:PT1H
BEGIN:VTIMEZONE
TZID:UTC
BEGIN:STANDARD
TZOFFSETFROM:+0000
TZOFFSETTO:+0000
TZNAME:UTC
DTSTART:20160101T000000
END:STANDARD
END:VTIMEZONE
BEGIN:VEVENT
DTSTART;TZID=UTC:20170828T113000
DTEND;TZID=UTC:20170828T143000
DTSTAMP:20260425T105432
CREATED:20170331T163650Z
LAST-MODIFIED:20170331T163650Z
UID:3070-1503919800-1503930600@laceyblackmusic.com
SUMMARY:The Grand Restaurant and Saloon
DESCRIPTION:Join Lacey for lunch as she plays your piano favorites from yesteryear in this beautiful historic saloon\, formerly known as “Grumpy’s”!
URL:https://laceyblackmusic.com/event/the-grand-restaurant-and-saloon-18/
LOCATION:The Grand Restaurant and Saloon\, 1219 Greene Street\, Silverton\, CO\, 81433\, United States
CATEGORIES:Ragtime & Honky-Tonk
END:VEVENT
BEGIN:VEVENT
DTSTART;TZID=UTC:20170825T180000
DTEND;TZID=UTC:20170825T210000
DTSTAMP:20260425T105432
CREATED:20170331T170954Z
LAST-MODIFIED:20170331T170954Z
UID:3237-1503684000-1503694800@laceyblackmusic.com
SUMMARY:The Outlaw Restaurant
DESCRIPTION:Join Lacey as she plays your favorites from the last hundred years in this historic Ouray restaurant and bar!
URL:https://laceyblackmusic.com/event/the-outlaw-restaurant-72/
LOCATION:The Outlaw\, 610 Main St\, Ouray\, CO\, 81427\, United States
CATEGORIES:Ragtime & Honky-Tonk
END:VEVENT
BEGIN:VEVENT
DTSTART;TZID=UTC:20170821T113000
DTEND;TZID=UTC:20170821T143000
DTSTAMP:20260425T105432
CREATED:20170331T163612Z
LAST-MODIFIED:20170331T163612Z
UID:3064-1503315000-1503325800@laceyblackmusic.com
SUMMARY:The Grand Restaurant and Saloon
DESCRIPTION:Join Lacey for lunch as she plays your piano favorites from yesteryear in this beautiful historic saloon\, formerly known as “Grumpy’s”!
URL:https://laceyblackmusic.com/event/the-grand-restaurant-and-saloon-17/
LOCATION:The Grand Restaurant and Saloon\, 1219 Greene Street\, Silverton\, CO\, 81433\, United States
CATEGORIES:Ragtime & Honky-Tonk
END:VEVENT
BEGIN:VEVENT
DTSTART;TZID=UTC:20170608T180000
DTEND;TZID=UTC:20170608T210000
DTSTAMP:20260425T105432
CREATED:20170331T171513Z
LAST-MODIFIED:20170331T171513Z
UID:3254-1496944800-1496955600@laceyblackmusic.com
SUMMARY:Thursdays With Lacey at the Grand Imperial
DESCRIPTION:Join Lacey for dinner as she serenades you with her originals and favorite modern cover songs\, on piano and guitar.
URL:https://laceyblackmusic.com/event/thursdays-with-lacey-at-the-grand-imperial-2/
LOCATION:The Grand Restaurant and Saloon\, 1219 Greene Street\, Silverton\, CO\, 81433\, United States
CATEGORIES:Singer-Songwriter
END:VEVENT
BEGIN:VEVENT
DTSTART;TZID=UTC:20170821T113000
DTEND;TZID=UTC:20170821T143000
DTSTAMP:20260425T105432
CREATED:20170331T163612Z
LAST-MODIFIED:20170331T163612Z
UID:3064-1503315000-1503325800@laceyblackmusic.com
SUMMARY:The Grand Restaurant and Saloon
DESCRIPTION:Join Lacey for lunch as she plays your piano favorites from yesteryear in this beautiful historic saloon\, formerly known as “Grumpy’s”!
URL:https://laceyblackmusic.com/event/the-grand-restaurant-and-saloon-17/
LOCATION:The Grand Restaurant and Saloon\, 1219 Greene Street\, Silverton\, CO\, 81433\, United States
CATEGORIES:Ragtime & Honky-Tonk
END:VEVENT
BEGIN:VEVENT
DTSTART;TZID=UTC:20170821T113000
DTEND;TZID=UTC:20170821T143000
DTSTAMP:20260425T105432
CREATED:20170331T163612Z
LAST-MODIFIED:20170331T163612Z
UID:3064-1503315000-1503325800@laceyblackmusic.com
SUMMARY:The Grand Restaurant and Saloon
DESCRIPTION:Join Lacey for lunch as she plays your piano favorites from yesteryear in this beautiful historic saloon\, formerly known as “Grumpy’s”!
URL:https://laceyblackmusic.com/event/the-grand-restaurant-and-saloon-17/
LOCATION:The Grand Restaurant and Saloon\, 1219 Greene Street\, Silverton\, CO\, 81433\, United States
CATEGORIES:Ragtime & Honky-Tonk
END:VEVENT
BEGIN:VEVENT
DTSTART;TZID=UTC:20170821T113000
DTEND;TZID=UTC:20170821T143000
DTSTAMP:20260425T105432
CREATED:20170331T163612Z
LAST-MODIFIED:20170331T163612Z
UID:3064-1503315000-1503325800@laceyblackmusic.com
SUMMARY:The Grand Restaurant and Saloon
DESCRIPTION:Join Lacey for lunch as she plays your piano favorites from yesteryear in this beautiful historic saloon\, formerly known as “Grumpy’s”!
URL:https://laceyblackmusic.com/event/the-grand-restaurant-and-saloon-17/
LOCATION:The Grand Restaurant and Saloon\, 1219 Greene Street\, Silverton\, CO\, 81433\, United States
CATEGORIES:Ragtime & Honky-Tonk
END:VEVENT
BEGIN:VEVENT
DTSTART;TZID=UTC:20170821T113000
DTEND;TZID=UTC:20170821T143000
DTSTAMP:20260425T105432
CREATED:20170331T163612Z
LAST-MODIFIED:20170331T163612Z
UID:3064-1503315000-1503325800@laceyblackmusic.com
SUMMARY:The Grand Restaurant and Saloon
DESCRIPTION:Join Lacey for lunch as she plays your piano favorites from yesteryear in this beautiful historic saloon\, formerly known as “Grumpy’s”!
URL:https://laceyblackmusic.com/event/the-grand-restaurant-and-saloon-17/
LOCATION:The Grand Restaurant and Saloon\, 1219 Greene Street\, Silverton\, CO\, 81433\, United States
CATEGORIES:Ragtime & Honky-Tonk
END:VEVENT
BEGIN:VEVENT
DTSTART;TZID=UTC:20170819T180000
DTEND;TZID=UTC:20170819T210000
DTSTAMP:20260425T105432
CREATED:20170331T170932Z
LAST-MODIFIED:20170804T170926Z
UID:3236-1503165600-1503176400@laceyblackmusic.com
SUMMARY:The Outlaw Restaurant
DESCRIPTION:Join Lacey as she plays your favorites from the last hundred years in this historic Ouray restaurant and bar!
URL:https://laceyblackmusic.com/event/the-outlaw-restaurant-71-2017-08-19/
LOCATION:The Outlaw\, 610 Main St\, Ouray\, CO\, 81427\, United States
CATEGORIES:Ragtime & Honky-Tonk
END:VEVENT
BEGIN:VEVENT
DTSTART;TZID=UTC:20170814T113000
DTEND;TZID=UTC:20170814T143000
DTSTAMP:20260425T105432
CREATED:20170331T163540Z
LAST-MODIFIED:20170331T163540Z
UID:3057-1502710200-1502721000@laceyblackmusic.com
SUMMARY:The Grand Restaurant and Saloon
DESCRIPTION:Join Lacey for lunch as she plays your piano favorites from yesteryear in this beautiful historic saloon\, formerly known as “Grumpy’s”!
URL:https://laceyblackmusic.com/event/the-grand-restaurant-and-saloon-16/
LOCATION:The Grand Restaurant and Saloon\, 1219 Greene Street\, Silverton\, CO\, 81433\, United States
CATEGORIES:Ragtime & Honky-Tonk
END:VEVENT
BEGIN:VEVENT
DTSTART;TZID=UTC:20170818T183000
DTEND;TZID=UTC:20170818T213000
DTSTAMP:20260425T105432
CREATED:20170331T170932Z
LAST-MODIFIED:20170804T171151Z
UID:3234-1503081000-1503091800@laceyblackmusic.com
SUMMARY:Purgatory Mushroom and Wine Festival
DESCRIPTION:Join Lacey at The Durango Mountain Club at Purgatory Resort for the Mushroom and Wine festival dinner\, featuring local chefs and local mushrooms!
URL:https://laceyblackmusic.com/event/purgatory-mushroom-wine-festival/
LOCATION:Purgatory Resort\, #1 Skier Place\, Durango\, CO\, 81301\, United States
CATEGORIES:Ragtime & Honky-Tonk
END:VEVENT
BEGIN:VEVENT
DTSTART;TZID=UTC:20170814T113000
DTEND;TZID=UTC:20170814T143000
DTSTAMP:20260425T105432
CREATED:20170331T163540Z
LAST-MODIFIED:20170331T163540Z
UID:3057-1502710200-1502721000@laceyblackmusic.com
SUMMARY:The Grand Restaurant and Saloon
DESCRIPTION:Join Lacey for lunch as she plays your piano favorites from yesteryear in this beautiful historic saloon\, formerly known as “Grumpy’s”!
URL:https://laceyblackmusic.com/event/the-grand-restaurant-and-saloon-16/
LOCATION:The Grand Restaurant and Saloon\, 1219 Greene Street\, Silverton\, CO\, 81433\, United States
CATEGORIES:Ragtime & Honky-Tonk
END:VEVENT
BEGIN:VEVENT
DTSTART;TZID=UTC:20170608T180000
DTEND;TZID=UTC:20170608T210000
DTSTAMP:20260425T105432
CREATED:20170331T171513Z
LAST-MODIFIED:20170331T171513Z
UID:3254-1496944800-1496955600@laceyblackmusic.com
SUMMARY:Thursdays With Lacey at the Grand Imperial
DESCRIPTION:Join Lacey for dinner as she serenades you with her originals and favorite modern cover songs\, on piano and guitar.
URL:https://laceyblackmusic.com/event/thursdays-with-lacey-at-the-grand-imperial-2/
LOCATION:The Grand Restaurant and Saloon\, 1219 Greene Street\, Silverton\, CO\, 81433\, United States
CATEGORIES:Singer-Songwriter
END:VEVENT
BEGIN:VEVENT
DTSTART;TZID=UTC:20170814T113000
DTEND;TZID=UTC:20170814T143000
DTSTAMP:20260425T105432
CREATED:20170331T163540Z
LAST-MODIFIED:20170331T163540Z
UID:3057-1502710200-1502721000@laceyblackmusic.com
SUMMARY:The Grand Restaurant and Saloon
DESCRIPTION:Join Lacey for lunch as she plays your piano favorites from yesteryear in this beautiful historic saloon\, formerly known as “Grumpy’s”!
URL:https://laceyblackmusic.com/event/the-grand-restaurant-and-saloon-16/
LOCATION:The Grand Restaurant and Saloon\, 1219 Greene Street\, Silverton\, CO\, 81433\, United States
CATEGORIES:Ragtime & Honky-Tonk
END:VEVENT
BEGIN:VEVENT
DTSTART;TZID=UTC:20170814T113000
DTEND;TZID=UTC:20170814T143000
DTSTAMP:20260425T105432
CREATED:20170331T163540Z
LAST-MODIFIED:20170331T163540Z
UID:3057-1502710200-1502721000@laceyblackmusic.com
SUMMARY:The Grand Restaurant and Saloon
DESCRIPTION:Join Lacey for lunch as she plays your piano favorites from yesteryear in this beautiful historic saloon\, formerly known as “Grumpy’s”!
URL:https://laceyblackmusic.com/event/the-grand-restaurant-and-saloon-16/
LOCATION:The Grand Restaurant and Saloon\, 1219 Greene Street\, Silverton\, CO\, 81433\, United States
CATEGORIES:Ragtime & Honky-Tonk
END:VEVENT
BEGIN:VEVENT
DTSTART;TZID=UTC:20170814T113000
DTEND;TZID=UTC:20170814T143000
DTSTAMP:20260425T105432
CREATED:20170331T163540Z
LAST-MODIFIED:20170331T163540Z
UID:3057-1502710200-1502721000@laceyblackmusic.com
SUMMARY:The Grand Restaurant and Saloon
DESCRIPTION:Join Lacey for lunch as she plays your piano favorites from yesteryear in this beautiful historic saloon\, formerly known as “Grumpy’s”!
URL:https://laceyblackmusic.com/event/the-grand-restaurant-and-saloon-16/
LOCATION:The Grand Restaurant and Saloon\, 1219 Greene Street\, Silverton\, CO\, 81433\, United States
CATEGORIES:Ragtime & Honky-Tonk
END:VEVENT
BEGIN:VEVENT
DTSTART;TZID=UTC:20170814T113000
DTEND;TZID=UTC:20170814T143000
DTSTAMP:20260425T105432
CREATED:20170331T163540Z
LAST-MODIFIED:20170331T163540Z
UID:3057-1502710200-1502721000@laceyblackmusic.com
SUMMARY:The Grand Restaurant and Saloon
DESCRIPTION:Join Lacey for lunch as she plays your piano favorites from yesteryear in this beautiful historic saloon\, formerly known as “Grumpy’s”!
URL:https://laceyblackmusic.com/event/the-grand-restaurant-and-saloon-16/
LOCATION:The Grand Restaurant and Saloon\, 1219 Greene Street\, Silverton\, CO\, 81433\, United States
CATEGORIES:Ragtime & Honky-Tonk
END:VEVENT
BEGIN:VEVENT
DTSTART;TZID=UTC:20170811T180000
DTEND;TZID=UTC:20170811T210000
DTSTAMP:20260425T105432
CREATED:20170331T171717Z
LAST-MODIFIED:20170331T171717Z
UID:3274-1502474400-1502485200@laceyblackmusic.com
SUMMARY:Fox Fire Farms
DESCRIPTION:Come and take in the country life as you taste fine wines\, enjoy gourmet local food\, and listen to Lacey!
URL:https://laceyblackmusic.com/event/fox-fire-farms-15/
LOCATION:Fox Fire Farms\, 5513 CR 321\, Ignacio\, CO\, 81137\, United States
CATEGORIES:Singer-Songwriter
END:VEVENT
BEGIN:VEVENT
DTSTART;TZID=UTC:20170807T113000
DTEND;TZID=UTC:20170807T143000
DTSTAMP:20260425T105432
CREATED:20170331T163443Z
LAST-MODIFIED:20170331T163443Z
UID:3051-1502105400-1502116200@laceyblackmusic.com
SUMMARY:The Grand Restaurant and Saloon
DESCRIPTION:Join Lacey for lunch as she plays your piano favorites from yesteryear in this beautiful historic saloon\, formerly known as “Grumpy’s”!
URL:https://laceyblackmusic.com/event/the-grand-restaurant-and-saloon-15/
LOCATION:The Grand Restaurant and Saloon\, 1219 Greene Street\, Silverton\, CO\, 81433\, United States
CATEGORIES:Ragtime & Honky-Tonk
END:VEVENT
BEGIN:VEVENT
DTSTART;TZID=UTC:20170608T180000
DTEND;TZID=UTC:20170608T210000
DTSTAMP:20260425T105432
CREATED:20170331T171513Z
LAST-MODIFIED:20170331T171513Z
UID:3254-1496944800-1496955600@laceyblackmusic.com
SUMMARY:Thursdays With Lacey at the Grand Imperial
DESCRIPTION:Join Lacey for dinner as she serenades you with her originals and favorite modern cover songs\, on piano and guitar.
URL:https://laceyblackmusic.com/event/thursdays-with-lacey-at-the-grand-imperial-2/
LOCATION:The Grand Restaurant and Saloon\, 1219 Greene Street\, Silverton\, CO\, 81433\, United States
CATEGORIES:Singer-Songwriter
END:VEVENT
BEGIN:VEVENT
DTSTART;TZID=UTC:20170807T113000
DTEND;TZID=UTC:20170807T143000
DTSTAMP:20260425T105432
CREATED:20170331T163443Z
LAST-MODIFIED:20170331T163443Z
UID:3051-1502105400-1502116200@laceyblackmusic.com
SUMMARY:The Grand Restaurant and Saloon
DESCRIPTION:Join Lacey for lunch as she plays your piano favorites from yesteryear in this beautiful historic saloon\, formerly known as “Grumpy’s”!
URL:https://laceyblackmusic.com/event/the-grand-restaurant-and-saloon-15/
LOCATION:The Grand Restaurant and Saloon\, 1219 Greene Street\, Silverton\, CO\, 81433\, United States
CATEGORIES:Ragtime & Honky-Tonk
END:VEVENT
BEGIN:VEVENT
DTSTART;TZID=UTC:20170807T113000
DTEND;TZID=UTC:20170807T143000
DTSTAMP:20260425T105432
CREATED:20170331T163443Z
LAST-MODIFIED:20170331T163443Z
UID:3051-1502105400-1502116200@laceyblackmusic.com
SUMMARY:The Grand Restaurant and Saloon
DESCRIPTION:Join Lacey for lunch as she plays your piano favorites from yesteryear in this beautiful historic saloon\, formerly known as “Grumpy’s”!
URL:https://laceyblackmusic.com/event/the-grand-restaurant-and-saloon-15/
LOCATION:The Grand Restaurant and Saloon\, 1219 Greene Street\, Silverton\, CO\, 81433\, United States
CATEGORIES:Ragtime & Honky-Tonk
END:VEVENT
BEGIN:VEVENT
DTSTART;TZID=UTC:20170807T113000
DTEND;TZID=UTC:20170807T143000
DTSTAMP:20260425T105432
CREATED:20170331T163443Z
LAST-MODIFIED:20170331T163443Z
UID:3051-1502105400-1502116200@laceyblackmusic.com
SUMMARY:The Grand Restaurant and Saloon
DESCRIPTION:Join Lacey for lunch as she plays your piano favorites from yesteryear in this beautiful historic saloon\, formerly known as “Grumpy’s”!
URL:https://laceyblackmusic.com/event/the-grand-restaurant-and-saloon-15/
LOCATION:The Grand Restaurant and Saloon\, 1219 Greene Street\, Silverton\, CO\, 81433\, United States
CATEGORIES:Ragtime & Honky-Tonk
END:VEVENT
BEGIN:VEVENT
DTSTART;TZID=UTC:20170807T113000
DTEND;TZID=UTC:20170807T143000
DTSTAMP:20260425T105432
CREATED:20170331T163443Z
LAST-MODIFIED:20170331T163443Z
UID:3051-1502105400-1502116200@laceyblackmusic.com
SUMMARY:The Grand Restaurant and Saloon
DESCRIPTION:Join Lacey for lunch as she plays your piano favorites from yesteryear in this beautiful historic saloon\, formerly known as “Grumpy’s”!
URL:https://laceyblackmusic.com/event/the-grand-restaurant-and-saloon-15/
LOCATION:The Grand Restaurant and Saloon\, 1219 Greene Street\, Silverton\, CO\, 81433\, United States
CATEGORIES:Ragtime & Honky-Tonk
END:VEVENT
BEGIN:VEVENT
DTSTART;TZID=UTC:20170804T180000
DTEND;TZID=UTC:20170804T210000
DTSTAMP:20260425T105432
CREATED:20170331T170907Z
LAST-MODIFIED:20170331T170907Z
UID:3231-1501869600-1501880400@laceyblackmusic.com
SUMMARY:The Outlaw Restaurant
DESCRIPTION:Join Lacey as she plays your favorites from the last hundred years in this historic Ouray restaurant and bar!
URL:https://laceyblackmusic.com/event/the-outlaw-restaurant-70/
LOCATION:The Outlaw\, 610 Main St\, Ouray\, CO\, 81427\, United States
CATEGORIES:Ragtime & Honky-Tonk
END:VEVENT
BEGIN:VEVENT
DTSTART;TZID=UTC:20170804T180000
DTEND;TZID=UTC:20170804T210000
DTSTAMP:20260425T105432
CREATED:20170331T170907Z
LAST-MODIFIED:20170331T170907Z
UID:3231-1501869600-1501880400@laceyblackmusic.com
SUMMARY:The Outlaw Restaurant
DESCRIPTION:Join Lacey as she plays your favorites from the last hundred years in this historic Ouray restaurant and bar!
URL:https://laceyblackmusic.com/event/the-outlaw-restaurant-70/
LOCATION:The Outlaw\, 610 Main St\, Ouray\, CO\, 81427\, United States
CATEGORIES:Ragtime & Honky-Tonk
END:VEVENT
BEGIN:VEVENT
DTSTART;TZID=UTC:20170731T113000
DTEND;TZID=UTC:20170731T143000
DTSTAMP:20260425T105432
CREATED:20170331T163340Z
LAST-MODIFIED:20170331T163340Z
UID:3044-1501500600-1501511400@laceyblackmusic.com
SUMMARY:The Grand Restaurant and Saloon
DESCRIPTION:Join Lacey for lunch as she plays your piano favorites from yesteryear in this beautiful historic saloon\, formerly known as “Grumpy’s”!
URL:https://laceyblackmusic.com/event/the-grand-restaurant-and-saloon-14/
LOCATION:The Grand Restaurant and Saloon\, 1219 Greene Street\, Silverton\, CO\, 81433\, United States
CATEGORIES:Ragtime & Honky-Tonk
END:VEVENT
BEGIN:VEVENT
DTSTART;TZID=UTC:20170608T180000
DTEND;TZID=UTC:20170608T210000
DTSTAMP:20260425T105432
CREATED:20170331T171513Z
LAST-MODIFIED:20170331T171513Z
UID:3254-1496944800-1496955600@laceyblackmusic.com
SUMMARY:Thursdays With Lacey at the Grand Imperial
DESCRIPTION:Join Lacey for dinner as she serenades you with her originals and favorite modern cover songs\, on piano and guitar.
URL:https://laceyblackmusic.com/event/thursdays-with-lacey-at-the-grand-imperial-2/
LOCATION:The Grand Restaurant and Saloon\, 1219 Greene Street\, Silverton\, CO\, 81433\, United States
CATEGORIES:Singer-Songwriter
END:VEVENT
BEGIN:VEVENT
DTSTART;TZID=UTC:20170731T113000
DTEND;TZID=UTC:20170731T143000
DTSTAMP:20260425T105432
CREATED:20170331T163340Z
LAST-MODIFIED:20170331T163340Z
UID:3044-1501500600-1501511400@laceyblackmusic.com
SUMMARY:The Grand Restaurant and Saloon
DESCRIPTION:Join Lacey for lunch as she plays your piano favorites from yesteryear in this beautiful historic saloon\, formerly known as “Grumpy’s”!
URL:https://laceyblackmusic.com/event/the-grand-restaurant-and-saloon-14/
LOCATION:The Grand Restaurant and Saloon\, 1219 Greene Street\, Silverton\, CO\, 81433\, United States
CATEGORIES:Ragtime & Honky-Tonk
END:VEVENT
BEGIN:VEVENT
DTSTART;TZID=UTC:20170731T113000
DTEND;TZID=UTC:20170731T143000
DTSTAMP:20260425T105432
CREATED:20170331T163340Z
LAST-MODIFIED:20170331T163340Z
UID:3044-1501500600-1501511400@laceyblackmusic.com
SUMMARY:The Grand Restaurant and Saloon
DESCRIPTION:Join Lacey for lunch as she plays your piano favorites from yesteryear in this beautiful historic saloon\, formerly known as “Grumpy’s”!
URL:https://laceyblackmusic.com/event/the-grand-restaurant-and-saloon-14/
LOCATION:The Grand Restaurant and Saloon\, 1219 Greene Street\, Silverton\, CO\, 81433\, United States
CATEGORIES:Ragtime & Honky-Tonk
END:VEVENT
END:VCALENDAR