BEGIN:VCALENDAR
VERSION:2.0
PRODID:-//Lacey Black - ECPv6.15.20//NONSGML v1.0//EN
CALSCALE:GREGORIAN
METHOD:PUBLISH
X-ORIGINAL-URL:https://laceyblackmusic.com
X-WR-CALDESC:Events for Lacey Black
REFRESH-INTERVAL;VALUE=DURATION:PT1H
X-Robots-Tag:noindex
X-PUBLISHED-TTL:PT1H
BEGIN:VTIMEZONE
TZID:UTC
BEGIN:STANDARD
TZOFFSETFROM:+0000
TZOFFSETTO:+0000
TZNAME:UTC
DTSTART:20150101T000000
END:STANDARD
END:VTIMEZONE
BEGIN:VEVENT
DTSTART;TZID=UTC:20170608T180000
DTEND;TZID=UTC:20170608T210000
DTSTAMP:20260425T022232
CREATED:20170331T171513Z
LAST-MODIFIED:20170331T171513Z
UID:3254-1496944800-1496955600@laceyblackmusic.com
SUMMARY:Thursdays With Lacey at the Grand Imperial
DESCRIPTION:Join Lacey for dinner as she serenades you with her originals and favorite modern cover songs\, on piano and guitar.
URL:https://laceyblackmusic.com/event/thursdays-with-lacey-at-the-grand-imperial-2/
LOCATION:The Grand Restaurant and Saloon\, 1219 Greene Street\, Silverton\, CO\, 81433\, United States
CATEGORIES:Singer-Songwriter
END:VEVENT
BEGIN:VEVENT
DTSTART;TZID=UTC:20170608T180000
DTEND;TZID=UTC:20170608T210000
DTSTAMP:20260425T022232
CREATED:20170331T171513Z
LAST-MODIFIED:20170331T171513Z
UID:3254-1496944800-1496955600@laceyblackmusic.com
SUMMARY:Thursdays With Lacey at the Grand Imperial
DESCRIPTION:Join Lacey for dinner as she serenades you with her originals and favorite modern cover songs\, on piano and guitar.
URL:https://laceyblackmusic.com/event/thursdays-with-lacey-at-the-grand-imperial-2/
LOCATION:The Grand Restaurant and Saloon\, 1219 Greene Street\, Silverton\, CO\, 81433\, United States
CATEGORIES:Singer-Songwriter
END:VEVENT
BEGIN:VEVENT
DTSTART;TZID=UTC:20170722T170000
DTEND;TZID=UTC:20170722T200000
DTSTAMP:20260425T022232
CREATED:20170331T171353Z
LAST-MODIFIED:20170331T171353Z
UID:3252-1500742800-1500753600@laceyblackmusic.com
SUMMARY:Serious Texas BBQ South
DESCRIPTION:Listen to the river in the distance from the patio as you listen to Lacey at this iconic Durango BBQ!
URL:https://laceyblackmusic.com/event/serious-texas-bbq-south-15/
LOCATION:Serious Texas BBQ South\, 650 Camino Del Rio\, Durango\, CO\, 81303\, United States
CATEGORIES:Singer-Songwriter
END:VEVENT
BEGIN:VEVENT
DTSTART;TZID=UTC:20170608T180000
DTEND;TZID=UTC:20170608T210000
DTSTAMP:20260425T022232
CREATED:20170331T171513Z
LAST-MODIFIED:20170331T171513Z
UID:3254-1496944800-1496955600@laceyblackmusic.com
SUMMARY:Thursdays With Lacey at the Grand Imperial
DESCRIPTION:Join Lacey for dinner as she serenades you with her originals and favorite modern cover songs\, on piano and guitar.
URL:https://laceyblackmusic.com/event/thursdays-with-lacey-at-the-grand-imperial-2/
LOCATION:The Grand Restaurant and Saloon\, 1219 Greene Street\, Silverton\, CO\, 81433\, United States
CATEGORIES:Singer-Songwriter
END:VEVENT
BEGIN:VEVENT
DTSTART;TZID=UTC:20170608T180000
DTEND;TZID=UTC:20170608T210000
DTSTAMP:20260425T022232
CREATED:20170331T171513Z
LAST-MODIFIED:20170331T171513Z
UID:3254-1496944800-1496955600@laceyblackmusic.com
SUMMARY:Thursdays With Lacey at the Grand Imperial
DESCRIPTION:Join Lacey for dinner as she serenades you with her originals and favorite modern cover songs\, on piano and guitar.
URL:https://laceyblackmusic.com/event/thursdays-with-lacey-at-the-grand-imperial-2/
LOCATION:The Grand Restaurant and Saloon\, 1219 Greene Street\, Silverton\, CO\, 81433\, United States
CATEGORIES:Singer-Songwriter
END:VEVENT
BEGIN:VEVENT
DTSTART;TZID=UTC:20170707T180000
DTEND;TZID=UTC:20170707T210000
DTSTAMP:20260425T022232
CREATED:20170331T171658Z
LAST-MODIFIED:20170331T171658Z
UID:3272-1499450400-1499461200@laceyblackmusic.com
SUMMARY:Fox Fire Farms
DESCRIPTION:Come and take in the country life as you taste fine wines\, enjoy gourmet local food\, and listen to Lacey!
URL:https://laceyblackmusic.com/event/fox-fire-farms-14/
LOCATION:Fox Fire Farms\, 5513 CR 321\, Ignacio\, CO\, 81137\, United States
CATEGORIES:Singer-Songwriter
END:VEVENT
BEGIN:VEVENT
DTSTART;TZID=UTC:20170608T180000
DTEND;TZID=UTC:20170608T210000
DTSTAMP:20260425T022232
CREATED:20170331T171513Z
LAST-MODIFIED:20170331T171513Z
UID:3254-1496944800-1496955600@laceyblackmusic.com
SUMMARY:Thursdays With Lacey at the Grand Imperial
DESCRIPTION:Join Lacey for dinner as she serenades you with her originals and favorite modern cover songs\, on piano and guitar.
URL:https://laceyblackmusic.com/event/thursdays-with-lacey-at-the-grand-imperial-2/
LOCATION:The Grand Restaurant and Saloon\, 1219 Greene Street\, Silverton\, CO\, 81433\, United States
CATEGORIES:Singer-Songwriter
END:VEVENT
BEGIN:VEVENT
DTSTART;TZID=UTC:20170608T180000
DTEND;TZID=UTC:20170608T210000
DTSTAMP:20260425T022232
CREATED:20170331T171513Z
LAST-MODIFIED:20170331T171513Z
UID:3254-1496944800-1496955600@laceyblackmusic.com
SUMMARY:Thursdays With Lacey at the Grand Imperial
DESCRIPTION:Join Lacey for dinner as she serenades you with her originals and favorite modern cover songs\, on piano and guitar.
URL:https://laceyblackmusic.com/event/thursdays-with-lacey-at-the-grand-imperial-2/
LOCATION:The Grand Restaurant and Saloon\, 1219 Greene Street\, Silverton\, CO\, 81433\, United States
CATEGORIES:Singer-Songwriter
END:VEVENT
BEGIN:VEVENT
DTSTART;TZID=UTC:20170608T180000
DTEND;TZID=UTC:20170608T210000
DTSTAMP:20260425T022232
CREATED:20170331T171513Z
LAST-MODIFIED:20170331T171513Z
UID:3254-1496944800-1496955600@laceyblackmusic.com
SUMMARY:Thursdays With Lacey at the Grand Imperial
DESCRIPTION:Join Lacey for dinner as she serenades you with her originals and favorite modern cover songs\, on piano and guitar.
URL:https://laceyblackmusic.com/event/thursdays-with-lacey-at-the-grand-imperial-2/
LOCATION:The Grand Restaurant and Saloon\, 1219 Greene Street\, Silverton\, CO\, 81433\, United States
CATEGORIES:Singer-Songwriter
END:VEVENT
BEGIN:VEVENT
DTSTART;TZID=UTC:20170616T170000
DTEND;TZID=UTC:20170616T200000
DTSTAMP:20260425T022232
CREATED:20170331T171242Z
LAST-MODIFIED:20170331T171242Z
UID:3248-1497632400-1497643200@laceyblackmusic.com
SUMMARY:Serious Texas BBQ South
DESCRIPTION:Listen to the river in the distance from the patio as you listen to Lacey at this iconic Durango BBQ!
URL:https://laceyblackmusic.com/event/serious-texas-bbq-south-13/
LOCATION:Serious Texas BBQ South\, 650 Camino Del Rio\, Durango\, CO\, 81303\, United States
CATEGORIES:Singer-Songwriter
END:VEVENT
BEGIN:VEVENT
DTSTART;TZID=UTC:20170608T180000
DTEND;TZID=UTC:20170608T210000
DTSTAMP:20260425T022232
CREATED:20170331T171513Z
LAST-MODIFIED:20170331T171513Z
UID:3254-1496944800-1496955600@laceyblackmusic.com
SUMMARY:Thursdays With Lacey at the Grand Imperial
DESCRIPTION:Join Lacey for dinner as she serenades you with her originals and favorite modern cover songs\, on piano and guitar.
URL:https://laceyblackmusic.com/event/thursdays-with-lacey-at-the-grand-imperial-2/
LOCATION:The Grand Restaurant and Saloon\, 1219 Greene Street\, Silverton\, CO\, 81433\, United States
CATEGORIES:Singer-Songwriter
END:VEVENT
BEGIN:VEVENT
DTSTART;TZID=UTC:20170609T180000
DTEND;TZID=UTC:20170609T210000
DTSTAMP:20260425T022232
CREATED:20170331T171640Z
LAST-MODIFIED:20170331T171640Z
UID:3270-1497031200-1497042000@laceyblackmusic.com
SUMMARY:Fox Fire Farms
DESCRIPTION:Come and take in the country life as you taste fine wines\, enjoy gourmet local food\, and listen to Lacey!
URL:https://laceyblackmusic.com/event/fox-fire-farms-13/
LOCATION:Fox Fire Farms\, 5513 CR 321\, Ignacio\, CO\, 81137\, United States
CATEGORIES:Singer-Songwriter
END:VEVENT
BEGIN:VEVENT
DTSTART;TZID=UTC:20170608T180000
DTEND;TZID=UTC:20170608T210000
DTSTAMP:20260425T022232
CREATED:20170331T171513Z
LAST-MODIFIED:20170331T171513Z
UID:3254-1496944800-1496955600@laceyblackmusic.com
SUMMARY:Thursdays With Lacey at the Grand Imperial
DESCRIPTION:Join Lacey for dinner as she serenades you with her originals and favorite modern cover songs\, on piano and guitar.
URL:https://laceyblackmusic.com/event/thursdays-with-lacey-at-the-grand-imperial-2/
LOCATION:The Grand Restaurant and Saloon\, 1219 Greene Street\, Silverton\, CO\, 81433\, United States
CATEGORIES:Singer-Songwriter
END:VEVENT
BEGIN:VEVENT
DTSTART;TZID=UTC:20170527T170000
DTEND;TZID=UTC:20170527T200000
DTSTAMP:20260425T022232
CREATED:20160409T173015Z
LAST-MODIFIED:20170331T171221Z
UID:2615-1495904400-1495915200@laceyblackmusic.com
SUMMARY:Serious Texas BBQ South
DESCRIPTION:Listen to the river in the distance from the patio as you listen to Lacey at this iconic Durango BBQ!
URL:https://laceyblackmusic.com/event/serious-texas-bbq-south-12/
LOCATION:Serious Texas BBQ South\, 650 Camino Del Rio\, Durango\, CO\, 81303\, United States
CATEGORIES:Singer-Songwriter
END:VEVENT
BEGIN:VEVENT
DTSTART;TZID=UTC:20170525T180000
DTEND;TZID=UTC:20170525T200000
DTSTAMP:20260425T022232
CREATED:20170331T165509Z
LAST-MODIFIED:20170331T165509Z
UID:3203-1495735200-1495742400@laceyblackmusic.com
SUMMARY:The Swing Restaurant at Dalton Ranch
DESCRIPTION:Take in the stunning views of the Animas Valley while listening to Lacey as she sings and plays at this on-the-green restaurant at Dalton Ranch Golf Club!
URL:https://laceyblackmusic.com/event/the-swing-restaurant-at-dalton-ranch/
LOCATION:The Swing Restaurant\, 589 County Road 252\, Durango\, CO\, 81301\, United States
CATEGORIES:Singer-Songwriter
END:VEVENT
BEGIN:VEVENT
DTSTART;TZID=UTC:20170511T170000
DTEND;TZID=UTC:20170511T210000
DTSTAMP:20260425T022232
CREATED:20170331T165615Z
LAST-MODIFIED:20170331T165615Z
UID:3206-1494522000-1494536400@laceyblackmusic.com
SUMMARY:Durango Brewing Company
DESCRIPTION:Join Lacey and try some of this local brewery’s award-winning beers!
URL:https://laceyblackmusic.com/event/durango-brewing-company-2/
LOCATION:Durango Brewing Company\, 3000 Main Avenue\, Durango\, CO\, 81301\, United States
CATEGORIES:Singer-Songwriter
END:VEVENT
BEGIN:VEVENT
DTSTART;TZID=UTC:20160930T180000
DTEND;TZID=UTC:20160930T210000
DTSTAMP:20260425T022232
CREATED:20160921T213129Z
LAST-MODIFIED:20160921T213129Z
UID:2608-1475258400-1475269200@laceyblackmusic.com
SUMMARY:Fox Fire Farms
DESCRIPTION:Come and take in the country life as you taste fine wines\, enjoy gourmet local food\, and listen to Lacey!
URL:https://laceyblackmusic.com/event/fox-fire-farms-12/
LOCATION:Fox Fire Farms\, 5513 CR 321\, Ignacio\, CO\, 81137\, United States
CATEGORIES:Singer-Songwriter
END:VEVENT
BEGIN:VEVENT
DTSTART;TZID=UTC:20160823T180000
DTEND;TZID=UTC:20160823T203000
DTSTAMP:20260425T022232
CREATED:20160630T163040Z
LAST-MODIFIED:20160726T153245Z
UID:2667-1471975200-1471984200@laceyblackmusic.com
SUMMARY:Fifth Street Eatery
DESCRIPTION:Join Lacey outside for music\, refreshing beverages\, and the best chicken you’ll ever have in your life!
URL:https://laceyblackmusic.com/event/fifth-street-eatery-5/
LOCATION:Fifth Street Eatery\, 139 E 5th Street\, Durango\, CO\, 81301\, United States
CATEGORIES:Singer-Songwriter
END:VEVENT
BEGIN:VEVENT
DTSTART;TZID=UTC:20160816T180000
DTEND;TZID=UTC:20160816T203000
DTSTAMP:20260425T022232
CREATED:20160630T162953Z
LAST-MODIFIED:20160726T153322Z
UID:2666-1471370400-1471379400@laceyblackmusic.com
SUMMARY:Fifth Street Eatery
DESCRIPTION:Join Lacey outside for music\, refreshing beverages\, and the best chicken you’ll ever have in your life!
URL:https://laceyblackmusic.com/event/fifth-street-eatery-4/
LOCATION:Fifth Street Eatery\, 139 E 5th Street\, Durango\, CO\, 81301\, United States
CATEGORIES:Singer-Songwriter
END:VEVENT
BEGIN:VEVENT
DTSTART;TZID=UTC:20160810T180000
DTEND;TZID=UTC:20160810T203000
DTSTAMP:20260425T022232
CREATED:20160630T162911Z
LAST-MODIFIED:20160726T153800Z
UID:2665-1470852000-1470861000@laceyblackmusic.com
SUMMARY:Fifth Street Eatery
DESCRIPTION:Join Lacey outside for music\, refreshing beverages\, and the best chicken you’ll ever have in your life!
URL:https://laceyblackmusic.com/event/fifth-street-eatery-3/
LOCATION:Fifth Street Eatery\, 139 E 5th Street\, Durango\, CO\, 81301\, United States
CATEGORIES:Singer-Songwriter
END:VEVENT
BEGIN:VEVENT
DTSTART;TZID=UTC:20160805T180000
DTEND;TZID=UTC:20160805T210000
DTSTAMP:20260425T022232
CREATED:20160409T172750Z
LAST-MODIFIED:20160409T172750Z
UID:2611-1470420000-1470430800@laceyblackmusic.com
SUMMARY:Fox Fire Farms
DESCRIPTION:Come and take in the country life as you taste fine wines\, enjoy gourmet local food\, and listen to Lacey!
URL:https://laceyblackmusic.com/event/fox-fire-farms-11/
LOCATION:Fox Fire Farms\, 5513 CR 321\, Ignacio\, CO\, 81137\, United States
CATEGORIES:Singer-Songwriter
END:VEVENT
BEGIN:VEVENT
DTSTART;TZID=UTC:20160729T170000
DTEND;TZID=UTC:20160729T200000
DTSTAMP:20260425T022232
CREATED:20160409T172954Z
LAST-MODIFIED:20160409T172954Z
UID:2614-1469811600-1469822400@laceyblackmusic.com
SUMMARY:Serious Texas BBQ South
DESCRIPTION:Listen to the river in the distance from the patio as you listen to Lacey at this iconic Durango BBQ!
URL:https://laceyblackmusic.com/event/serious-texas-bbq-south-11/
LOCATION:Serious Texas BBQ South\, 650 Camino Del Rio\, Durango\, CO\, 81303\, United States
CATEGORIES:Singer-Songwriter
END:VEVENT
BEGIN:VEVENT
DTSTART;TZID=UTC:20160727T180000
DTEND;TZID=UTC:20160727T203000
DTSTAMP:20260425T022232
CREATED:20160630T162822Z
LAST-MODIFIED:20160726T153909Z
UID:2664-1469642400-1469651400@laceyblackmusic.com
SUMMARY:Fifth Street Eatery
DESCRIPTION:Join Lacey outside for music\, refreshing beverages\, and the best chicken you’ll ever have in your life!
URL:https://laceyblackmusic.com/event/fifth-street-eatery-2/
LOCATION:Fifth Street Eatery\, 139 E 5th Street\, Durango\, CO\, 81301\, United States
CATEGORIES:Singer-Songwriter
END:VEVENT
BEGIN:VEVENT
DTSTART;TZID=UTC:20160719T170000
DTEND;TZID=UTC:20160719T200000
DTSTAMP:20260425T022232
CREATED:20160630T162728Z
LAST-MODIFIED:20160630T162745Z
UID:2662-1468947600-1468958400@laceyblackmusic.com
SUMMARY:Fifth Street Eatery
DESCRIPTION:Join Lacey outside for music\, refreshing beverages\, and the best chicken you’ll ever have in your life!
URL:https://laceyblackmusic.com/event/fifth-street-eatery/
LOCATION:Fifth Street Eatery\, 139 E 5th Street\, Durango\, CO\, 81301\, United States
CATEGORIES:Singer-Songwriter
END:VEVENT
BEGIN:VEVENT
DTSTART;TZID=UTC:20160713T180000
DTEND;TZID=UTC:20160713T210000
DTSTAMP:20260425T022232
CREATED:20160422T151058Z
LAST-MODIFIED:20160422T151058Z
UID:2620-1468432800-1468443600@laceyblackmusic.com
SUMMARY:Chipeta Sky Bar
DESCRIPTION:Take in the 360-degree views of the stunning mountains from this rooftop lounge in Ridgway!
URL:https://laceyblackmusic.com/event/chipeta-sky-bar-5/
LOCATION:Chipeta Sun Lodge Sky Bar\, 304 S Lena Street\, Ridgway\, CO\, 81432\, United States
CATEGORIES:Singer-Songwriter
END:VEVENT
BEGIN:VEVENT
DTSTART;TZID=UTC:20160702T170000
DTEND;TZID=UTC:20160702T200000
DTSTAMP:20260425T022232
CREATED:20160409T172931Z
LAST-MODIFIED:20160409T172931Z
UID:2613-1467478800-1467489600@laceyblackmusic.com
SUMMARY:Serious Texas BBQ South
DESCRIPTION:Listen to the river in the distance from the patio as you listen to Lacey at this iconic Durango BBQ!
URL:https://laceyblackmusic.com/event/serious-texas-bbq-south-10/
LOCATION:Serious Texas BBQ South\, 650 Camino Del Rio\, Durango\, CO\, 81303\, United States
CATEGORIES:Singer-Songwriter
END:VEVENT
BEGIN:VEVENT
DTSTART;TZID=UTC:20160701T180000
DTEND;TZID=UTC:20160701T210000
DTSTAMP:20260425T022232
CREATED:20160409T172733Z
LAST-MODIFIED:20160409T172733Z
UID:2610-1467396000-1467406800@laceyblackmusic.com
SUMMARY:Fox Fire Farms
DESCRIPTION:Come and take in the country life as you taste fine wines\, enjoy gourmet local food\, and listen to Lacey!
URL:https://laceyblackmusic.com/event/fox-fire-farms-10/
LOCATION:Fox Fire Farms\, 5513 CR 321\, Ignacio\, CO\, 81137\, United States
CATEGORIES:Singer-Songwriter
END:VEVENT
BEGIN:VEVENT
DTSTART;TZID=UTC:20160624T180000
DTEND;TZID=UTC:20160624T210000
DTSTAMP:20260425T022232
CREATED:20160409T172711Z
LAST-MODIFIED:20160409T172711Z
UID:2609-1466791200-1466802000@laceyblackmusic.com
SUMMARY:Fox Fire Farms
DESCRIPTION:Come and take in the country life as you taste fine wines\, enjoy gourmet local food\, and listen to Lacey!
URL:https://laceyblackmusic.com/event/fox-fire-farms-9/
LOCATION:Fox Fire Farms\, 5513 CR 321\, Ignacio\, CO\, 81137\, United States
CATEGORIES:Singer-Songwriter
END:VEVENT
BEGIN:VEVENT
DTSTART;TZID=UTC:20160617T170000
DTEND;TZID=UTC:20160617T200000
DTSTAMP:20260425T022232
CREATED:20160409T172859Z
LAST-MODIFIED:20160409T172859Z
UID:2612-1466182800-1466193600@laceyblackmusic.com
SUMMARY:Serious Texas BBQ South
DESCRIPTION:Listen to the river in the distance from the patio as you listen to Lacey at this iconic Durango BBQ!
URL:https://laceyblackmusic.com/event/serious-texas-bbq-south-9/
LOCATION:Serious Texas BBQ South\, 650 Camino Del Rio\, Durango\, CO\, 81303\, United States
CATEGORIES:Singer-Songwriter
END:VEVENT
BEGIN:VEVENT
DTSTART;TZID=UTC:20160608T180000
DTEND;TZID=UTC:20160608T210000
DTSTAMP:20260425T022232
CREATED:20160422T151024Z
LAST-MODIFIED:20160422T151024Z
UID:2619-1465408800-1465419600@laceyblackmusic.com
SUMMARY:Chipeta Sky Bar
DESCRIPTION:Take in the 360-degree views of the stunning mountains from this rooftop lounge in Ridgway!
URL:https://laceyblackmusic.com/event/chipeta-sky-bar-4/
LOCATION:Chipeta Sun Lodge Sky Bar\, 304 S Lena Street\, Ridgway\, CO\, 81432\, United States
CATEGORIES:Singer-Songwriter
END:VEVENT
END:VCALENDAR