BEGIN:VCALENDAR
VERSION:2.0
PRODID:-//Lacey Black - ECPv6.15.20//NONSGML v1.0//EN
CALSCALE:GREGORIAN
METHOD:PUBLISH
X-ORIGINAL-URL:https://laceyblackmusic.com
X-WR-CALDESC:Events for Lacey Black
REFRESH-INTERVAL;VALUE=DURATION:PT1H
X-Robots-Tag:noindex
X-PUBLISHED-TTL:PT1H
BEGIN:VTIMEZONE
TZID:UTC
BEGIN:STANDARD
TZOFFSETFROM:+0000
TZOFFSETTO:+0000
TZNAME:UTC
DTSTART:20180101T000000
END:STANDARD
END:VTIMEZONE
BEGIN:VEVENT
DTSTART;TZID=UTC:20230104T140000
DTEND;TZID=UTC:20230104T163000
DTSTAMP:20260425T004651
CREATED:20230101T152442Z
LAST-MODIFIED:20230101T152442Z
UID:13432-1672840800-1672849800@laceyblackmusic.com
SUMMARY:Durango Mountain Club at Purgatory
DESCRIPTION:Let Lacey serenade you in Purgatory’s exclusive club!
URL:https://laceyblackmusic.com/event/durango-mountain-club-at-purgatory-7/
LOCATION:Purgatory Resort\, #1 Skier Place\, Durango\, CO\, 81301\, United States
CATEGORIES:Singer-Songwriter
END:VEVENT
BEGIN:VEVENT
DTSTART;TZID=UTC:20230104T140000
DTEND;TZID=UTC:20230104T163000
DTSTAMP:20260425T004651
CREATED:20230101T152442Z
LAST-MODIFIED:20230101T152442Z
UID:13432-1672840800-1672849800@laceyblackmusic.com
SUMMARY:Durango Mountain Club at Purgatory
DESCRIPTION:Let Lacey serenade you in Purgatory’s exclusive club!
URL:https://laceyblackmusic.com/event/durango-mountain-club-at-purgatory-7/
LOCATION:Purgatory Resort\, #1 Skier Place\, Durango\, CO\, 81301\, United States
CATEGORIES:Singer-Songwriter
END:VEVENT
BEGIN:VEVENT
DTSTART;TZID=UTC:20230104T140000
DTEND;TZID=UTC:20230104T163000
DTSTAMP:20260425T004651
CREATED:20230101T152442Z
LAST-MODIFIED:20230101T152442Z
UID:13432-1672840800-1672849800@laceyblackmusic.com
SUMMARY:Durango Mountain Club at Purgatory
DESCRIPTION:Let Lacey serenade you in Purgatory’s exclusive club!
URL:https://laceyblackmusic.com/event/durango-mountain-club-at-purgatory-7/
LOCATION:Purgatory Resort\, #1 Skier Place\, Durango\, CO\, 81301\, United States
CATEGORIES:Singer-Songwriter
END:VEVENT
BEGIN:VEVENT
DTSTART;TZID=UTC:20220923T180000
DTEND;TZID=UTC:20220923T210000
DTSTAMP:20260425T004651
CREATED:20220415T213204Z
LAST-MODIFIED:20220415T213204Z
UID:11755-1663956000-1663966800@laceyblackmusic.com
SUMMARY:Fox Fire Farms
DESCRIPTION:Come and take in the country life as you taste fine wines\, enjoy gourmet local food\, and listen to Lacey!
URL:https://laceyblackmusic.com/event/fox-fire-farms-15-2-2018-08-31-2-2-2-2/
LOCATION:Fox Fire Farms\, 5513 CR 321\, Ignacio\, CO\, 81137\, United States
CATEGORIES:Singer-Songwriter
END:VEVENT
BEGIN:VEVENT
DTSTART;TZID=UTC:20220713T163000
DTEND;TZID=UTC:20220713T183000
DTSTAMP:20260425T004651
CREATED:20220607T141829Z
LAST-MODIFIED:20220628T140230Z
UID:12331-1657729800-1657737000@laceyblackmusic.com
SUMMARY:Durango Mountain Club at Purgatory
DESCRIPTION:Let Lacey serenade you in Purgatory’s exclusive club!
URL:https://laceyblackmusic.com/event/durango-mountain-club-at-purgatory-5-2-3-2-2022-03-23-2/
LOCATION:Purgatory Resort\, #1 Skier Place\, Durango\, CO\, 81301\, United States
CATEGORIES:Singer-Songwriter
END:VEVENT
BEGIN:VEVENT
DTSTART;TZID=UTC:20220713T163000
DTEND;TZID=UTC:20220713T183000
DTSTAMP:20260425T004651
CREATED:20220607T141829Z
LAST-MODIFIED:20220628T140230Z
UID:12331-1657729800-1657737000@laceyblackmusic.com
SUMMARY:Durango Mountain Club at Purgatory
DESCRIPTION:Let Lacey serenade you in Purgatory’s exclusive club!
URL:https://laceyblackmusic.com/event/durango-mountain-club-at-purgatory-5-2-3-2-2022-03-23-2/
LOCATION:Purgatory Resort\, #1 Skier Place\, Durango\, CO\, 81301\, United States
CATEGORIES:Singer-Songwriter
END:VEVENT
BEGIN:VEVENT
DTSTART;TZID=UTC:20220713T163000
DTEND;TZID=UTC:20220713T183000
DTSTAMP:20260425T004651
CREATED:20220607T141829Z
LAST-MODIFIED:20220628T140230Z
UID:12331-1657729800-1657737000@laceyblackmusic.com
SUMMARY:Durango Mountain Club at Purgatory
DESCRIPTION:Let Lacey serenade you in Purgatory’s exclusive club!
URL:https://laceyblackmusic.com/event/durango-mountain-club-at-purgatory-5-2-3-2-2022-03-23-2/
LOCATION:Purgatory Resort\, #1 Skier Place\, Durango\, CO\, 81301\, United States
CATEGORIES:Singer-Songwriter
END:VEVENT
BEGIN:VEVENT
DTSTART;TZID=UTC:20220715T180000
DTEND;TZID=UTC:20220715T200000
DTSTAMP:20260425T004651
CREATED:20220415T213511Z
LAST-MODIFIED:20220415T213511Z
UID:11757-1657908000-1657915200@laceyblackmusic.com
SUMMARY:Silverton Summer Sounds
DESCRIPTION:Lacey is the opening act for this month’s Summer Sounds Series!  Join us in Memorial Park for live music\, food\, and drink every month through the summer!
URL:https://laceyblackmusic.com/event/silverton-summer-sounds/
LOCATION:Memorial Park\, 1800 Greene Street\, Silverton\, CO\, 81433\, United States
CATEGORIES:Singer-Songwriter
END:VEVENT
BEGIN:VEVENT
DTSTART;TZID=UTC:20220713T163000
DTEND;TZID=UTC:20220713T183000
DTSTAMP:20260425T004651
CREATED:20220607T141829Z
LAST-MODIFIED:20220628T140230Z
UID:12331-1657729800-1657737000@laceyblackmusic.com
SUMMARY:Durango Mountain Club at Purgatory
DESCRIPTION:Let Lacey serenade you in Purgatory’s exclusive club!
URL:https://laceyblackmusic.com/event/durango-mountain-club-at-purgatory-5-2-3-2-2022-03-23-2/
LOCATION:Purgatory Resort\, #1 Skier Place\, Durango\, CO\, 81301\, United States
CATEGORIES:Singer-Songwriter
END:VEVENT
BEGIN:VEVENT
DTSTART;TZID=UTC:20220713T163000
DTEND;TZID=UTC:20220713T183000
DTSTAMP:20260425T004651
CREATED:20220607T141829Z
LAST-MODIFIED:20220628T140230Z
UID:12331-1657729800-1657737000@laceyblackmusic.com
SUMMARY:Durango Mountain Club at Purgatory
DESCRIPTION:Let Lacey serenade you in Purgatory’s exclusive club!
URL:https://laceyblackmusic.com/event/durango-mountain-club-at-purgatory-5-2-3-2-2022-03-23-2/
LOCATION:Purgatory Resort\, #1 Skier Place\, Durango\, CO\, 81301\, United States
CATEGORIES:Singer-Songwriter
END:VEVENT
BEGIN:VEVENT
DTSTART;TZID=UTC:20220126T140000
DTEND;TZID=UTC:20220126T160000
DTSTAMP:20260425T004651
CREATED:20211122T220137Z
LAST-MODIFIED:20211201T191609Z
UID:10852-1643205600-1643212800@laceyblackmusic.com
SUMMARY:Durango Mountain Club at Purgatory
DESCRIPTION:Let Lacey serenade you after a great day of skiing in Purgatory’s exclusive club!
URL:https://laceyblackmusic.com/event/durango-mountain-club-at-purgatory-5-2-3-2-2022-01-26/
LOCATION:Purgatory Resort\, #1 Skier Place\, Durango\, CO\, 81301\, United States
CATEGORIES:Singer-Songwriter
END:VEVENT
BEGIN:VEVENT
DTSTART;TZID=UTC:20220225T180000
DTEND;TZID=UTC:20220225T210000
DTSTAMP:20260425T004651
CREATED:20220203T180927Z
LAST-MODIFIED:20220203T180927Z
UID:11257-1645812000-1645822800@laceyblackmusic.com
SUMMARY:The Lift at Cascade
DESCRIPTION:Join Lacey for some live music in this iconic lodge with the best views in the region!
URL:https://laceyblackmusic.com/event/the-lift-at-cascade/
LOCATION:The Lift at Cascade\, 50827 Highway 550\, Durango\, CO\, 81301\, United States
CATEGORIES:Singer-Songwriter
END:VEVENT
BEGIN:VEVENT
DTSTART;TZID=UTC:20220126T140000
DTEND;TZID=UTC:20220126T160000
DTSTAMP:20260425T004651
CREATED:20211122T220137Z
LAST-MODIFIED:20211201T191609Z
UID:10852-1643205600-1643212800@laceyblackmusic.com
SUMMARY:Durango Mountain Club at Purgatory
DESCRIPTION:Let Lacey serenade you after a great day of skiing in Purgatory’s exclusive club!
URL:https://laceyblackmusic.com/event/durango-mountain-club-at-purgatory-5-2-3-2-2022-01-26/
LOCATION:Purgatory Resort\, #1 Skier Place\, Durango\, CO\, 81301\, United States
CATEGORIES:Singer-Songwriter
END:VEVENT
BEGIN:VEVENT
DTSTART;TZID=UTC:20220126T140000
DTEND;TZID=UTC:20220126T160000
DTSTAMP:20260425T004651
CREATED:20211122T220137Z
LAST-MODIFIED:20211201T191609Z
UID:10852-1643205600-1643212800@laceyblackmusic.com
SUMMARY:Durango Mountain Club at Purgatory
DESCRIPTION:Let Lacey serenade you after a great day of skiing in Purgatory’s exclusive club!
URL:https://laceyblackmusic.com/event/durango-mountain-club-at-purgatory-5-2-3-2-2022-01-26/
LOCATION:Purgatory Resort\, #1 Skier Place\, Durango\, CO\, 81301\, United States
CATEGORIES:Singer-Songwriter
END:VEVENT
BEGIN:VEVENT
DTSTART;TZID=UTC:20210611T170000
DTEND;TZID=UTC:20210611T200000
DTSTAMP:20260425T004651
CREATED:20200304T212055Z
LAST-MODIFIED:20210406T002057Z
UID:8412-1623430800-1623441600@laceyblackmusic.com
SUMMARY:Serious Texas BBQ South
DESCRIPTION:Listen to the river in the distance from the patio as you listen to Lacey at this iconic Durango BBQ!
URL:https://laceyblackmusic.com/event/serious-texas-bbq-south-15-2-2-2/
LOCATION:Serious Texas BBQ South\, 650 Camino Del Rio\, Durango\, CO\, 81303\, United States
CATEGORIES:Singer-Songwriter
END:VEVENT
BEGIN:VEVENT
DTSTART;TZID=UTC:20210730T180000
DTEND;TZID=UTC:20210730T210000
DTSTAMP:20260425T004651
CREATED:20210406T001803Z
LAST-MODIFIED:20210406T001803Z
UID:9664-1627668000-1627678800@laceyblackmusic.com
SUMMARY:Fox Fire Farms
DESCRIPTION:Come and take in the country life as you taste fine wines\, enjoy gourmet local food\, and listen to Lacey!
URL:https://laceyblackmusic.com/event/fox-fire-farms-15-2-2018-08-31-2-2-2/
LOCATION:Fox Fire Farms\, 5513 CR 321\, Ignacio\, CO\, 81137\, United States
CATEGORIES:Singer-Songwriter
END:VEVENT
BEGIN:VEVENT
DTSTART;TZID=UTC:20210611T170000
DTEND;TZID=UTC:20210611T200000
DTSTAMP:20260425T004651
CREATED:20200304T212055Z
LAST-MODIFIED:20210406T002057Z
UID:8412-1623430800-1623441600@laceyblackmusic.com
SUMMARY:Serious Texas BBQ South
DESCRIPTION:Listen to the river in the distance from the patio as you listen to Lacey at this iconic Durango BBQ!
URL:https://laceyblackmusic.com/event/serious-texas-bbq-south-15-2-2-2/
LOCATION:Serious Texas BBQ South\, 650 Camino Del Rio\, Durango\, CO\, 81303\, United States
CATEGORIES:Singer-Songwriter
END:VEVENT
BEGIN:VEVENT
DTSTART;TZID=UTC:20210611T170000
DTEND;TZID=UTC:20210611T200000
DTSTAMP:20260425T004651
CREATED:20200304T212055Z
LAST-MODIFIED:20210406T002057Z
UID:8412-1623430800-1623441600@laceyblackmusic.com
SUMMARY:Serious Texas BBQ South
DESCRIPTION:Listen to the river in the distance from the patio as you listen to Lacey at this iconic Durango BBQ!
URL:https://laceyblackmusic.com/event/serious-texas-bbq-south-15-2-2-2/
LOCATION:Serious Texas BBQ South\, 650 Camino Del Rio\, Durango\, CO\, 81303\, United States
CATEGORIES:Singer-Songwriter
END:VEVENT
BEGIN:VEVENT
DTSTART;TZID=UTC:20200904T180000
DTEND;TZID=UTC:20200904T210000
DTSTAMP:20260425T004651
CREATED:20200304T212231Z
LAST-MODIFIED:20200304T212231Z
UID:8416-1599242400-1599253200@laceyblackmusic.com
SUMMARY:Fox Fire Farms
DESCRIPTION:Come and take in the country life as you taste fine wines\, enjoy gourmet local food\, and listen to Lacey!
URL:https://laceyblackmusic.com/event/fox-fire-farms-15-2-2018-08-31-2-2/
LOCATION:Fox Fire Farms\, 5513 CR 321\, Ignacio\, CO\, 81137\, United States
CATEGORIES:Singer-Songwriter
END:VEVENT
BEGIN:VEVENT
DTSTART;TZID=UTC:20200118T150000
DTEND;TZID=UTC:20200118T180000
DTSTAMP:20260425T004651
CREATED:20181004T154844Z
LAST-MODIFIED:20191122T184923Z
UID:5119-1579359600-1579370400@laceyblackmusic.com
SUMMARY:Durango Mountain Club at Purgatory
DESCRIPTION:Let Lacey serenade you after a great day of skiing in Purgatory’s exclusive club!
URL:https://laceyblackmusic.com/event/durango-mountain-club-at-purgatory-5-2-2-2/
LOCATION:Purgatory Resort\, #1 Skier Place\, Durango\, CO\, 81301\, United States
CATEGORIES:Singer-Songwriter
END:VEVENT
BEGIN:VEVENT
DTSTART;TZID=UTC:20200118T150000
DTEND;TZID=UTC:20200118T180000
DTSTAMP:20260425T004651
CREATED:20181004T154844Z
LAST-MODIFIED:20191122T184923Z
UID:5119-1579359600-1579370400@laceyblackmusic.com
SUMMARY:Durango Mountain Club at Purgatory
DESCRIPTION:Let Lacey serenade you after a great day of skiing in Purgatory’s exclusive club!
URL:https://laceyblackmusic.com/event/durango-mountain-club-at-purgatory-5-2-2-2/
LOCATION:Purgatory Resort\, #1 Skier Place\, Durango\, CO\, 81301\, United States
CATEGORIES:Singer-Songwriter
END:VEVENT
BEGIN:VEVENT
DTSTART;TZID=UTC:20200118T150000
DTEND;TZID=UTC:20200118T180000
DTSTAMP:20260425T004651
CREATED:20181004T154844Z
LAST-MODIFIED:20191122T184923Z
UID:5119-1579359600-1579370400@laceyblackmusic.com
SUMMARY:Durango Mountain Club at Purgatory
DESCRIPTION:Let Lacey serenade you after a great day of skiing in Purgatory’s exclusive club!
URL:https://laceyblackmusic.com/event/durango-mountain-club-at-purgatory-5-2-2-2/
LOCATION:Purgatory Resort\, #1 Skier Place\, Durango\, CO\, 81301\, United States
CATEGORIES:Singer-Songwriter
END:VEVENT
BEGIN:VEVENT
DTSTART;TZID=UTC:20200118T150000
DTEND;TZID=UTC:20200118T180000
DTSTAMP:20260425T004651
CREATED:20181004T154844Z
LAST-MODIFIED:20191122T184923Z
UID:5119-1579359600-1579370400@laceyblackmusic.com
SUMMARY:Durango Mountain Club at Purgatory
DESCRIPTION:Let Lacey serenade you after a great day of skiing in Purgatory’s exclusive club!
URL:https://laceyblackmusic.com/event/durango-mountain-club-at-purgatory-5-2-2-2/
LOCATION:Purgatory Resort\, #1 Skier Place\, Durango\, CO\, 81301\, United States
CATEGORIES:Singer-Songwriter
END:VEVENT
BEGIN:VEVENT
DTSTART;TZID=UTC:20191231T190000
DTEND;TZID=UTC:20191231T220000
DTSTAMP:20260425T004651
CREATED:20191126T180207Z
LAST-MODIFIED:20191126T180207Z
UID:5978-1577818800-1577829600@laceyblackmusic.com
SUMMARY:The Alce Restaurant at Dalton Ranch
DESCRIPTION:Join us for New Year’s Eve at Dalton Ranch for a casual dinner.  Take in the stunning views of the Animas Valley while listening to Lacey as she sings and plays at this on-the-green restaurant at Dalton Ranch Golf Club!
URL:https://laceyblackmusic.com/event/the-swing-restaurant-at-dalton-ranch-2-2-2/
LOCATION:The Swing Restaurant\, 589 County Road 252\, Durango\, CO\, 81301\, United States
CATEGORIES:Singer-Songwriter
END:VEVENT
BEGIN:VEVENT
DTSTART;TZID=UTC:20191228T150000
DTEND;TZID=UTC:20191228T180000
DTSTAMP:20260425T004651
CREATED:20191122T185136Z
LAST-MODIFIED:20191122T185250Z
UID:5974-1577545200-1577556000@laceyblackmusic.com
SUMMARY:Durango Mountain Club at Purgatory
DESCRIPTION:Let Lacey serenade you after a great day of skiing in Purgatory’s exclusive club!
URL:https://laceyblackmusic.com/event/durango-mountain-club-at-purgatory-5-2-3/
LOCATION:Purgatory Resort\, #1 Skier Place\, Durango\, CO\, 81301\, United States
CATEGORIES:Singer-Songwriter
END:VEVENT
BEGIN:VEVENT
DTSTART;TZID=UTC:20200118T150000
DTEND;TZID=UTC:20200118T180000
DTSTAMP:20260425T004651
CREATED:20181004T154844Z
LAST-MODIFIED:20191122T184923Z
UID:5119-1579359600-1579370400@laceyblackmusic.com
SUMMARY:Durango Mountain Club at Purgatory
DESCRIPTION:Let Lacey serenade you after a great day of skiing in Purgatory’s exclusive club!
URL:https://laceyblackmusic.com/event/durango-mountain-club-at-purgatory-5-2-2-2/
LOCATION:Purgatory Resort\, #1 Skier Place\, Durango\, CO\, 81301\, United States
CATEGORIES:Singer-Songwriter
END:VEVENT
BEGIN:VEVENT
DTSTART;TZID=UTC:20191012T190000
DTEND;TZID=UTC:20191012T210000
DTSTAMP:20260425T004651
CREATED:20190830T194200Z
LAST-MODIFIED:20190830T194200Z
UID:5896-1570906800-1570914000@laceyblackmusic.com
SUMMARY:Golden Block Brewery
DESCRIPTION:You drink the beer\, Lacey sings the songs!
URL:https://laceyblackmusic.com/event/golden-block-brewery-2-2/
LOCATION:Golden Block Brewery\, 1227 Greene St\, Silverton\, CO\, 81433\, United States
CATEGORIES:Singer-Songwriter
END:VEVENT
BEGIN:VEVENT
DTSTART;TZID=UTC:20191012T190000
DTEND;TZID=UTC:20191012T210000
DTSTAMP:20260425T004651
CREATED:20190830T194200Z
LAST-MODIFIED:20190830T194200Z
UID:5896-1570906800-1570914000@laceyblackmusic.com
SUMMARY:Golden Block Brewery
DESCRIPTION:You drink the beer\, Lacey sings the songs!
URL:https://laceyblackmusic.com/event/golden-block-brewery-2-2/
LOCATION:Golden Block Brewery\, 1227 Greene St\, Silverton\, CO\, 81433\, United States
CATEGORIES:Singer-Songwriter
END:VEVENT
BEGIN:VEVENT
DTSTART;TZID=UTC:20190808T180000
DTEND;TZID=UTC:20190808T200000
DTSTAMP:20260425T004651
CREATED:20190416T021024Z
LAST-MODIFIED:20190419T031657Z
UID:5781-1565287200-1565294400@laceyblackmusic.com
SUMMARY:The Swing Restaurant at Dalton Ranch
DESCRIPTION:Take in the stunning views of the Animas Valley while listening to Lacey as she sings and plays at this on-the-green restaurant at Dalton Ranch Golf Club!
URL:https://laceyblackmusic.com/event/the-swing-restaurant-at-dalton-ranch-2-2-2-2019-08-08/
LOCATION:The Swing Restaurant\, 589 County Road 252\, Durango\, CO\, 81301\, United States
CATEGORIES:Singer-Songwriter
END:VEVENT
BEGIN:VEVENT
DTSTART;TZID=UTC:20190718T180000
DTEND;TZID=UTC:20190718T210000
DTSTAMP:20260425T004651
CREATED:20190516T000613Z
LAST-MODIFIED:20190516T000729Z
UID:5807-1563472800-1563483600@laceyblackmusic.com
SUMMARY:11th Street Station
DESCRIPTION:It doesn’t get any better than food trucks\, cocktails\, a fun gathering spot with friends\, and live music!  Join us at 11th Street Station in the heart of downtown Durango for a relaxing evening.
URL:https://laceyblackmusic.com/event/11th-street-station/
LOCATION:11th Street Station\, 1101 Main Avenue\, Durango\, CO\, 81301\, United States
CATEGORIES:Singer-Songwriter
END:VEVENT
END:VCALENDAR