BEGIN:VCALENDAR
VERSION:2.0
PRODID:-//Lacey Black - ECPv6.15.20//NONSGML v1.0//EN
CALSCALE:GREGORIAN
METHOD:PUBLISH
X-WR-CALNAME:Lacey Black
X-ORIGINAL-URL:https://laceyblackmusic.com
X-WR-CALDESC:Events for Lacey Black
REFRESH-INTERVAL;VALUE=DURATION:PT1H
X-Robots-Tag:noindex
X-PUBLISHED-TTL:PT1H
BEGIN:VTIMEZONE
TZID:UTC
BEGIN:STANDARD
TZOFFSETFROM:+0000
TZOFFSETTO:+0000
TZNAME:UTC
DTSTART:20140101T000000
END:STANDARD
END:VTIMEZONE
BEGIN:VEVENT
DTSTART;TZID=UTC:20151031T121500
DTEND;TZID=UTC:20151031T133000
DTSTAMP:20260425T175848
CREATED:20150915T165121Z
LAST-MODIFIED:20150915T165121Z
UID:2333-1446293700-1446298200@laceyblackmusic.com
SUMMARY:Grumpy's Saloon
DESCRIPTION:Join Lacey for lunch as she plays your piano favorites from yesteryear!
URL:https://laceyblackmusic.com/event/grumpys-saloon-53/
LOCATION:The Grand Restaurant and Saloon\, 1219 Greene Street\, Silverton\, CO\, 81433\, United States
CATEGORIES:Ragtime & Honky-Tonk
END:VEVENT
BEGIN:VEVENT
DTSTART;TZID=UTC:20151026T121500
DTEND;TZID=UTC:20151026T133000
DTSTAMP:20260425T175848
CREATED:20150508T200206Z
LAST-MODIFIED:20150915T165035Z
UID:2275-1445861700-1445866200@laceyblackmusic.com
SUMMARY:Grumpy's Saloon
DESCRIPTION:Join Lacey for lunch as she plays your piano favorites from yesteryear!
URL:https://laceyblackmusic.com/event/grumpys-saloon-55/
LOCATION:The Grand Restaurant and Saloon\, 1219 Greene Street\, Silverton\, CO\, 81433\, United States
CATEGORIES:Ragtime & Honky-Tonk
END:VEVENT
BEGIN:VEVENT
DTSTART;TZID=UTC:20151019T121500
DTEND;TZID=UTC:20151019T133000
DTSTAMP:20260425T175848
CREATED:20150508T195829Z
LAST-MODIFIED:20150508T195927Z
UID:2262-1445256900-1445261400@laceyblackmusic.com
SUMMARY:Grumpy's Saloon
DESCRIPTION:Join Lacey for lunch as she plays your piano favorites from yesteryear!
URL:https://laceyblackmusic.com/event/grumpys-saloon-54/
LOCATION:The Grand Restaurant and Saloon\, 1219 Greene Street\, Silverton\, CO\, 81433\, United States
CATEGORIES:Ragtime & Honky-Tonk
END:VEVENT
BEGIN:VEVENT
DTSTART;TZID=UTC:20151013T121500
DTEND;TZID=UTC:20151013T133000
DTSTAMP:20260425T175848
CREATED:20150508T195121Z
LAST-MODIFIED:20150508T195718Z
UID:2260-1444738500-1444743000@laceyblackmusic.com
SUMMARY:Grumpy's Saloon
DESCRIPTION:Join Lacey for lunch as she plays your piano favorites from yesteryear!
URL:https://laceyblackmusic.com/event/grumpys-saloon-53-2015-10-13/
LOCATION:The Grand Restaurant and Saloon\, 1219 Greene Street\, Silverton\, CO\, 81433\, United States
CATEGORIES:Ragtime & Honky-Tonk
END:VEVENT
BEGIN:VEVENT
DTSTART;TZID=UTC:20151012T121500
DTEND;TZID=UTC:20151012T133000
DTSTAMP:20260425T175848
CREATED:20150508T194928Z
LAST-MODIFIED:20150508T194928Z
UID:2242-1444652100-1444656600@laceyblackmusic.com
SUMMARY:Grumpy's Saloon
DESCRIPTION:Join Lacey for lunch as she plays your piano favorites from yesteryear!
URL:https://laceyblackmusic.com/event/grumpys-saloon-52/
LOCATION:The Grand Restaurant and Saloon\, 1219 Greene Street\, Silverton\, CO\, 81433\, United States
CATEGORIES:Ragtime & Honky-Tonk
END:VEVENT
BEGIN:VEVENT
DTSTART;TZID=UTC:20151007T180000
DTEND;TZID=UTC:20151007T210000
DTSTAMP:20260425T175848
CREATED:20151001T160717Z
LAST-MODIFIED:20151001T160717Z
UID:2343-1444240800-1444251600@laceyblackmusic.com
SUMMARY:The Outlaw Restaurant
DESCRIPTION:Join Lacey as she plays your favorites from the last hundred years in this historic Ouray restaurant and bar!
URL:https://laceyblackmusic.com/event/the-outlaw-restaurant-7/
LOCATION:The Outlaw\, 610 Main St\, Ouray\, CO\, 81427\, United States
CATEGORIES:Ragtime & Honky-Tonk
END:VEVENT
BEGIN:VEVENT
DTSTART;TZID=UTC:20151005T113000
DTEND;TZID=UTC:20151005T133000
DTSTAMP:20260425T175848
CREATED:20150508T194804Z
LAST-MODIFIED:20150508T194804Z
UID:2236-1444044600-1444051800@laceyblackmusic.com
SUMMARY:Grumpy's Saloon
DESCRIPTION:Join Lacey for lunch as she plays your piano favorites from yesteryear!
URL:https://laceyblackmusic.com/event/grumpys-saloon-51/
LOCATION:The Grand Restaurant and Saloon\, 1219 Greene Street\, Silverton\, CO\, 81433\, United States
CATEGORIES:Ragtime & Honky-Tonk
END:VEVENT
BEGIN:VEVENT
DTSTART;TZID=UTC:20150928T113000
DTEND;TZID=UTC:20150928T133000
DTSTAMP:20260425T175848
CREATED:20150508T194643Z
LAST-MODIFIED:20150508T194643Z
UID:2230-1443439800-1443447000@laceyblackmusic.com
SUMMARY:Grumpy's Saloon
DESCRIPTION:Join Lacey for lunch as she plays your piano favorites from yesteryear!
URL:https://laceyblackmusic.com/event/grumpys-saloon-50/
LOCATION:The Grand Restaurant and Saloon\, 1219 Greene Street\, Silverton\, CO\, 81433\, United States
CATEGORIES:Ragtime & Honky-Tonk
END:VEVENT
BEGIN:VEVENT
DTSTART;TZID=UTC:20150921T113000
DTEND;TZID=UTC:20150921T133000
DTSTAMP:20260425T175848
CREATED:20150508T194534Z
LAST-MODIFIED:20150508T194534Z
UID:2224-1442835000-1442842200@laceyblackmusic.com
SUMMARY:Grumpy's Saloon
DESCRIPTION:Join Lacey for lunch as she plays your piano favorites from yesteryear!
URL:https://laceyblackmusic.com/event/grumpys-saloon-49/
LOCATION:The Grand Restaurant and Saloon\, 1219 Greene Street\, Silverton\, CO\, 81433\, United States
CATEGORIES:Ragtime & Honky-Tonk
END:VEVENT
BEGIN:VEVENT
DTSTART;TZID=UTC:20150916T180000
DTEND;TZID=UTC:20150916T210000
DTSTAMP:20260425T175848
CREATED:20150915T163713Z
LAST-MODIFIED:20150920T190147Z
UID:2328-1442426400-1442437200@laceyblackmusic.com
SUMMARY:The Outlaw Restaurant
DESCRIPTION:Join Lacey as she plays your favorites from the last hundred years in this historic Ouray restaurant and bar!
URL:https://laceyblackmusic.com/event/the-outlaw-restaurant-10/
LOCATION:The Outlaw\, 610 Main St\, Ouray\, CO\, 81427\, United States
CATEGORIES:Ragtime & Honky-Tonk
END:VEVENT
BEGIN:VEVENT
DTSTART;TZID=UTC:20150914T113000
DTEND;TZID=UTC:20150914T133000
DTSTAMP:20260425T175848
CREATED:20150508T194429Z
LAST-MODIFIED:20150508T194429Z
UID:2219-1442230200-1442237400@laceyblackmusic.com
SUMMARY:Grumpy's Saloon
DESCRIPTION:Join Lacey for lunch as she plays your piano favorites from yesteryear!
URL:https://laceyblackmusic.com/event/grumpys-saloon-48/
LOCATION:The Grand Restaurant and Saloon\, 1219 Greene Street\, Silverton\, CO\, 81433\, United States
CATEGORIES:Ragtime & Honky-Tonk
END:VEVENT
BEGIN:VEVENT
DTSTART;TZID=UTC:20150907T173000
DTEND;TZID=UTC:20150907T220000
DTSTAMP:20260425T175848
CREATED:20150616T223246Z
LAST-MODIFIED:20150616T223246Z
UID:2300-1441647000-1441663200@laceyblackmusic.com
SUMMARY:Diamond Belle Saloon
DESCRIPTION:Step back in time in this historic saloon\, replete with Victorian era decorations and costumed wait staff!  Lacey joins a list of world-renowned ragtime pianists as she performs in this famous saloon.
URL:https://laceyblackmusic.com/event/diamond-belle-saloon-6/
LOCATION:Diamond Belle Saloon\, 699 Main Avenue\, Durango\, CO\, 81301\, United States
CATEGORIES:Ragtime & Honky-Tonk
END:VEVENT
BEGIN:VEVENT
DTSTART;TZID=UTC:20150907T113000
DTEND;TZID=UTC:20150907T133000
DTSTAMP:20260425T175848
CREATED:20150508T194306Z
LAST-MODIFIED:20150508T194352Z
UID:2214-1441625400-1441632600@laceyblackmusic.com
SUMMARY:Grumpy's Saloon
DESCRIPTION:Join Lacey for lunch as she plays your piano favorites from yesteryear!
URL:https://laceyblackmusic.com/event/grumpys-saloon-47/
LOCATION:The Grand Restaurant and Saloon\, 1219 Greene Street\, Silverton\, CO\, 81433\, United States
CATEGORIES:Ragtime & Honky-Tonk
END:VEVENT
BEGIN:VEVENT
DTSTART;TZID=UTC:20150831T173000
DTEND;TZID=UTC:20150831T220000
DTSTAMP:20260425T175848
CREATED:20150508T192014Z
LAST-MODIFIED:20150508T192014Z
UID:2138-1441042200-1441058400@laceyblackmusic.com
SUMMARY:Diamond Belle Saloon
DESCRIPTION:Step back in time in this historic saloon\, replete with Victorian era decorations and costumed wait staff!  Lacey joins a list of world-renowned ragtime pianists as she performs in this famous saloon.
URL:https://laceyblackmusic.com/event/diamond-belle-saloon-5/
LOCATION:Diamond Belle Saloon\, 699 Main Avenue\, Durango\, CO\, 81301\, United States
CATEGORIES:Ragtime & Honky-Tonk
END:VEVENT
BEGIN:VEVENT
DTSTART;TZID=UTC:20150831T113000
DTEND;TZID=UTC:20150831T133000
DTSTAMP:20260425T175848
CREATED:20150508T194022Z
LAST-MODIFIED:20150508T194022Z
UID:2210-1441020600-1441027800@laceyblackmusic.com
SUMMARY:Grumpy's Saloon
DESCRIPTION:Join Lacey for lunch as she plays your piano favorites from yesteryear!
URL:https://laceyblackmusic.com/event/grumpys-saloon-46/
LOCATION:The Grand Restaurant and Saloon\, 1219 Greene Street\, Silverton\, CO\, 81433\, United States
CATEGORIES:Ragtime & Honky-Tonk
END:VEVENT
BEGIN:VEVENT
DTSTART;TZID=UTC:20150827T180000
DTEND;TZID=UTC:20150827T210000
DTSTAMP:20260425T175848
CREATED:20150819T154041Z
LAST-MODIFIED:20150819T154041Z
UID:2323-1440698400-1440709200@laceyblackmusic.com
SUMMARY:The Outlaw Restaurant
DESCRIPTION:Join Lacey as she plays your favorites from the last hundred years in this historic Ouray restaurant and bar!
URL:https://laceyblackmusic.com/event/the-outlaw-restaurant-9/
LOCATION:The Outlaw\, 610 Main St\, Ouray\, CO\, 81427\, United States
CATEGORIES:Ragtime & Honky-Tonk
END:VEVENT
BEGIN:VEVENT
DTSTART;TZID=UTC:20150824T113000
DTEND;TZID=UTC:20150824T133000
DTSTAMP:20260425T175848
CREATED:20150508T193906Z
LAST-MODIFIED:20150508T193906Z
UID:2204-1440415800-1440423000@laceyblackmusic.com
SUMMARY:Grumpy's Saloon
DESCRIPTION:Join Lacey for lunch as she plays your piano favorites from yesteryear!
URL:https://laceyblackmusic.com/event/grumpys-saloon-45/
LOCATION:The Grand Restaurant and Saloon\, 1219 Greene Street\, Silverton\, CO\, 81433\, United States
CATEGORIES:Ragtime & Honky-Tonk
END:VEVENT
BEGIN:VEVENT
DTSTART;TZID=UTC:20150820T180000
DTEND;TZID=UTC:20150820T210000
DTSTAMP:20260425T175848
CREATED:20150819T154016Z
LAST-MODIFIED:20150819T154410Z
UID:2322-1440093600-1440104400@laceyblackmusic.com
SUMMARY:The Outlaw Restaurant
DESCRIPTION:Join Lacey as she plays your favorites from the last hundred years in this historic Ouray restaurant and bar!
URL:https://laceyblackmusic.com/event/the-outlaw-restaurant-8/
LOCATION:The Outlaw\, 610 Main St\, Ouray\, CO\, 81427\, United States
CATEGORIES:Ragtime & Honky-Tonk
END:VEVENT
BEGIN:VEVENT
DTSTART;TZID=UTC:20150817T113000
DTEND;TZID=UTC:20150817T133000
DTSTAMP:20260425T175848
CREATED:20150508T193755Z
LAST-MODIFIED:20150508T193755Z
UID:2198-1439811000-1439818200@laceyblackmusic.com
SUMMARY:Grumpy's Saloon
DESCRIPTION:Join Lacey for lunch as she plays your piano favorites from yesteryear!
URL:https://laceyblackmusic.com/event/grumpys-saloon-44/
LOCATION:The Grand Restaurant and Saloon\, 1219 Greene Street\, Silverton\, CO\, 81433\, United States
CATEGORIES:Ragtime & Honky-Tonk
END:VEVENT
BEGIN:VEVENT
DTSTART;TZID=UTC:20150810T113000
DTEND;TZID=UTC:20150810T133000
DTSTAMP:20260425T175848
CREATED:20150508T193703Z
LAST-MODIFIED:20150508T193703Z
UID:2193-1439206200-1439213400@laceyblackmusic.com
SUMMARY:Grumpy's Saloon
DESCRIPTION:Join Lacey for lunch as she plays your piano favorites from yesteryear!
URL:https://laceyblackmusic.com/event/grumpys-saloon-43/
LOCATION:The Grand Restaurant and Saloon\, 1219 Greene Street\, Silverton\, CO\, 81433\, United States
CATEGORIES:Ragtime & Honky-Tonk
END:VEVENT
BEGIN:VEVENT
DTSTART;TZID=UTC:20150808T173000
DTEND;TZID=UTC:20150808T220000
DTSTAMP:20260425T175848
CREATED:20150508T191920Z
LAST-MODIFIED:20150508T191920Z
UID:2137-1439055000-1439071200@laceyblackmusic.com
SUMMARY:Diamond Belle Saloon
DESCRIPTION:Step back in time in this historic saloon\, replete with Victorian era decorations and costumed wait staff!  Lacey joins a list of world-renowned ragtime pianists as she performs in this famous saloon.
URL:https://laceyblackmusic.com/event/diamond-belle-saloon-4/
LOCATION:Diamond Belle Saloon\, 699 Main Avenue\, Durango\, CO\, 81301\, United States
CATEGORIES:Ragtime & Honky-Tonk
END:VEVENT
BEGIN:VEVENT
DTSTART;TZID=UTC:20150807T180000
DTEND;TZID=UTC:20150807T210000
DTSTAMP:20260425T175848
CREATED:20150805T025115Z
LAST-MODIFIED:20150805T025115Z
UID:2315-1438970400-1438981200@laceyblackmusic.com
SUMMARY:The Outlaw Restaurant
DESCRIPTION:Join Lacey as she plays your favorites from the last hundred years in this historic Ouray restaurant and bar!
URL:https://laceyblackmusic.com/event/the-outlaw-restaurant-6/
LOCATION:The Outlaw\, 610 Main St\, Ouray\, CO\, 81427\, United States
CATEGORIES:Ragtime & Honky-Tonk
END:VEVENT
BEGIN:VEVENT
DTSTART;TZID=UTC:20150803T113000
DTEND;TZID=UTC:20150803T143000
DTSTAMP:20260425T175848
CREATED:20150508T193541Z
LAST-MODIFIED:20150508T193541Z
UID:2187-1438601400-1438612200@laceyblackmusic.com
SUMMARY:Grumpy's Saloon
DESCRIPTION:Join Lacey for lunch as she plays your piano favorites from yesteryear!
URL:https://laceyblackmusic.com/event/grumpys-saloon-42/
LOCATION:The Grand Restaurant and Saloon\, 1219 Greene Street\, Silverton\, CO\, 81433\, United States
CATEGORIES:Ragtime & Honky-Tonk
END:VEVENT
BEGIN:VEVENT
DTSTART;TZID=UTC:20150727T113000
DTEND;TZID=UTC:20150727T143000
DTSTAMP:20260425T175848
CREATED:20150508T193439Z
LAST-MODIFIED:20150508T193439Z
UID:2181-1437996600-1438007400@laceyblackmusic.com
SUMMARY:Grumpy's Saloon
DESCRIPTION:Join Lacey for lunch as she plays your piano favorites from yesteryear!
URL:https://laceyblackmusic.com/event/grumpys-saloon-41/
LOCATION:The Grand Restaurant and Saloon\, 1219 Greene Street\, Silverton\, CO\, 81433\, United States
CATEGORIES:Ragtime & Honky-Tonk
END:VEVENT
BEGIN:VEVENT
DTSTART;TZID=UTC:20150720T113000
DTEND;TZID=UTC:20150720T143000
DTSTAMP:20260425T175848
CREATED:20150508T193336Z
LAST-MODIFIED:20150508T193336Z
UID:2176-1437391800-1437402600@laceyblackmusic.com
SUMMARY:Grumpy's Saloon
DESCRIPTION:Join Lacey for lunch as she plays your piano favorites from yesteryear!
URL:https://laceyblackmusic.com/event/grumpys-saloon-40/
LOCATION:The Grand Restaurant and Saloon\, 1219 Greene Street\, Silverton\, CO\, 81433\, United States
CATEGORIES:Ragtime & Honky-Tonk
END:VEVENT
BEGIN:VEVENT
DTSTART;TZID=UTC:20150713T113000
DTEND;TZID=UTC:20150713T143000
DTSTAMP:20260425T175848
CREATED:20150508T193231Z
LAST-MODIFIED:20150508T193231Z
UID:2171-1436787000-1436797800@laceyblackmusic.com
SUMMARY:Grumpy's Saloon
DESCRIPTION:Join Lacey for lunch as she plays your piano favorites from yesteryear!
URL:https://laceyblackmusic.com/event/grumpys-saloon-39/
LOCATION:The Grand Restaurant and Saloon\, 1219 Greene Street\, Silverton\, CO\, 81433\, United States
CATEGORIES:Ragtime & Honky-Tonk
END:VEVENT
BEGIN:VEVENT
DTSTART;TZID=UTC:20150706T113000
DTEND;TZID=UTC:20150706T143000
DTSTAMP:20260425T175848
CREATED:20150508T193117Z
LAST-MODIFIED:20150508T193117Z
UID:2165-1436182200-1436193000@laceyblackmusic.com
SUMMARY:Grumpy's Saloon
DESCRIPTION:Join Lacey for lunch as she plays your piano favorites from yesteryear!
URL:https://laceyblackmusic.com/event/grumpys-saloon-38/
LOCATION:The Grand Restaurant and Saloon\, 1219 Greene Street\, Silverton\, CO\, 81433\, United States
CATEGORIES:Ragtime & Honky-Tonk
END:VEVENT
BEGIN:VEVENT
DTSTART;TZID=UTC:20150629T113000
DTEND;TZID=UTC:20150629T143000
DTSTAMP:20260425T175848
CREATED:20150508T192932Z
LAST-MODIFIED:20150508T192932Z
UID:2159-1435577400-1435588200@laceyblackmusic.com
SUMMARY:Grumpy's Saloon
DESCRIPTION:Join Lacey for lunch as she plays your piano favorites from yesteryear!
URL:https://laceyblackmusic.com/event/grumpys-saloon-37/
LOCATION:The Grand Restaurant and Saloon\, 1219 Greene Street\, Silverton\, CO\, 81433\, United States
CATEGORIES:Ragtime & Honky-Tonk
END:VEVENT
BEGIN:VEVENT
DTSTART;TZID=UTC:20150622T113000
DTEND;TZID=UTC:20150622T143000
DTSTAMP:20260425T175848
CREATED:20150508T192805Z
LAST-MODIFIED:20150508T192805Z
UID:2154-1434972600-1434983400@laceyblackmusic.com
SUMMARY:Grumpy's Saloon
DESCRIPTION:Join Lacey for lunch as she plays your piano favorites from yesteryear!
URL:https://laceyblackmusic.com/event/grumpys-saloon-36/
LOCATION:The Grand Restaurant and Saloon\, 1219 Greene Street\, Silverton\, CO\, 81433\, United States
CATEGORIES:Ragtime & Honky-Tonk
END:VEVENT
BEGIN:VEVENT
DTSTART;TZID=UTC:20150615T113000
DTEND;TZID=UTC:20150615T143000
DTSTAMP:20260425T175848
CREATED:20150508T192550Z
LAST-MODIFIED:20150508T192550Z
UID:2148-1434367800-1434378600@laceyblackmusic.com
SUMMARY:Grumpy's Saloon
DESCRIPTION:Join Lacey for lunch as she plays your piano favorites from yesteryear!
URL:https://laceyblackmusic.com/event/grumpys-saloon-35/
LOCATION:The Grand Restaurant and Saloon\, 1219 Greene Street\, Silverton\, CO\, 81433\, United States
CATEGORIES:Ragtime & Honky-Tonk
END:VEVENT
END:VCALENDAR