BEGIN:VCALENDAR
VERSION:2.0
PRODID:-//Lacey Black - ECPv6.15.20//NONSGML v1.0//EN
CALSCALE:GREGORIAN
METHOD:PUBLISH
X-ORIGINAL-URL:https://laceyblackmusic.com
X-WR-CALDESC:Events for Lacey Black
REFRESH-INTERVAL;VALUE=DURATION:PT1H
X-Robots-Tag:noindex
X-PUBLISHED-TTL:PT1H
BEGIN:VTIMEZONE
TZID:UTC
BEGIN:STANDARD
TZOFFSETFROM:+0000
TZOFFSETTO:+0000
TZNAME:UTC
DTSTART:20170101T000000
END:STANDARD
END:VTIMEZONE
BEGIN:VEVENT
DTSTART;TZID=UTC:20180702T113000
DTEND;TZID=UTC:20180702T140000
DTSTAMP:20260425T122350
CREATED:20180304T222528Z
LAST-MODIFIED:20180304T222924Z
UID:4365-1530531000-1530540000@laceyblackmusic.com
SUMMARY:Grand Restaurant and Saloon
DESCRIPTION:Join Lacey for lunch in this historic landmark in Silverton\, CO!  Lacey plays the old rinky-tink piano; this is her 18th (!) season in the saloon at the Grand Imperial!
URL:https://laceyblackmusic.com/event/grand-restaurant-and-saloon-2-2-2-2-2-2-2-2/
LOCATION:The Grand Restaurant and Saloon\, 1219 Greene Street\, Silverton\, CO\, 81433\, United States
CATEGORIES:Ragtime & Honky-Tonk
END:VEVENT
BEGIN:VEVENT
DTSTART;TZID=UTC:20180713T113000
DTEND;TZID=UTC:20180713T140000
DTSTAMP:20260425T122350
CREATED:20180304T223032Z
LAST-MODIFIED:20180304T223243Z
UID:4482-1531481400-1531490400@laceyblackmusic.com
SUMMARY:Grand Restaurant and Saloon
DESCRIPTION:Join Lacey for lunch in this historic landmark in Silverton\, CO!  Lacey plays the old rinky-tink piano; this is her 18th (!) season in the saloon at the Grand Imperial!
URL:https://laceyblackmusic.com/event/grand-restaurant-and-saloon-2-2-2-2-2-2-2-2-2/
LOCATION:The Grand Restaurant and Saloon\, 1219 Greene Street\, Silverton\, CO\, 81433\, United States
CATEGORIES:Ragtime & Honky-Tonk
END:VEVENT
BEGIN:VEVENT
DTSTART;TZID=UTC:20180702T113000
DTEND;TZID=UTC:20180702T140000
DTSTAMP:20260425T122350
CREATED:20180304T222528Z
LAST-MODIFIED:20180304T222924Z
UID:4365-1530531000-1530540000@laceyblackmusic.com
SUMMARY:Grand Restaurant and Saloon
DESCRIPTION:Join Lacey for lunch in this historic landmark in Silverton\, CO!  Lacey plays the old rinky-tink piano; this is her 18th (!) season in the saloon at the Grand Imperial!
URL:https://laceyblackmusic.com/event/grand-restaurant-and-saloon-2-2-2-2-2-2-2-2/
LOCATION:The Grand Restaurant and Saloon\, 1219 Greene Street\, Silverton\, CO\, 81433\, United States
CATEGORIES:Ragtime & Honky-Tonk
END:VEVENT
BEGIN:VEVENT
DTSTART;TZID=UTC:20180713T113000
DTEND;TZID=UTC:20180713T140000
DTSTAMP:20260425T122350
CREATED:20180304T223032Z
LAST-MODIFIED:20180304T223243Z
UID:4482-1531481400-1531490400@laceyblackmusic.com
SUMMARY:Grand Restaurant and Saloon
DESCRIPTION:Join Lacey for lunch in this historic landmark in Silverton\, CO!  Lacey plays the old rinky-tink piano; this is her 18th (!) season in the saloon at the Grand Imperial!
URL:https://laceyblackmusic.com/event/grand-restaurant-and-saloon-2-2-2-2-2-2-2-2-2/
LOCATION:The Grand Restaurant and Saloon\, 1219 Greene Street\, Silverton\, CO\, 81433\, United States
CATEGORIES:Ragtime & Honky-Tonk
END:VEVENT
BEGIN:VEVENT
DTSTART;TZID=UTC:20180702T113000
DTEND;TZID=UTC:20180702T140000
DTSTAMP:20260425T122350
CREATED:20180304T222528Z
LAST-MODIFIED:20180304T222924Z
UID:4365-1530531000-1530540000@laceyblackmusic.com
SUMMARY:Grand Restaurant and Saloon
DESCRIPTION:Join Lacey for lunch in this historic landmark in Silverton\, CO!  Lacey plays the old rinky-tink piano; this is her 18th (!) season in the saloon at the Grand Imperial!
URL:https://laceyblackmusic.com/event/grand-restaurant-and-saloon-2-2-2-2-2-2-2-2/
LOCATION:The Grand Restaurant and Saloon\, 1219 Greene Street\, Silverton\, CO\, 81433\, United States
CATEGORIES:Ragtime & Honky-Tonk
END:VEVENT
BEGIN:VEVENT
DTSTART;TZID=UTC:20180713T113000
DTEND;TZID=UTC:20180713T140000
DTSTAMP:20260425T122350
CREATED:20180304T223032Z
LAST-MODIFIED:20180304T223243Z
UID:4482-1531481400-1531490400@laceyblackmusic.com
SUMMARY:Grand Restaurant and Saloon
DESCRIPTION:Join Lacey for lunch in this historic landmark in Silverton\, CO!  Lacey plays the old rinky-tink piano; this is her 18th (!) season in the saloon at the Grand Imperial!
URL:https://laceyblackmusic.com/event/grand-restaurant-and-saloon-2-2-2-2-2-2-2-2-2/
LOCATION:The Grand Restaurant and Saloon\, 1219 Greene Street\, Silverton\, CO\, 81433\, United States
CATEGORIES:Ragtime & Honky-Tonk
END:VEVENT
BEGIN:VEVENT
DTSTART;TZID=UTC:20180702T113000
DTEND;TZID=UTC:20180702T140000
DTSTAMP:20260425T122350
CREATED:20180304T222528Z
LAST-MODIFIED:20180304T222924Z
UID:4365-1530531000-1530540000@laceyblackmusic.com
SUMMARY:Grand Restaurant and Saloon
DESCRIPTION:Join Lacey for lunch in this historic landmark in Silverton\, CO!  Lacey plays the old rinky-tink piano; this is her 18th (!) season in the saloon at the Grand Imperial!
URL:https://laceyblackmusic.com/event/grand-restaurant-and-saloon-2-2-2-2-2-2-2-2/
LOCATION:The Grand Restaurant and Saloon\, 1219 Greene Street\, Silverton\, CO\, 81433\, United States
CATEGORIES:Ragtime & Honky-Tonk
END:VEVENT
BEGIN:VEVENT
DTSTART;TZID=UTC:20180713T113000
DTEND;TZID=UTC:20180713T140000
DTSTAMP:20260425T122350
CREATED:20180304T223032Z
LAST-MODIFIED:20180304T223243Z
UID:4482-1531481400-1531490400@laceyblackmusic.com
SUMMARY:Grand Restaurant and Saloon
DESCRIPTION:Join Lacey for lunch in this historic landmark in Silverton\, CO!  Lacey plays the old rinky-tink piano; this is her 18th (!) season in the saloon at the Grand Imperial!
URL:https://laceyblackmusic.com/event/grand-restaurant-and-saloon-2-2-2-2-2-2-2-2-2/
LOCATION:The Grand Restaurant and Saloon\, 1219 Greene Street\, Silverton\, CO\, 81433\, United States
CATEGORIES:Ragtime & Honky-Tonk
END:VEVENT
BEGIN:VEVENT
DTSTART;TZID=UTC:20180702T113000
DTEND;TZID=UTC:20180702T140000
DTSTAMP:20260425T122350
CREATED:20180304T222528Z
LAST-MODIFIED:20180304T222924Z
UID:4365-1530531000-1530540000@laceyblackmusic.com
SUMMARY:Grand Restaurant and Saloon
DESCRIPTION:Join Lacey for lunch in this historic landmark in Silverton\, CO!  Lacey plays the old rinky-tink piano; this is her 18th (!) season in the saloon at the Grand Imperial!
URL:https://laceyblackmusic.com/event/grand-restaurant-and-saloon-2-2-2-2-2-2-2-2/
LOCATION:The Grand Restaurant and Saloon\, 1219 Greene Street\, Silverton\, CO\, 81433\, United States
CATEGORIES:Ragtime & Honky-Tonk
END:VEVENT
BEGIN:VEVENT
DTSTART;TZID=UTC:20180713T113000
DTEND;TZID=UTC:20180713T140000
DTSTAMP:20260425T122350
CREATED:20180304T223032Z
LAST-MODIFIED:20180304T223243Z
UID:4482-1531481400-1531490400@laceyblackmusic.com
SUMMARY:Grand Restaurant and Saloon
DESCRIPTION:Join Lacey for lunch in this historic landmark in Silverton\, CO!  Lacey plays the old rinky-tink piano; this is her 18th (!) season in the saloon at the Grand Imperial!
URL:https://laceyblackmusic.com/event/grand-restaurant-and-saloon-2-2-2-2-2-2-2-2-2/
LOCATION:The Grand Restaurant and Saloon\, 1219 Greene Street\, Silverton\, CO\, 81433\, United States
CATEGORIES:Ragtime & Honky-Tonk
END:VEVENT
BEGIN:VEVENT
DTSTART;TZID=UTC:20180702T113000
DTEND;TZID=UTC:20180702T140000
DTSTAMP:20260425T122350
CREATED:20180304T222528Z
LAST-MODIFIED:20180304T222924Z
UID:4365-1530531000-1530540000@laceyblackmusic.com
SUMMARY:Grand Restaurant and Saloon
DESCRIPTION:Join Lacey for lunch in this historic landmark in Silverton\, CO!  Lacey plays the old rinky-tink piano; this is her 18th (!) season in the saloon at the Grand Imperial!
URL:https://laceyblackmusic.com/event/grand-restaurant-and-saloon-2-2-2-2-2-2-2-2/
LOCATION:The Grand Restaurant and Saloon\, 1219 Greene Street\, Silverton\, CO\, 81433\, United States
CATEGORIES:Ragtime & Honky-Tonk
END:VEVENT
BEGIN:VEVENT
DTSTART;TZID=UTC:20180713T113000
DTEND;TZID=UTC:20180713T140000
DTSTAMP:20260425T122350
CREATED:20180304T223032Z
LAST-MODIFIED:20180304T223243Z
UID:4482-1531481400-1531490400@laceyblackmusic.com
SUMMARY:Grand Restaurant and Saloon
DESCRIPTION:Join Lacey for lunch in this historic landmark in Silverton\, CO!  Lacey plays the old rinky-tink piano; this is her 18th (!) season in the saloon at the Grand Imperial!
URL:https://laceyblackmusic.com/event/grand-restaurant-and-saloon-2-2-2-2-2-2-2-2-2/
LOCATION:The Grand Restaurant and Saloon\, 1219 Greene Street\, Silverton\, CO\, 81433\, United States
CATEGORIES:Ragtime & Honky-Tonk
END:VEVENT
BEGIN:VEVENT
DTSTART;TZID=UTC:20180702T113000
DTEND;TZID=UTC:20180702T140000
DTSTAMP:20260425T122350
CREATED:20180304T222528Z
LAST-MODIFIED:20180304T222924Z
UID:4365-1530531000-1530540000@laceyblackmusic.com
SUMMARY:Grand Restaurant and Saloon
DESCRIPTION:Join Lacey for lunch in this historic landmark in Silverton\, CO!  Lacey plays the old rinky-tink piano; this is her 18th (!) season in the saloon at the Grand Imperial!
URL:https://laceyblackmusic.com/event/grand-restaurant-and-saloon-2-2-2-2-2-2-2-2/
LOCATION:The Grand Restaurant and Saloon\, 1219 Greene Street\, Silverton\, CO\, 81433\, United States
CATEGORIES:Ragtime & Honky-Tonk
END:VEVENT
BEGIN:VEVENT
DTSTART;TZID=UTC:20180713T113000
DTEND;TZID=UTC:20180713T140000
DTSTAMP:20260425T122350
CREATED:20180304T223032Z
LAST-MODIFIED:20180304T223243Z
UID:4482-1531481400-1531490400@laceyblackmusic.com
SUMMARY:Grand Restaurant and Saloon
DESCRIPTION:Join Lacey for lunch in this historic landmark in Silverton\, CO!  Lacey plays the old rinky-tink piano; this is her 18th (!) season in the saloon at the Grand Imperial!
URL:https://laceyblackmusic.com/event/grand-restaurant-and-saloon-2-2-2-2-2-2-2-2-2/
LOCATION:The Grand Restaurant and Saloon\, 1219 Greene Street\, Silverton\, CO\, 81433\, United States
CATEGORIES:Ragtime & Honky-Tonk
END:VEVENT
BEGIN:VEVENT
DTSTART;TZID=UTC:20180702T113000
DTEND;TZID=UTC:20180702T140000
DTSTAMP:20260425T122350
CREATED:20180304T222528Z
LAST-MODIFIED:20180304T222924Z
UID:4365-1530531000-1530540000@laceyblackmusic.com
SUMMARY:Grand Restaurant and Saloon
DESCRIPTION:Join Lacey for lunch in this historic landmark in Silverton\, CO!  Lacey plays the old rinky-tink piano; this is her 18th (!) season in the saloon at the Grand Imperial!
URL:https://laceyblackmusic.com/event/grand-restaurant-and-saloon-2-2-2-2-2-2-2-2/
LOCATION:The Grand Restaurant and Saloon\, 1219 Greene Street\, Silverton\, CO\, 81433\, United States
CATEGORIES:Ragtime & Honky-Tonk
END:VEVENT
BEGIN:VEVENT
DTSTART;TZID=UTC:20180713T113000
DTEND;TZID=UTC:20180713T140000
DTSTAMP:20260425T122350
CREATED:20180304T223032Z
LAST-MODIFIED:20180304T223243Z
UID:4482-1531481400-1531490400@laceyblackmusic.com
SUMMARY:Grand Restaurant and Saloon
DESCRIPTION:Join Lacey for lunch in this historic landmark in Silverton\, CO!  Lacey plays the old rinky-tink piano; this is her 18th (!) season in the saloon at the Grand Imperial!
URL:https://laceyblackmusic.com/event/grand-restaurant-and-saloon-2-2-2-2-2-2-2-2-2/
LOCATION:The Grand Restaurant and Saloon\, 1219 Greene Street\, Silverton\, CO\, 81433\, United States
CATEGORIES:Ragtime & Honky-Tonk
END:VEVENT
BEGIN:VEVENT
DTSTART;TZID=UTC:20180702T113000
DTEND;TZID=UTC:20180702T140000
DTSTAMP:20260425T122350
CREATED:20180304T222528Z
LAST-MODIFIED:20180304T222924Z
UID:4365-1530531000-1530540000@laceyblackmusic.com
SUMMARY:Grand Restaurant and Saloon
DESCRIPTION:Join Lacey for lunch in this historic landmark in Silverton\, CO!  Lacey plays the old rinky-tink piano; this is her 18th (!) season in the saloon at the Grand Imperial!
URL:https://laceyblackmusic.com/event/grand-restaurant-and-saloon-2-2-2-2-2-2-2-2/
LOCATION:The Grand Restaurant and Saloon\, 1219 Greene Street\, Silverton\, CO\, 81433\, United States
CATEGORIES:Ragtime & Honky-Tonk
END:VEVENT
BEGIN:VEVENT
DTSTART;TZID=UTC:20180713T113000
DTEND;TZID=UTC:20180713T140000
DTSTAMP:20260425T122350
CREATED:20180304T223032Z
LAST-MODIFIED:20180304T223243Z
UID:4482-1531481400-1531490400@laceyblackmusic.com
SUMMARY:Grand Restaurant and Saloon
DESCRIPTION:Join Lacey for lunch in this historic landmark in Silverton\, CO!  Lacey plays the old rinky-tink piano; this is her 18th (!) season in the saloon at the Grand Imperial!
URL:https://laceyblackmusic.com/event/grand-restaurant-and-saloon-2-2-2-2-2-2-2-2-2/
LOCATION:The Grand Restaurant and Saloon\, 1219 Greene Street\, Silverton\, CO\, 81433\, United States
CATEGORIES:Ragtime & Honky-Tonk
END:VEVENT
BEGIN:VEVENT
DTSTART;TZID=UTC:20180702T113000
DTEND;TZID=UTC:20180702T140000
DTSTAMP:20260425T122350
CREATED:20180304T222528Z
LAST-MODIFIED:20180304T222924Z
UID:4365-1530531000-1530540000@laceyblackmusic.com
SUMMARY:Grand Restaurant and Saloon
DESCRIPTION:Join Lacey for lunch in this historic landmark in Silverton\, CO!  Lacey plays the old rinky-tink piano; this is her 18th (!) season in the saloon at the Grand Imperial!
URL:https://laceyblackmusic.com/event/grand-restaurant-and-saloon-2-2-2-2-2-2-2-2/
LOCATION:The Grand Restaurant and Saloon\, 1219 Greene Street\, Silverton\, CO\, 81433\, United States
CATEGORIES:Ragtime & Honky-Tonk
END:VEVENT
BEGIN:VEVENT
DTSTART;TZID=UTC:20180713T113000
DTEND;TZID=UTC:20180713T140000
DTSTAMP:20260425T122350
CREATED:20180304T223032Z
LAST-MODIFIED:20180304T223243Z
UID:4482-1531481400-1531490400@laceyblackmusic.com
SUMMARY:Grand Restaurant and Saloon
DESCRIPTION:Join Lacey for lunch in this historic landmark in Silverton\, CO!  Lacey plays the old rinky-tink piano; this is her 18th (!) season in the saloon at the Grand Imperial!
URL:https://laceyblackmusic.com/event/grand-restaurant-and-saloon-2-2-2-2-2-2-2-2-2/
LOCATION:The Grand Restaurant and Saloon\, 1219 Greene Street\, Silverton\, CO\, 81433\, United States
CATEGORIES:Ragtime & Honky-Tonk
END:VEVENT
BEGIN:VEVENT
DTSTART;TZID=UTC:20180702T113000
DTEND;TZID=UTC:20180702T140000
DTSTAMP:20260425T122350
CREATED:20180304T222528Z
LAST-MODIFIED:20180304T222924Z
UID:4365-1530531000-1530540000@laceyblackmusic.com
SUMMARY:Grand Restaurant and Saloon
DESCRIPTION:Join Lacey for lunch in this historic landmark in Silverton\, CO!  Lacey plays the old rinky-tink piano; this is her 18th (!) season in the saloon at the Grand Imperial!
URL:https://laceyblackmusic.com/event/grand-restaurant-and-saloon-2-2-2-2-2-2-2-2/
LOCATION:The Grand Restaurant and Saloon\, 1219 Greene Street\, Silverton\, CO\, 81433\, United States
CATEGORIES:Ragtime & Honky-Tonk
END:VEVENT
BEGIN:VEVENT
DTSTART;TZID=UTC:20180713T113000
DTEND;TZID=UTC:20180713T140000
DTSTAMP:20260425T122350
CREATED:20180304T223032Z
LAST-MODIFIED:20180304T223243Z
UID:4482-1531481400-1531490400@laceyblackmusic.com
SUMMARY:Grand Restaurant and Saloon
DESCRIPTION:Join Lacey for lunch in this historic landmark in Silverton\, CO!  Lacey plays the old rinky-tink piano; this is her 18th (!) season in the saloon at the Grand Imperial!
URL:https://laceyblackmusic.com/event/grand-restaurant-and-saloon-2-2-2-2-2-2-2-2-2/
LOCATION:The Grand Restaurant and Saloon\, 1219 Greene Street\, Silverton\, CO\, 81433\, United States
CATEGORIES:Ragtime & Honky-Tonk
END:VEVENT
BEGIN:VEVENT
DTSTART;TZID=UTC:20180702T113000
DTEND;TZID=UTC:20180702T140000
DTSTAMP:20260425T122350
CREATED:20180304T222528Z
LAST-MODIFIED:20180304T222924Z
UID:4365-1530531000-1530540000@laceyblackmusic.com
SUMMARY:Grand Restaurant and Saloon
DESCRIPTION:Join Lacey for lunch in this historic landmark in Silverton\, CO!  Lacey plays the old rinky-tink piano; this is her 18th (!) season in the saloon at the Grand Imperial!
URL:https://laceyblackmusic.com/event/grand-restaurant-and-saloon-2-2-2-2-2-2-2-2/
LOCATION:The Grand Restaurant and Saloon\, 1219 Greene Street\, Silverton\, CO\, 81433\, United States
CATEGORIES:Ragtime & Honky-Tonk
END:VEVENT
BEGIN:VEVENT
DTSTART;TZID=UTC:20180713T113000
DTEND;TZID=UTC:20180713T140000
DTSTAMP:20260425T122350
CREATED:20180304T223032Z
LAST-MODIFIED:20180304T223243Z
UID:4482-1531481400-1531490400@laceyblackmusic.com
SUMMARY:Grand Restaurant and Saloon
DESCRIPTION:Join Lacey for lunch in this historic landmark in Silverton\, CO!  Lacey plays the old rinky-tink piano; this is her 18th (!) season in the saloon at the Grand Imperial!
URL:https://laceyblackmusic.com/event/grand-restaurant-and-saloon-2-2-2-2-2-2-2-2-2/
LOCATION:The Grand Restaurant and Saloon\, 1219 Greene Street\, Silverton\, CO\, 81433\, United States
CATEGORIES:Ragtime & Honky-Tonk
END:VEVENT
BEGIN:VEVENT
DTSTART;TZID=UTC:20180702T113000
DTEND;TZID=UTC:20180702T140000
DTSTAMP:20260425T122350
CREATED:20180304T222528Z
LAST-MODIFIED:20180304T222924Z
UID:4365-1530531000-1530540000@laceyblackmusic.com
SUMMARY:Grand Restaurant and Saloon
DESCRIPTION:Join Lacey for lunch in this historic landmark in Silverton\, CO!  Lacey plays the old rinky-tink piano; this is her 18th (!) season in the saloon at the Grand Imperial!
URL:https://laceyblackmusic.com/event/grand-restaurant-and-saloon-2-2-2-2-2-2-2-2/
LOCATION:The Grand Restaurant and Saloon\, 1219 Greene Street\, Silverton\, CO\, 81433\, United States
CATEGORIES:Ragtime & Honky-Tonk
END:VEVENT
BEGIN:VEVENT
DTSTART;TZID=UTC:20180713T113000
DTEND;TZID=UTC:20180713T140000
DTSTAMP:20260425T122350
CREATED:20180304T223032Z
LAST-MODIFIED:20180304T223243Z
UID:4482-1531481400-1531490400@laceyblackmusic.com
SUMMARY:Grand Restaurant and Saloon
DESCRIPTION:Join Lacey for lunch in this historic landmark in Silverton\, CO!  Lacey plays the old rinky-tink piano; this is her 18th (!) season in the saloon at the Grand Imperial!
URL:https://laceyblackmusic.com/event/grand-restaurant-and-saloon-2-2-2-2-2-2-2-2-2/
LOCATION:The Grand Restaurant and Saloon\, 1219 Greene Street\, Silverton\, CO\, 81433\, United States
CATEGORIES:Ragtime & Honky-Tonk
END:VEVENT
BEGIN:VEVENT
DTSTART;TZID=UTC:20180702T113000
DTEND;TZID=UTC:20180702T140000
DTSTAMP:20260425T122350
CREATED:20180304T222528Z
LAST-MODIFIED:20180304T222924Z
UID:4365-1530531000-1530540000@laceyblackmusic.com
SUMMARY:Grand Restaurant and Saloon
DESCRIPTION:Join Lacey for lunch in this historic landmark in Silverton\, CO!  Lacey plays the old rinky-tink piano; this is her 18th (!) season in the saloon at the Grand Imperial!
URL:https://laceyblackmusic.com/event/grand-restaurant-and-saloon-2-2-2-2-2-2-2-2/
LOCATION:The Grand Restaurant and Saloon\, 1219 Greene Street\, Silverton\, CO\, 81433\, United States
CATEGORIES:Ragtime & Honky-Tonk
END:VEVENT
BEGIN:VEVENT
DTSTART;TZID=UTC:20180713T113000
DTEND;TZID=UTC:20180713T140000
DTSTAMP:20260425T122350
CREATED:20180304T223032Z
LAST-MODIFIED:20180304T223243Z
UID:4482-1531481400-1531490400@laceyblackmusic.com
SUMMARY:Grand Restaurant and Saloon
DESCRIPTION:Join Lacey for lunch in this historic landmark in Silverton\, CO!  Lacey plays the old rinky-tink piano; this is her 18th (!) season in the saloon at the Grand Imperial!
URL:https://laceyblackmusic.com/event/grand-restaurant-and-saloon-2-2-2-2-2-2-2-2-2/
LOCATION:The Grand Restaurant and Saloon\, 1219 Greene Street\, Silverton\, CO\, 81433\, United States
CATEGORIES:Ragtime & Honky-Tonk
END:VEVENT
BEGIN:VEVENT
DTSTART;TZID=UTC:20180702T113000
DTEND;TZID=UTC:20180702T140000
DTSTAMP:20260425T122350
CREATED:20180304T222528Z
LAST-MODIFIED:20180304T222924Z
UID:4365-1530531000-1530540000@laceyblackmusic.com
SUMMARY:Grand Restaurant and Saloon
DESCRIPTION:Join Lacey for lunch in this historic landmark in Silverton\, CO!  Lacey plays the old rinky-tink piano; this is her 18th (!) season in the saloon at the Grand Imperial!
URL:https://laceyblackmusic.com/event/grand-restaurant-and-saloon-2-2-2-2-2-2-2-2/
LOCATION:The Grand Restaurant and Saloon\, 1219 Greene Street\, Silverton\, CO\, 81433\, United States
CATEGORIES:Ragtime & Honky-Tonk
END:VEVENT
BEGIN:VEVENT
DTSTART;TZID=UTC:20180713T113000
DTEND;TZID=UTC:20180713T140000
DTSTAMP:20260425T122350
CREATED:20180304T223032Z
LAST-MODIFIED:20180304T223243Z
UID:4482-1531481400-1531490400@laceyblackmusic.com
SUMMARY:Grand Restaurant and Saloon
DESCRIPTION:Join Lacey for lunch in this historic landmark in Silverton\, CO!  Lacey plays the old rinky-tink piano; this is her 18th (!) season in the saloon at the Grand Imperial!
URL:https://laceyblackmusic.com/event/grand-restaurant-and-saloon-2-2-2-2-2-2-2-2-2/
LOCATION:The Grand Restaurant and Saloon\, 1219 Greene Street\, Silverton\, CO\, 81433\, United States
CATEGORIES:Ragtime & Honky-Tonk
END:VEVENT
END:VCALENDAR